{"text_format":"1","workbook":"xlsx","n_sheets":8,"sheets":["60","input","工作表1","Name","工作表3","工作表2","Sheet1","64"],"not_rendered":{"charts":0,"images":16,"macros":1,"external_links":0,"defined_names":3,"comments":0,"pivot_tables":0},"unopened":[],"bounds":{"document_bytes":16777216,"sheet_cells":100000,"rows_first":2000,"rows_last":500,"rows_between":2000,"halvings":0,"cell_chars":16384,"cell_head_chars":4096},"cells_cut":0,"cells_raw":0,"read":"whole","date_system":"1900"}

{"sheet":"60","index":0,"n_rows":103,"n_cols":23,"rows_kept":103,"cut":false,"hidden":true,"merged":[]}
["1984-10-17","甲子","甲戌","甲申",{"$f":"VLOOKUP(D1,D2:E61,2,0)","v":21},"2014-10-10",null,null,"向",null,null,null,null,null,null,null,23,"子",1,null,"正","初一",1]
["甲","子",{"$f":"E2","v":1},{"$f":"A2&B2","v":"甲子"},1,"金",{"$f":"LEFT(B16,1)","v":"癸"},null,"壬","陽",null,null,null,null,null,null,1,"丑",2,null,"二","初二",2]
["乙","丑",2,"乙丑",2,"金",{"$f":"RIGHT(B16,1)","v":"丑"},null,"子","陽","桃花水",null,null,"乾",null,null,3,"寅",3,null,"三","初三",3]
["丙","寅",3,"丙寅",3,"火",null,null,"癸","陽",null,null,null,"兌",null,null,5,"卯",4,null,"四","初四",4]
["丁","卯",4,"丁卯",4,"火",null,null,"丑","陰",null,null,null,"離",null,null,7,"辰",5,null,"五","初五",5]
["戊","辰",5,"戊辰",5,"木",null,null,"艮","陰",null,null,null,"震",null,null,9,"巳",6,null,"六","初六",6]
["己","巳",6,"己巳",6,"木",null,null,"寅","陽",null,null,null,"巽",null,null,11,"午",7,null,"七","初七",7]
["庚","午",7,"庚午",7,"土",null,null,"甲","陽",null,null,null,"坎",null,null,13,"未",8,null,"八","初八",8]
["辛","未",8,"辛未",8,"土",null,null,"卯","陰","桃花水",null,null,"艮",null,null,15,"申",9,null,"九","初九",9]
["壬","申",9,"壬申",9,"金",null,null,"乙","陽",null,null,null,"坤",null,null,17,"酉",10,null,"十","初十",10]
["癸","酉",10,"癸酉",10,"金",null,null,"辰","陽",null,null,null,null,null,null,19,"戌",11,null,"十一","十一",11]
[null,"戌",11,{"$f":"A2&B12","v":"甲戌"},11,"火",null,null,"巽","陰",null,null,null,null,null,null,21,"亥",12,null,"十二","十二",12]
[null,"亥",12,{"$f":"A3&B13","v":"乙亥"},12,"火",null,null,"已","陰",null,null,null,null,null,null,0,"子",null,null,null,"十三",13]
[null,null,13,{"$f":"A4&B2","v":"丙子"},13,"水",null,null,"丙","陰",null,null,null,null,null,null,2,"丑",null,null,null,"十四",14]
[{"$f":"F1-A1","v":10950},null,14,"丁丑",14,"水",null,null,"午","陽","桃花水",null,null,null,null,null,4,"寅",null,null,null,"十五",15]
[{"$f":"INT(((A15+E1)/60-INT((A15+E1)/60))*60)","v":50},{"$f":"VLOOKUP(A16,C2:D61,2,0)","v":"癸丑"},15,"戊寅",15,"土",null,null,"丁","陰",null,null,null,null,null,null,6,"卯",null,null,null,"十六",16]
[null,null,16,"己卯",16,"土",null,null,"未","陰",null,null,null,null,null,null,8,"辰",null,null,null,"十七",17]
[null,null,17,"庚辰",17,"金",null,null,"坤","陽",null,null,null,null,null,null,10,"巳",null,null,null,"十八",18]
[null,null,18,"辛巳",18,"金",null,null,"申","陽",null,null,null,null,null,null,12,"午",null,null,null,"十九",19]
[null,null,19,"壬午",19,"木",null,null,"庚","陰",null,null,null,null,null,null,14,"未",null,null,null,"二十",20]
[null,null,20,"癸未",20,"木",null,null,"酉","陰","桃花水",null,null,null,null,null,16,"申",null,null,null,"廿一",21]
[null,null,21,{"$f":"A2&B10","v":"甲申"},21,"水",null,null,"辛","陰",null,null,null,null,null,null,18,"酉",null,null,null,"廿二",22]
[null,null,22,{"$f":"A3&B11","v":"乙酉"},22,"水",null,null,"戌","陽",null,null,null,null,null,null,20,"戌",null,null,null,"廿三",23]
[null,null,23,{"$f":"A4&B12","v":"丙戌"},23,"土",null,null,"乾","陽",null,null,null,null,null,null,22,"亥",null,null,null,"廿四",24]
[null,null,24,{"$f":"A5&B13","v":"丁亥"},24,"土",null,null,"亥","陰",null,null,null,null,null,null,null,null,null,null,null,"廿五",25]
[null,null,25,{"$f":"A6&B2","v":"戊子"},25,"火",null,null,null,null,null,null,null,null,null,null,null,null,null,null,null,"廿六",26]
[null,null,26,"己丑",26,"火",null,null,null,null,null,null,null,null,null,null,null,null,null,null,null,"廿七",27]
[null,null,27,"庚寅",27,"木",null,null,null,null,null,null,null,null,null,null,null,null,null,null,null,"廿八",28]
[null,null,28,"辛卯",28,"木",null,null,null,null,null,null,null,null,null,null,null,null,null,null,null,"廿九",29]
[null,null,29,"壬辰",29,"水",null,{"$f":"N3","v":"乾"},1,7,null,null,null,null,null,null,null,null,null,null,null,"三十",30]
[null,null,30,"癸巳",30,"水",null,"兌",2,1]
[null,null,31,{"$f":"A2&B8","v":"甲午"},31,"金",null,"離",3,8]
[null,null,32,"乙未",32,"金",null,"震",4,2]
[null,null,{"$f":"E34","v":33},"丙申",33,"火",null,"巽",5]
[null,null,34,"丁酉",34,"火",null,"坎",6,9]
[null,null,35,"戊戌",35,"木",null,"艮",7,4,null,null,null,null,null,null,null,null,null," "]
[null,null,36,"己亥",36,"木",null,"坤",8,6]
[null,null,37,{"$f":"A8&B2","v":"庚子"},37,"土",null,null,9,3]
[null,null,38,{"$f":"A9&B3","v":"辛丑"},38,"土"]
[null,null,39,{"$f":"A10&B4","v":"壬寅"},39,"金",null,null,null,null,null,1,6,"乾",null,{"$f":"M$40&M40","v":"66"},"乾乾","乾為天",1]
[null,null,40,{"$f":"A11&B5","v":"癸卯"},40,"金",null,null,null,null,null,2,7,"兌",null,"67","乾兌","天澤履",10]
[null,null,41,{"$f":"A2&B6","v":"甲辰"},41,"火",null,null,null,null,null,3,9,"離",null,"69","乾離","天火同人",13]
[null,null,42,"乙巳",42,"火",null,null,null,null,null,4,3,"震",null,"63","乾震","天雷無妄",25]
[null,null,43,"丙午",43,"水",null,null,null,null,null,5,4,"巽",null,"64","乾巽","天風姤",44]
[null,null,44,"丁未",44,"水",null,null,null,null,null,6,1,"坎",null,"61","乾坎","天水訟",6]
[null,null,45,"戊申",45,"土",null,null,null,null,null,7,8,"艮",null,"68","乾艮","天山遯",33]
[null,null,46,"己酉",46,"土",null,null,null,null,null,8,2,"坤",null,"62","乾坤","天地否",12]
[null,null,47,"庚戌",47,"金",null,null,null,null,null,null,null,null,null,{"$f":"M$41&M40","v":"76"},"兌乾","潭天央",43]
[null,null,48,"辛亥",48,"金",null,null,null,null,null,null,null,null,null,"77","兌兌","兌為澤",58]
[null,null,49,{"$f":"A10&B2","v":"壬子"},49,"木",null,null,null,null,null,null,null,null,null,"79","兌離","澤火革",49]
[null,null,50,{"$f":"A11&B3","v":"癸丑"},50,"木",null,null,null,null,null,null,null,null,null,"73","兌震","澤雷隨",17]
[null,null,51,{"$f":"A2&B4","v":"甲寅"},51,"水",null,null,null,null,null,null,null,null,null,"74","兌巽","澤風大過",28]
[null,null,52,"乙卯",52,"水",null,null,null,null,null,null,null,null,null,"71","兌坎","澤水困",47]
[null,null,53,"丙辰",53,"土",null,null,null,null,null,null,null,null,null,"78","兌艮","澤山咸",31]
[null,null,54,"丁巳",54,"土",null,null,null,null,null,null,null,null,null,"72","兌坤","澤地萃",45]
[null,null,55,"戊午",55,"火",null,null,null,null,null,null,null,null,null,{"$f":"M$42&M40","v":"96"},"離乾","火天大有",14]
[null,null,56,"己未",56,"火",null,null,null,null,null,null,null,null,null,"97","離兌","火澤睽",38]
[null,null,57,"庚申",57,"木",null,null,null,null,null,null,null,null,null,"99","離離","離為火",30]
[null,null,58,"辛酉",58,"木",null,null,null,null,null,null,null,null,null,"93","離震","火雷噬嗑",21]
[null,null,59,"壬戌",59,"水",null,null,null,null,null,null,null,null,null,"94","離巽","火風鼎",50]
[null,null,60,"癸亥",60,"水",null,null,null,null,null,null,null,null,null,"91","離坎","火水未濟",64]
[null,null,null,null,null,null,null,null,null,null,null,null,null,null,null,"98","離艮","火山小過",56]
[null,null,null,null,null,null,null,null,null,null,null,null,null,null,null,"92","離坤","火地晉",35]
[null,null,null,null,null,null,null,null,null,null,null,null,null,null,null,{"$f":"M$43&M40","v":"36"},"震乾","雷天大壯",34]
[null,null,null,null,null,null,null,null,null,null,null,null,null,null,null,"37","震兌","雷澤歸妹",54]
[null,null,null,null,null,null,null,null,null,null,null,null,null,null,null,"39","震離","雷火豐",55]
[null,null,null,null,null,null,null,null,null,null,null,null,null,null,null,"33","震震","震為雷",51]
[null,null,null,null,null,null,null,null,null,null,null,null,null,null,null,"34","震巽","雷風恆",32]
[null,null,null,null,null,null,null,null,null,null,null,null,null,null,null,"31","震坎","雷水解",40]
[null,null,null,null,null,null,null,null,null,null,null,null,null,null,null,"38","震艮","雷山小過",62]
[null,null,null,null,null,null,null,null,null,null,null,null,null,null,null,"32","震坤","雷地豫",16]
[null,null,null,null,null,null,null,null,null,null,null,null,null,null,null,{"$f":"M$44&M40","v":"46"},"巽乾","風天小畜",9]
[null,null,null,null,null,null,null,null,null,null,null,null,null,null,null,"47","巽兌","風澤中孚",61]
[null,null,null,null,null,null,null,null,null,null,null,null,null,null,null,"49","巽離","風火家人",37]
[null,null,null,null,null,null,null,null,null,null,null,null,null,null,null,"43","巽震","風雷益",42]
[null,null,null,null,null,null,null,null,null,null,null,null,null,null,null,"44","巽巽","巽為風",57]
[null,null,null,null,null,null,null,null,null,null,null,null,null,null,null,"41","巽坎","風水渙",59]
[null,null,null,null,null,null,null,null,null,null,null,null,null,null,null,"48","巽艮","風山漸",53]
[null,null,null,null,null,null,null,null,null,null,null,null,null,null,null,"42","巽坤","風地觀",20]
[null,null,null,null,null,null,null,null,null,null,null,null,null,null,null,{"$f":"M$45&M40","v":"16"},"坎乾","水天需",5]
[null,null,null,null,null,null,null,null,null,null,null,null,null,null,null,"17","坎兌","水澤節",60]
[null,null,null,null,null,null,null,null,null,null,null,null,null,null,null,"19","坎離","水火既濟",63]
[null,null,null,null,null,null,null,null,null,null,null,null,null,null,null,"13","坎震","水雷屯",3]
[null,null,null,null,null,null,null,null,null,null,null,null,null,null,null,"14","坎巽","水風井",48]
[null,null,null,null,null,null,null,null,null,null,null,null,null,null,null,"11","坎坎","坎為水",29]
[null,null,null,null,null,null,null,null,null,null,null,null,null,null,null,"18","坎艮","水山蹇",39]
[null,null,null,null,null,null,null,null,null,null,null,null,null,null,null,"12","坎坤","水地比",8]
[null,null,null,null,null,null,null,null,null,null,null,null,null,null,null,{"$f":"M$46&M40","v":"86"},"艮乾","山天大畜",26]
[null,null,null,null,null,null,null,null,null,null,null,null,null,null,null,"87","艮兌","山澤損",41]
[null,null,null,null,null,null,null,null,null,null,null,null,null,null,null,"89","艮離","山火賁",22]
[null,null,null,null,null,null,null,null,null,null,null,null,null,null,null,"83","艮震","山雷頤",27]
[null,null,null,null,null,null,null,null,null,null,null,null,null,null,null,"84","艮巽","山風蠱",18]
[null,null,null,null,null,null,null,null,null,null,null,null,null,null,null,"81","艮坎","山水蒙",4]
[null,null,null,null,null,null,null,null,null,null,null,null,null,null,null,"88","艮艮","艮為山",52]
[null,null,null,null,null,null,null,null,null,null,null,null,null,null,null,"82","艮坤","山地剥",23]
[null,null,null,null,null,null,null,null,null,null,null,null,null,null,null,{"$f":"M$47&M40","v":"26"},"坤乾","地天泰",11]
[null,null,null,null,null,null,null,null,null,null,null,null,null,null,null,"27","坤兌","地澤臨",19]
[null,null,null,null,null,null,null,null,null,null,null,null,null,null,null,"29","坤離","地火明",36]
[null,null,null,null,null,null,null,null,null,null,null,null,null,null,null,"23","坤震","地雷復",24]
[null,null,null,null,null,null,null,null,null,null,null,null,null,null,null,"24","坤巽","地風升",46]
[null,null,null,null,null,null,null,null,null,null,null,null,null,null,null,"21","坤坎","地水師",7]
[null,null,null,null,null,null,null,null,null,null,null,null,null,null,null,"28","坤艮","地山謙",15]
[null,null,null,null,null,null,null,null,null,null,null,null,null,null,null,"22","坤坤","坤為地",2]

{"sheet":"input","index":1,"n_rows":88,"n_cols":90,"rows_kept":88,"cut":false,"hidden":false,"merged":[[0,11,0,13],[20,57,21,57],[2,11,2,12],[0,21,0,25],[2,21,2,25],[4,21,4,25],[8,28,9,53],[13,22,14,53],[15,22,16,53],[17,22,18,53],[19,22,21,53],[11,22,12,53],[0,27,2,27]]}
[{"$f":"IF(E1=5,\"5-1\",\"\")","v":""},1,"壬",{"$f":"VLOOKUP(B1+12,B$1:C$48,2,0)","v":"丙"},{"$f":"工作表2!D13","v":4},{"$f":"B1","v":1},{"$f":"IF(M$10=\"o\",IF(G25<1,9+G25,G25),IF(G25>9,G25-9,G25))","v":{"$error":"#N/A"}},{"$f":"IF(O$10=\"o\",IF(H25<1,9+H25,H25),IF(H25>9,H25-9,H25))","v":{"$error":"#N/A"}},"坐",null,{"$f":"VLOOKUP(J1,C1:F24,4,0)","v":{"$error":"#N/A"}},{"$f":"IF(AND(M14=N11,N11=O14),G54,IF(AND(M6=N11,N11=O6),G53,IF(AND(M14=N11,O6=N11),G52,IF(AND(O14=N11,M6=N11),G57))))","v":{"$error":"#N/A"}},null,null,{"$f":"MID(V5,2,1)","v":{"$error":"#N/A"}},{"$f":"VLOOKUP(INT(LEFT(V3*24,2)),'60'!Q1:R24,2,0)","v":{"$error":"#N/A"}},null,null,null,null,"輸入日期",{"$f":"TODAY()+W2","v":"2014-08-15"},null,null,null,null,null,{"$f":"工作表1!C1","v":"羅睺日"},{"$f":"O1&\"年\"&VLOOKUP(O1&\"年\",工作表1!B2:C13,2,0)&\"日之 \"&VLOOKUP(O1&\"年\",工作表1!B2:D13,3,0)","v":{"$error":"#N/A"}}]
[{"$f":"IF(E2=5,\"5-2\",\"\")","v":""},2,"子","午",{"$f":"E1","v":4},2,{"$f":"G1","v":{"$error":"#N/A"}},{"$f":"H1","v":{"$error":"#N/A"}},"向",{"$f":"VLOOKUP(J1,C1:D24,2,0)","v":{"$error":"#N/A"}},{"$f":"VLOOKUP(J2,C1:F24,4,0)","v":{"$error":"#N/A"}},{"$f":"IF(AND(J52=10,K52=10,L52=10,J54=10,K54=10,L54=10,J57=10,K57=10,L57=10),G55,IF(AND(J53=10,K53=10,L53=10,J56=10,K56=10,L56=10,J58=10,K58=10,L58=10),G56,\"\"))","v":{"$error":"#N/A"}},null,null,{"$f":"VLOOKUP(IF(LEN(V5)=13,MID(V5,7,2),MID(V5,7,1)),'60'!U1:W13,3,0)","v":{"$error":"#N/A"}},{"$f":"VLOOKUP(O1,'60'!R1:S12,2,0)+O2+O3","v":{"$error":"#N/A"}},null,null,null,{"$f":"MONTH(V1)","v":8},null,null,0,null,null,null,null,null,{"$f":"VLOOKUP(T2,工作表1!A14:B25,2,0)&\" \"&VLOOKUP(T2,工作表1!A14:C25,3,0)&\"日之\"&VLOOKUP(T2,工作表1!A14:D25,4,0)","v":"秋季 庚申日之戌、丑時"}]
[{"$f":"IF(E3=5,\"5-3\",\"\")","v":""},3,"癸","丁",{"$f":"E2","v":4},3,{"$f":"G2","v":{"$error":"#N/A"}},{"$f":"H2","v":{"$error":"#N/A"}},"廿年限",{"$f":"E52","v":8},null,2014,null,null,{"$f":"VLOOKUP(IF(LEN(V5)=13,MID(V5,10,2),MID(V5,9,2)),'60'!V1:W30,2,0)","v":{"$error":"#N/A"}},{"$f":"P2+VLOOKUP(P1,'60'!R1:S12,2,0)","v":{"$error":"#N/A"}},null,null,null,null,"輸入時間",{"$f":"NOW()-TODAY()+W4/24","v":1.1415655092569068},null,null,null,null,null,null,{"$f":"O2&\"月 之\"&VLOOKUP(O2,工作表1!B26:C37,2,0)&\"之\"&VLOOKUP(O2,工作表1!B26:D37,3,0)","v":{"$error":"#N/A"}},null,null,null,null,null,null,null,null,null,null,null,null,null,null,null,null,null,null,null,null,null,null,null,null,null,null,null,null,null,null,null,null,null,null,null,null,null,null,null,null,null,null,null,null,null,null,null,"申",null,"庚",null,"酉",null,null,"辛"]
[{"$f":"IF(E4=5,\"5-1\",\"\")","v":""},4,"丑","未",{"$f":"工作表2!B13","v":2},4,{"$f":"IF(M$10=\"o\",IF(G28<1,9+G28,G28),IF(G28>9,G28-9,G28))","v":{"$error":"#N/A"}},{"$f":"IF(O$10=\"o\",IF(H28<1,9+H28,H28),IF(H28>9,H28-9,H28))","v":{"$error":"#N/A"}},{"$f":"VLOOKUP(J1,C25:E48,3,0)","v":{"$error":"#N/A"}},null,null,null,null,{"$f":"I2","v":"向"},null,null,null,null,null,null,null,null,9,null,null,null,null,null,null,null,null,null,null,null,null,null,null,null,null,null,null,null,null,null,null,null,null,null,null,null,null,null,null,null,null,null,null,null,null,null,null,null,null,null,null,null,null,null,null,null,null,null,null,null,null,null,null,null,null,null,null,null,null,null,null,"戌"]
[{"$f":"IF(E5=5,\"5-2\",\"\")","v":""},5,"艮","坤",{"$f":"E4","v":2},5,{"$f":"G4","v":{"$error":"#N/A"}},{"$f":"H4","v":{"$error":"#N/A"}},{"$f":"VLOOKUP(K1+9,B1:C48,2,0)","v":{"$error":"#N/A"}},{"$f":"VLOOKUP(K1+10,B1:C48,2,0)","v":{"$error":"#N/A"}},null,null,{"$f":"VLOOKUP(K1+11,B1:C48,2,0)","v":{"$error":"#N/A"}},{"$f":"J2","v":{"$error":"#N/A"}},{"$f":"VLOOKUP(K1+13,B1:C48,2,0)","v":{"$error":"#N/A"}},null,null,{"$f":"VLOOKUP(K1+14,B1:C48,2,0)","v":{"$error":"#N/A"}},{"$f":"VLOOKUP(K1+15,B1:C48,2,0)","v":{"$error":"#N/A"}},null,"農曆",{"$f":"nongli(V1)&P1&\"時\"","v":{"$error":"#N/A"}},null,null,null,null,{"$f":"HLOOKUP(V6,'64'!A1:CC2,2,0)","v":{"$error":"#N/A"}},null,null,null,null,null,null,null,null,null,null,null,null,null,null,null,null,null,null,null,null,null,null,null,null,null,null,null,null,null,null,null,null,null,null,null,null,null,null,null,null,null,null,null,null,null,null,null,"坤",null,null,null,null,null,null,null,null,null,null,null,null,"乾"]
[{"$f":"IF(E6=5,\"5-3\",\"\")","v":""},6,"寅","申",{"$f":"E5","v":2},6,{"$f":"G5","v":{"$error":"#N/A"}},{"$f":"H5","v":{"$error":"#N/A"}},{"$f":"VLOOKUP(K1+8,B1:C48,2,0)","v":{"$error":"#N/A"}},{"$f":"VLOOKUP(I5,$C$1:$G$24,5,0)","v":{"$error":"#N/A"}},{"$f":"+VLOOKUP(L7,$A$52:$F$60,6,0)","v":{"$error":"#N/A"}},{"$f":"VLOOKUP(I5,$C$1:$H$24,6,0)","v":{"$error":"#N/A"}},{"$f":"VLOOKUP(N5,$C$1:$G$24,5,0)","v":{"$error":"#N/A"}},{"$f":"+VLOOKUP(O7,$A$52:$F$60,6,0)","v":{"$error":"#N/A"}},{"$f":"VLOOKUP(N5,$C$1:$H$24,6,0)","v":{"$error":"#N/A"}},{"$f":"VLOOKUP(S5,$C$1:$G$24,5,0)","v":{"$error":"#N/A"}},{"$f":"+VLOOKUP(R7,$A$52:$F$60,6,0)","v":{"$error":"#N/A"}},{"$f":"VLOOKUP(S5,$C$1:$H$24,6,0)","v":{"$error":"#N/A"}},{"$f":"VLOOKUP(K1+16,B1:C48,2,0)","v":{"$error":"#N/A"}},null,null,{"$f":"VLOOKUP(V7&V9,'60'!Q40:S103,3,0)","v":{"$error":"#N/A"}},{"$f":"VLOOKUP(V7&V9,'60'!Q40:R103,2,0)","v":{"$error":"#N/A"}},null,null,null,"諸事：",null,{"$f":"HLOOKUP(V6,'64'!A1:CC3,3,0)","v":{"$error":"#N/A"}}]
[{"$f":"IF(E7=5,\"5-1\",\"\")","v":""},7,"甲","庚",{"$f":"工作表2!B11","v":6},7,{"$f":"IF(M$10=\"o\",IF(G31<1,9+G31,G31),IF(G31>9,G31-9,G31))","v":{"$error":"#N/A"}},{"$f":"IF(O$10=\"o\",IF(H31<1,9+H31,H31),IF(H31>9,H31-9,H31))","v":{"$error":"#N/A"}},null,{"$f":"+VLOOKUP(L7,$A$52:$B$60,2,0)","v":{"$error":"#N/A"}},{"$f":"VLOOKUP(I5,C1:E24,3,0)","v":{"$error":"#N/A"}},{"$f":"INT(VLOOKUP(I5,$C$25:$F$48,4,0))","v":{"$error":"#N/A"}},{"$f":"+VLOOKUP(O7,$A$52:$B$60,2,0)","v":{"$error":"#N/A"}},{"$f":"VLOOKUP(N5,C1:E24,3,0)","v":{"$error":"#N/A"}},{"$f":"ROUND(VLOOKUP(N5,$C$25:$F$48,4,0),0)","v":{"$error":"#N/A"}},{"$f":"+VLOOKUP(R7,$A$52:$B$60,2,0)","v":{"$error":"#N/A"}},{"$f":"VLOOKUP(S5,C1:E24,3,0)","v":{"$error":"#N/A"}},{"$f":"INT(VLOOKUP(S5,$C$25:$F$48,4,0))","v":{"$error":"#N/A"}},null,{"$f":"VLOOKUP(J3,'60'!I30:J38,2,0)","v":6},null,{"$f":"VLOOKUP(IF((P2/8-INT(P2/8))*8=0,8,(P2/8-INT(P2/8))*8),'60'!L40:N47,3,0)","v":{"$error":"#N/A"}},null,null,null,null,"愛情：",null,{"$f":"HLOOKUP(V6,'64'!A1:CC4,4,0)","v":{"$error":"#N/A"}},null,null,null,null,null,null,null,null,null,null,null,null,null,null,null,null,null,null,null,null,null,null,null,null,null,null,null,null,null,null,null,null,null,null,null,null,null,null,null,null,null,null,null,null,"未",null,null,null,null,null,null,null,null,null,null,null,null,null,null,"亥"]
[{"$f":"IF(E8=5,\"5-2\",\"\")","v":""},8,"卯","酉",{"$f":"E7","v":6},8,{"$f":"G7","v":{"$error":"#N/A"}},{"$f":"H7","v":{"$error":"#N/A"}},null,{"$f":"IF(J6=5,$T$7,VLOOKUP(J6,'60'!$I$30:$J$38,2,0))","v":{"$error":"#N/A"}},{"$f":"VLOOKUP(IF(AND($N$11=5,L6=5),$N$15,IF(AND($N$11<>5,L6=5),J3,L6))&IF(AND($N$11=5,J6=5),$N$15,IF(AND($N$11<>5,J6=5),J3,J6)),'60'!$P$40:$R$103,3,0)","v":{"$error":"#N/A"}},{"$f":"IF(L6=5,$T$7,VLOOKUP(L6,'60'!$I$30:$J$38,2,0))","v":{"$error":"#N/A"}},{"$f":"IF(M6=5,$T$7,VLOOKUP(M6,'60'!$I$30:$J$38,2,0))","v":{"$error":"#N/A"}},{"$f":"VLOOKUP(IF(AND($N$11=5,O6=5),$N$15,IF(AND($N$11<>5,O6=5),J3,O6))&IF(AND($N$11=5,M6=5),$N$15,IF(AND($N$11<>5,M6=5),J3,M6)),'60'!$P$40:$R$103,3,0)","v":{"$error":"#N/A"}},{"$f":"IF(O6=5,$T$7,VLOOKUP(O6,'60'!$I$30:$J$38,2,0))","v":{"$error":"#N/A"}},{"$f":"IF(P6=5,$T$7,VLOOKUP(P6,'60'!$I$30:$J$38,2,0))","v":{"$error":"#N/A"}},{"$f":"VLOOKUP(IF(AND($N$11=5,R6=5),$N$15,IF(AND($N$11<>5,R6=5),J3,R6))&IF(AND($N$11=5,P6=5),$N$15,IF(AND($N$11<>5,P6=5),J3,P6)),'60'!$P$40:$R$103,3,0)","v":{"$error":"#N/A"}},{"$f":"IF(R6=5,$T$7,VLOOKUP(R6,'60'!$I$30:$J$38,2,0))","v":{"$error":"#N/A"}},null,null,null,null,null,null,null,null,"事業：",null,{"$f":"HLOOKUP(V6,'64'!A1:CC5,5,0)","v":{"$error":"#N/A"}}]
[{"$f":"IF(E9=5,\"5-3\",\"\")","v":""},9,"乙","辛",{"$f":"E8","v":6},9,{"$f":"G8","v":{"$error":"#N/A"}},{"$f":"H8","v":{"$error":"#N/A"}},null,{"$f":"VLOOKUP(VLOOKUP(I5,C25:J48,8,0),input!A52:H60,8,0)","v":{"$error":"#N/A"}},{"$f":"VLOOKUP($N$13&J9,$C$64:$D$89,2,0)","v":{"$error":"#N/A"}},{"$f":"VLOOKUP(I5,$C$25:$J$48,8,0)","v":{"$error":"#N/A"}},{"$f":"VLOOKUP(VLOOKUP(N5,C25:J48,8,0),input!A52:H60,8,0)","v":{"$error":"#N/A"}},"關煞",{"$f":"VLOOKUP(N5,$C$25:$J$48,8,0)","v":{"$error":"#N/A"}},{"$f":"VLOOKUP(VLOOKUP(S5,C25:J48,8,0),input!A52:H60,8,0)","v":{"$error":"#N/A"}},{"$f":"VLOOKUP($N$13&P9,$C$64:$D$89,2,0)","v":{"$error":"#N/A"}},{"$f":"VLOOKUP(S5,$C$25:$J$48,8,0)","v":{"$error":"#N/A"}},null,null,null,{"$f":"VLOOKUP(IF((P3/8-INT(P3/8))*8=0,8,(P3/8-INT(P3/8))*8),'60'!L40:N47,3,0)","v":{"$error":"#N/A"}},null,null,null,null,"建議：",null,{"$f":"HLOOKUP(V6,'64'!A1:CC6,6,0)","v":{"$error":"#N/A"}},null,null,null,null,null,null,null,null,null,null,null,null,null,null,null,null,null,null,null,null,null,null,null,null,null,null,null,null,null,null,null,null,null,null,null,null,null,null,null,null,null,null,null,null,"丁",null,null,null,null,null,null,null,null,null,null,null,null,null,null,null,"壬"]
[{"$f":"IF(E10=5,\"5-1\",\"\")","v":""},10,"辰","戌",{"$f":"工作表2!B9","v":7},10,{"$f":"IF(M$10=\"o\",IF(G34<1,9+G34,G34),IF(G34>9,G34-9,G34))","v":{"$error":"#N/A"}},{"$f":"IF(O$10=\"o\",IF(H34<1,9+H34,H34),IF(H34>9,H34-9,H34))","v":{"$error":"#N/A"}},{"$f":"VLOOKUP(K1+7,B1:C48,2,0)","v":{"$error":"#N/A"}},{"$f":"VLOOKUP(I11,$C$1:$G$24,5,0)","v":{"$error":"#N/A"}},{"$f":"+VLOOKUP(L11,$A$52:$F$60,6,0)","v":{"$error":"#N/A"}},{"$f":"VLOOKUP(I11,$C$1:$H$24,6,0)","v":{"$error":"#N/A"}},{"$f":"VLOOKUP(M11&\"-\"&I4,A25:D52,4,0)","v":{"$error":"#N/A"}},{"$f":"+VLOOKUP(O13,$A$52:$F$60,6,0)","v":"文昌"},{"$f":"VLOOKUP(O11&\"-\"&I4,A25:D52,4,0)","v":{"$error":"#N/A"}},{"$f":"VLOOKUP(S11,$C$1:$G$24,5,0)","v":{"$error":"#N/A"}},{"$f":"+VLOOKUP(R11,$A$52:$F$60,6,0)","v":{"$error":"#N/A"}},{"$f":"VLOOKUP(S11,$C$1:$H$24,6,0)","v":{"$error":"#N/A"}},{"$f":"VLOOKUP(K1+17,B1:C48,2,0)","v":{"$error":"#N/A"}}]
[{"$f":"IF(E11=5,\"5-2\",\"\")","v":""},11,"巽","乾",{"$f":"E10","v":7},11,{"$f":"G10","v":{"$error":"#N/A"}},{"$f":"H10","v":{"$error":"#N/A"}},{"$f":"VLOOKUP(K1+6,B1:C48,2,0)","v":{"$error":"#N/A"}},{"$f":"+VLOOKUP(L11,$A$52:$B$60,2,0)","v":{"$error":"#N/A"}},{"$f":"VLOOKUP(I11,C1:E24,3,0)","v":{"$error":"#N/A"}},{"$f":"INT(VLOOKUP(I11,$C$25:$F$48,4,0))","v":{"$error":"#N/A"}},{"$f":"VLOOKUP(J1,C1:E24,3,0)","v":{"$error":"#N/A"}},{"$f":"+J3","v":8},{"$f":"VLOOKUP(J2,C1:E24,3,0)","v":{"$error":"#N/A"}},{"$f":"+VLOOKUP(R11,$A$52:$B$60,2,0)","v":{"$error":"#N/A"}},{"$f":"VLOOKUP(S11,C1:E24,3,0)","v":{"$error":"#N/A"}},{"$f":"INT(VLOOKUP(S11,$C$25:$F$48,4,0))","v":{"$error":"#N/A"}},{"$f":"VLOOKUP(K1+18,B1:C48,2,0)","v":{"$error":"#N/A"}},null,null,null,{"$f":"HLOOKUP(V6,'64'!A1:CC7,7,0)","v":{"$error":"#N/A"}}]
[{"$f":"IF(E12=5,\"5-3\",\"\")","v":""},12,"已","亥",{"$f":"E11","v":7},12,{"$f":"G11","v":{"$error":"#N/A"}},{"$f":"H11","v":{"$error":"#N/A"}},null,{"$f":"IF(J10=5,$T$7,VLOOKUP(J10,'60'!$I$30:$J$38,2,0))","v":{"$error":"#N/A"}},{"$f":"VLOOKUP(IF(AND($N$11=5,L10=5),$N$15,IF(AND($N$11<>5,L10=5),J3,L10))&IF(AND($N$11=5,J10=5),$N$15,IF(AND($N$11<>5,J10=5),J3,J10)),'60'!$P$40:$R$103,3,0)","v":{"$error":"#N/A"}},{"$f":"IF(L10=5,$T$7,VLOOKUP(L10,'60'!$I$30:$J$38,2,0))","v":{"$error":"#N/A"}},{"$f":"IF(M11=5,$T$7,VLOOKUP(M11,'60'!$I$30:$J$38,2,0))","v":{"$error":"#N/A"}},{"$f":"VLOOKUP(IF(AND($N$11=5,O11=5),$N$15,IF(AND($N$11<>5,O11=5),J3,O11))&IF(AND($N$11=5,M11=5),$N$15,IF(AND($N$11<>5,M11=5),J3,M11)),'60'!$P$40:$R$103,3,0)","v":{"$error":"#N/A"}},{"$f":"IF(O11=5,$T$7,VLOOKUP(O11,'60'!$I$30:$J$38,2,0))","v":{"$error":"#N/A"}},{"$f":"IF(P10=5,$T$7,VLOOKUP(P10,'60'!$I$30:$J$38,2,0))","v":{"$error":"#N/A"}},{"$f":"VLOOKUP(IF(AND($N$11=5,R10=5),$N$15,IF(AND($N$11<>5,R10=5),J3,R10))&IF(AND($N$11=5,P10=5),$N$15,IF(AND($N$11<>5,P10=5),J3,P10)),'60'!$P$40:$R$103,3,0)","v":{"$error":"#N/A"}},{"$f":"IF(R10=5,$T$7,VLOOKUP(R10,'60'!$I$30:$J$38,2,0))","v":{"$error":"#N/A"}},{"$f":"VLOOKUP(K1+19,B1:C48,2,0)","v":{"$error":"#N/A"}},null,null,null,{"$f":"HLOOKUP(V6,'64'!A1:CC8,8,0)","v":{"$error":"#N/A"}},null,null,null,null,null,null,null,null,null,null,null,null,null,null,null,null,null,null,null,null,null,null,null,null,null,null,null,null,null,null,null,null,null,null,null,null,null,null,null,null,null,null,null,null,null,null,null,null,null,null,null,null,null,null,null,null,null,null,null,null,null,null,null,null,null,null,"子"]
[{"$f":"IF(E13=5,\"5-1\",\"\")","v":""},13,"丙","壬",{"$f":"工作表2!D9","v":3},13,{"$f":"IF(M$10=\"o\",IF(G37<1,9+G37,G37),IF(G37>9,G37-9,G37))","v":{"$error":"#N/A"}},{"$f":"IF(O$10=\"o\",IF(H37<1,9+H37,H37),IF(H37>9,H37-9,H37))","v":{"$error":"#N/A"}},{"$f":"VLOOKUP(K1+5,B1:C48,2,0)","v":{"$error":"#N/A"}},{"$f":"+VLOOKUP(VLOOKUP(I11,C25:J48,8,0),input!A52:H60,8,0)","v":{"$error":"#N/A"}},{"$f":"VLOOKUP($N$13&J13,$C$64:$D$89,2,0)","v":{"$error":"#N/A"}},{"$f":"VLOOKUP(I11,$C$25:$J$48,8,0)","v":{"$error":"#N/A"}},{"$f":"+VLOOKUP(O13,$A$52:$B$60,2,0)","v":"綠"},{"$f":"VLOOKUP(VLOOKUP(J1,C25:I48,7,0),A52:H60,8,0)","v":{"$error":"#N/A"}},{"$f":"ROUND((ROUNDUP((input!L3-1900)/9,0)-(input!L3-1900)/9)*9+1,0)","v":4},{"$f":"+VLOOKUP(VLOOKUP(S11,C25:J48,8,0),input!A52:H60,8,0)","v":{"$error":"#N/A"}},{"$f":"VLOOKUP($N$13&P13,$C$64:$D$89,2,0)","v":{"$error":"#N/A"}},{"$f":"VLOOKUP(S11,$C$25:$J$48,8,0)","v":{"$error":"#N/A"}},"<--","九官飛泊"]
[{"$f":"IF(E14=5,\"5-2\",\"\")","v":""},14,"午","子",{"$f":"E13","v":3},14,{"$f":"G13","v":{"$error":"#N/A"}},{"$f":"H13","v":{"$error":"#N/A"}},null,{"$f":"VLOOKUP(I18,$C$1:$G$24,5,0)","v":{"$error":"#N/A"}},{"$f":"+VLOOKUP(L15,$A$52:$F$60,6,0)","v":{"$error":"#N/A"}},{"$f":"VLOOKUP(I18,$C$1:$H$24,6,0)","v":{"$error":"#N/A"}},{"$f":"VLOOKUP(N18,$C$1:$G$24,5,0)","v":{"$error":"#N/A"}},{"$f":"+VLOOKUP(O15,$A$52:$F$60,6,0)","v":{"$error":"#N/A"}},{"$f":"VLOOKUP(N18,$C$1:$H$24,6,0)","v":{"$error":"#N/A"}},{"$f":"VLOOKUP(S18,$C$1:$G$24,5,0)","v":{"$error":"#N/A"}},{"$f":"+VLOOKUP(R15,$A$52:$F$60,6,0)","v":{"$error":"#N/A"}},{"$f":"VLOOKUP(S18,$C$1:$H$24,6,0)","v":{"$error":"#N/A"}},null,"(城門訣不變)",null,null,{"$f":"HLOOKUP(V6,'64'!A1:CC9,9,0)","v":{"$error":"#N/A"}}]
[{"$f":"IF(E15=5,\"5-3\",\"\")","v":""},15,"丁","癸",{"$f":"E14","v":3},15,{"$f":"G14","v":{"$error":"#N/A"}},{"$f":"H14","v":{"$error":"#N/A"}},null,{"$f":"+VLOOKUP(L15,$A$52:$B$60,2,0)","v":{"$error":"#N/A"}},{"$f":"VLOOKUP(I18,C1:E24,3,0)","v":{"$error":"#N/A"}},{"$f":"INT(VLOOKUP(I18,$C$25:$F$48,4,0))","v":{"$error":"#N/A"}},{"$f":"+VLOOKUP(O15,$A$52:$B$60,2,0)","v":{"$error":"#N/A"}},{"$f":"VLOOKUP(N18,C1:E24,3,0)","v":{"$error":"#N/A"}},{"$f":"INT(VLOOKUP(N18,$C$25:$F$48,4,0))","v":{"$error":"#N/A"}},{"$f":"+VLOOKUP(R15,$A$52:$B$60,2,0)","v":{"$error":"#N/A"}},{"$f":"VLOOKUP(S18,C1:E24,3,0)","v":{"$error":"#N/A"}},{"$f":"INT(VLOOKUP(S18,$C$25:$F$48,4,0))","v":{"$error":"#N/A"}}]
[{"$f":"IF(E16=5,\"5-1\",\"\")","v":"5-1"},16,"未","丑",{"$f":"工作表2!F9","v":5},16,{"$f":"IF(M$10=\"o\",IF(G40<1,9+G40,G40),IF(G40>9,G40-9,G40))","v":{"$error":"#N/A"}},{"$f":"IF(O$10=\"o\",IF(H40<1,9+H40,H40),IF(H40>9,H40-9,H40))","v":{"$error":"#N/A"}},null,{"$f":"IF(J14=5,$T$7,VLOOKUP(J14,'60'!$I$30:$J$38,2,0))","v":{"$error":"#N/A"}},{"$f":"VLOOKUP(IF(AND($N$11=5,L14=5),$N$15,IF(AND($N$11<>5,L14=5),J3,L14))&IF(AND($N$11=5,J14=5),$N$15,IF(AND($N$11<>5,J14=5),J3,J14)),'60'!$P$40:$R$103,3,0)","v":{"$error":"#N/A"}},{"$f":"IF(L14=5,$T$7,VLOOKUP(L14,'60'!$I$30:$J$38,2,0))","v":{"$error":"#N/A"}},{"$f":"IF(M14=5,$T$7,VLOOKUP(M14,'60'!$I$30:$J$38,2,0))","v":{"$error":"#N/A"}},{"$f":"VLOOKUP(IF(AND($N$11=5,O14=5),$N$15,IF(AND($N$11<>5,O14=5),J3,O14))&IF(AND($N$11=5,M14=5),$N$15,IF(AND($N$11<>5,M14=5),J3,M14)),'60'!$P$40:$R$103,3,0)","v":{"$error":"#N/A"}},{"$f":"IF(O14=5,$T$7,VLOOKUP(O14,'60'!$I$30:$J$38,2,0))","v":{"$error":"#N/A"}},{"$f":"IF(P14=5,$T$7,VLOOKUP(P14,'60'!$I$30:$J$38,2,0))","v":{"$error":"#N/A"}},{"$f":"VLOOKUP(IF(AND($N$11=5,R14=5),$N$15,IF(AND($N$11<>5,R14=5),J3,R14))&IF(AND($N$11=5,P14=5),$N$15,IF(AND($N$11<>5,P14=5),J3,P14)),'60'!$P$40:$R$103,3,0)","v":{"$error":"#N/A"}},{"$f":"IF(R14=5,$T$7,VLOOKUP(R14,'60'!$I$30:$J$38,2,0))","v":{"$error":"#N/A"}},"<--","玄空大卦",null,null,{"$f":"HLOOKUP(V6,'64'!A1:CC10,10,0)","v":{"$error":"#N/A"}},null,null,null,null,null,null,null,null,null,null,null,null,null,null,null,null,null,null,null,null,null,null,null,null,null,null,null,null,null,null,null,null,null,null,null,null,null,null,null,null,null,null,null,null,null,null,null,null,null,null,null,null,null,null,null,null,null,null,null,null,null,null,null,null,null,null,"癸"]
[{"$f":"IF(E17=5,\"5-2\",\"\")","v":"5-2"},17,"坤","艮",{"$f":"E16","v":5},17,{"$f":"G16","v":{"$error":"#N/A"}},{"$f":"H16","v":{"$error":"#N/A"}},{"$f":"VLOOKUP(K1+4,B1:C48,2,0)","v":{"$error":"#N/A"}},{"$f":"VLOOKUP(VLOOKUP(I18,C25:J48,8,0),input!A52:H60,8,0)","v":{"$error":"#N/A"}},{"$f":"VLOOKUP($N$13&J17,$C$64:$D$89,2,0)","v":{"$error":"#N/A"}},{"$f":"VLOOKUP(I18,$C$25:$J$48,8,0)","v":{"$error":"#N/A"}},{"$f":"VLOOKUP(VLOOKUP(N18,C25:J48,8,0),input!A52:H60,8,0)","v":{"$error":"#N/A"}},{"$f":"VLOOKUP($N$13&M17,$C$64:$D$89,2,0)","v":{"$error":"#N/A"}},{"$f":"VLOOKUP(N18,$C$25:$J$48,8,0)","v":{"$error":"#N/A"}},{"$f":"VLOOKUP(VLOOKUP(S18,C25:J48,8,0),input!A52:H60,8,0)","v":{"$error":"#N/A"}},{"$f":"VLOOKUP($N$13&P17,$C$64:$D$89,2,0)","v":{"$error":"#N/A"}},{"$f":"VLOOKUP(S18,$C$25:$J$48,8,0)","v":{"$error":"#N/A"}},{"$f":"VLOOKUP(K1+20,B1:C48,2,0)","v":{"$error":"#N/A"}}]
[" b",18,"申","寅",{"$f":"E17","v":5},18,{"$f":"G17","v":{"$error":"#N/A"}},{"$f":"H17","v":{"$error":"#N/A"}},{"$f":"VLOOKUP(K1+3,B1:C48,2,0)","v":{"$error":"#N/A"}},{"$f":"VLOOKUP(K1+2,B1:C48,2,0)","v":{"$error":"#N/A"}},null,null,{"$f":"VLOOKUP(K1+1,B1:C48,2,0)","v":{"$error":"#N/A"}},{"$f":"J1","v":0},{"$f":"VLOOKUP(K1+23,B1:C48,2,0)","v":{"$error":"#N/A"}},null,null,{"$f":"VLOOKUP(K1+22,B1:C48,2,0)","v":{"$error":"#N/A"}},{"$f":"VLOOKUP(K1+21,B1:C48,2,0)","v":{"$error":"#N/A"}},null,null,null,{"$f":"HLOOKUP(V6,'64'!A1:CC11,11,0)","v":{"$error":"#N/A"}},null,null,null,null,null,null,null,null,null,null,null,null,null,null,null,null,null,null,null,null,null,null,null,null,null,null,null,null,null,null,null,null,null,null,null,null,null,null,null,null,null,null,null,null,null,null,null,null,null,null,null,null,null,null,null,null,null,null,null,null,null,null,null,null,null,"丑"]
[{"$f":"IF(E19=5,\"5-1\",\"\")","v":""},19,"庚","甲",{"$f":"工作表2!F11","v":1},19,{"$f":"IF(M$10=\"o\",IF(G43<1,9+G43,G43),IF(G43>9,G43-9,G43))","v":{"$error":"#N/A"}},{"$f":"IF(O$10=\"o\",IF(H43<1,9+H43,H43),IF(H43>9,H43-9,H43))","v":{"$error":"#N/A"}},null,null,null,null,null,{"$f":"I1","v":"坐"}]
[{"$f":"IF(E20=5,\"5-2\",\"\")","v":""},20,"酉","卯",{"$f":"E19","v":1},20,{"$f":"G19","v":{"$error":"#N/A"}},{"$f":"H19","v":{"$error":"#N/A"}},null,null,null,null,null,null,null,null,null,null,null,null,null,null,{"$f":"HLOOKUP(V6,'64'!A1:CC12,12,0)","v":{"$error":"#N/A"}},null,null,null,null,null,null,null,null,null,null,null,null,null,null,null,null,null,null,null,null,null,null,null,null,null,null,null,null,null,null,null,null,null,null,null,null,null,null,null,null,null,null,null,null,null,null,null,null,null,null,null,"巽",null,null,null,null,null,null,null,null,null,null,null,null,"艮"]
[{"$f":"IF(E21=5,\"5-3\",\"\")","v":""},21,"辛","乙",{"$f":"E20","v":1},{"$f":"B21","v":21},{"$f":"G20","v":{"$error":"#N/A"}},{"$f":"H20","v":{"$error":"#N/A"}}]
[{"$f":"IF(E22=5,\"5-1\",\"\")","v":""},22,"戌","辰",{"$f":"工作表2!F13","v":9},{"$f":"B22","v":22},{"$f":"IF(M$10=\"o\",IF(G46<1,9+G46,G46),IF(G46>9,G46-9,G46))","v":{"$error":"#N/A"}},{"$f":"IF(O$10=\"o\",IF(H46<1,9+H46,H46),IF(H46>9,H46-9,H46))","v":{"$error":"#N/A"}},null,null,null,null,null,null,null,null,null,null,null,null,null,null,null,null,null,null,null,null,null,null,null,null,null,null,null,null,null,null,null,null,null,null,null,null,null,null,null,null,null,null,null,null,null,null,null,null,null,null,null,null,null,null,null,null,null,null,null,null,null,null,null,null,null,null,null,"辰",null,null,null,null,null,null,null,null,null,null,"寅"]
[{"$f":"IF(E23=5,\"5-2\",\"\")","v":""},23,"乾","巽",{"$f":"E22","v":9},{"$f":"B23","v":23},{"$f":"G22","v":{"$error":"#N/A"}},{"$f":"H22","v":{"$error":"#N/A"}},null,null,null,null,null,null,null,null,null,null,null,null,null,null,"http://www.eee-learning.com/simple64/",null,null,null,null,null,null,null,null,null,null,null,null,null,null,null,null,null,null,null,null,null,null,null,null,null,null,null,null,null,null,null,null,null,null,null,null,null,null,null,null,null,null,null,null,null,null,null,null,null,null,null,null,null,null,"乙",null,null,"卯",null,null,null,"甲"]
[{"$f":"IF(E24=5,\"5-3\",\"\")","v":""},24,"亥","已",{"$f":"E23","v":9},{"$f":"B24","v":24},{"$f":"G23","v":{"$error":"#N/A"}},{"$f":"H23","v":{"$error":"#N/A"}}]
["1-1",25,{"$f":"C1","v":"壬"},"o",1,{"$f":"+工作表2!E13","v":9},{"$f":"工作表2!D12","v":{"$error":"#N/A"}},{"$f":"工作表2!E12","v":{"$error":"#N/A"}},1,{"$f":"工作表2!F18","v":{"$error":"#N/A"}}]
["1-2",26,"子","x",2,{"$f":"+F25","v":9},{"$f":"G25","v":{"$error":"#N/A"}},{"$f":"H25","v":{"$error":"#N/A"}},1,{"$f":"+J25","v":{"$error":"#N/A"}},1,"坎","正北"]
["1-3",27,"癸","x",3,{"$f":"+F26","v":9},{"$f":"G26","v":{"$error":"#N/A"}},{"$f":"H26","v":{"$error":"#N/A"}},1,{"$f":"+J26","v":{"$error":"#N/A"}}]
["8-1",28,"丑","x",1,{"$f":"+工作表2!C13","v":7},{"$f":"工作表2!B12","v":{"$error":"#N/A"}},{"$f":"工作表2!C12","v":{"$error":"#N/A"}},8,{"$f":"+工作表2!E18","v":{"$error":"#N/A"}}]
["8-2",29,"艮","o",2,{"$f":"+F28","v":7},{"$f":"G28","v":{"$error":"#N/A"}},{"$f":"H28","v":{"$error":"#N/A"}},8,{"$error":"#N/A"},8,{"$f":"C29","v":"艮"},"東北"]
["8-3",30,"寅","o",3,{"$f":"+F29","v":7},{"$f":"G29","v":{"$error":"#N/A"}},{"$f":"H29","v":{"$error":"#N/A"}},8,{"$error":"#N/A"}]
["3-1",31,"甲","o",1,{"$f":"+工作表2!C11","v":2},{"$f":"工作表2!B10","v":{"$error":"#N/A"}},{"$f":"工作表2!C10","v":{"$error":"#N/A"}},3,{"$f":"+工作表2!E17","v":{"$error":"#N/A"}}]
["3-2",32,"卯","x",2,{"$f":"+F31","v":2},{"$f":"G31","v":{"$error":"#N/A"}},{"$f":"H31","v":{"$error":"#N/A"}},3,{"$error":"#N/A"},3,"震","正東"]
["3-3",33,"乙","x",3,{"$f":"+F32","v":2},{"$f":"G32","v":{"$error":"#N/A"}},{"$f":"H32","v":{"$error":"#N/A"}},3,{"$error":"#N/A"}]
["4-1",34,"辰","x",1,{"$f":"+工作表2!C9","v":3},{"$f":"工作表2!B8","v":{"$error":"#N/A"}},{"$f":"工作表2!C8","v":{"$error":"#N/A"}},4,{"$f":"+工作表2!E16","v":{"$error":"#N/A"}}]
["4-2",35,"巽","o",2,{"$f":"+F34","v":3},{"$f":"G34","v":{"$error":"#N/A"}},{"$f":"H34","v":{"$error":"#N/A"}},4,{"$error":"#N/A"},4,{"$f":"C35","v":"巽"},"東南"]
["4-3",36,"已","o",3,{"$f":"+F35","v":3},{"$f":"G35","v":{"$error":"#N/A"}},{"$f":"H35","v":{"$error":"#N/A"}},4,{"$error":"#N/A"}]
["9-1",37,"丙","o",1,{"$f":"+工作表2!E9","v":8},{"$f":"工作表2!D8","v":{"$error":"#N/A"}},{"$f":"工作表2!E8","v":{"$error":"#N/A"}},9,{"$f":"+工作表2!F16","v":{"$error":"#N/A"}}]
["9-2",38,"午","x",2,{"$f":"+F37","v":8},{"$f":"G37","v":{"$error":"#N/A"}},{"$f":"H37","v":{"$error":"#N/A"}},9,{"$error":"#N/A"},9,"离","南"]
["9-3",39,"丁","x",3,{"$f":"+F38","v":8},{"$f":"G38","v":{"$error":"#N/A"}},{"$f":"H38","v":{"$error":"#N/A"}},9,{"$error":"#N/A"}]
["2-1",40,"未","x",1,{"$f":"+工作表2!G9","v":1},{"$f":"工作表2!F8","v":{"$error":"#N/A"}},{"$f":"工作表2!G8","v":{"$error":"#N/A"}},2,{"$f":"+工作表2!G16","v":{"$error":"#N/A"}}]
["2-2",41,"坤","o",2,{"$f":"+F40","v":1},{"$f":"G40","v":{"$error":"#N/A"}},{"$f":"H40","v":{"$error":"#N/A"}},2,{"$error":"#N/A"},5,{"$f":"C41","v":"坤"},"西南"]
["2-3",42,"申","o",3,{"$f":"+F41","v":1},{"$f":"G41","v":{"$error":"#N/A"}},{"$f":"H41","v":{"$error":"#N/A"}},2,{"$error":"#N/A"}]
["7-1",43,"庚","o",1,{"$f":"+工作表2!G11","v":6},{"$f":"工作表2!F10","v":{"$error":"#N/A"}},{"$f":"工作表2!G10","v":{"$error":"#N/A"}},7,{"$f":"+工作表2!G17","v":{"$error":"#N/A"}}]
["7-2",44,"酉","x",2,{"$f":"+F43","v":6},{"$f":"G43","v":{"$error":"#N/A"}},{"$f":"H43","v":{"$error":"#N/A"}},7,{"$error":"#N/A"},7,"兌","西"]
["7-3",45,{"$f":"C21","v":"辛"},"x",3,{"$f":"+F44","v":6},{"$f":"G44","v":{"$error":"#N/A"}},{"$f":"H44","v":{"$error":"#N/A"}},7,{"$error":"#N/A"}]
["6-1",46,"戌","x",1,{"$f":"+工作表2!G13","v":5},{"$f":"工作表2!F12","v":{"$error":"#N/A"}},{"$f":"工作表2!G12","v":{"$error":"#N/A"}},6,{"$f":"+工作表2!G18","v":{"$error":"#N/A"}}]
["6-2",47,"乾","o",2,{"$f":"+F46","v":5},{"$f":"G46","v":{"$error":"#N/A"}},{"$f":"H46","v":{"$error":"#N/A"}},6,{"$error":"#N/A"},6,{"$f":"C47","v":"乾"},"西北"]
["6-3",48,"亥","o",3,{"$f":"+F47","v":5},{"$f":"G47","v":{"$error":"#N/A"}},{"$f":"H47","v":{"$error":"#N/A"}},6,{"$error":"#N/A"}]
["5-1",null,{"$f":"+VLOOKUP(A49,A$1:C$24,3,0)","v":"未"},{"$f":"+VLOOKUP(C49,C$25:D$48,2,0)","v":"x"},1]
["5-2",null,{"$f":"+VLOOKUP(A50,A$1:C$24,3,0)","v":"坤"},{"$f":"+VLOOKUP(C50,C$25:D$48,2,0)","v":"o"},2]
["5-3",null,{"$f":"+VLOOKUP(A51,A$1:C$24,3,0)","v":{"$error":"#N/A"}},{"$f":"+VLOOKUP(C51,C$25:D$48,2,0)","v":{"$error":"#N/A"}},3]
[1,"白",1944,"2004-2023",{"$f":"+VLOOKUP(D52,D53:E64,2,0)","v":8},"桃花","穿雲箭","水",null,{"$f":"+L6+K7","v":{"$error":"#N/A"}},{"$f":"+O6+N7","v":{"$error":"#N/A"}},{"$f":"+R6+Q7","v":{"$error":"#N/A"}}]
[2,"黑",{"$f":"+C52+20","v":1964},{"$f":"+C52&\"-\"&C53-1","v":"1944-1963"},5,"疾病","雙星到向","土",null,{"$f":"+J6+K7","v":{"$error":"#N/A"}},{"$f":"+M6+N7","v":{"$error":"#N/A"}},{"$f":"+P6+Q7","v":{"$error":"#N/A"}}]
[3,"碧",{"$f":"+C53+20","v":1984},{"$f":"+C53&\"-\"&C54-1","v":"1964-1983"},{"$f":"+E53+1","v":6},"是非","雙星到坐","木",null,{"$f":"+L10+K11","v":{"$error":"#N/A"}},{"$f":"+O11+N11","v":{"$error":"#N/A"}},{"$f":"+R10+Q11","v":{"$error":"#N/A"}}]
[4,"綠",2004,"1984-2003",{"$f":"+E54+1","v":7},"文昌","財星合十","木"]
[5,"黃",2024,"2004-2023",{"$f":"+E55+1","v":8},"災禍","人丁合十","土",null,{"$f":"+J10+K11","v":{"$error":"#N/A"}},{"$f":"+M11+N11","v":{"$error":"#N/A"}},{"$f":"+P10+Q11","v":{"$error":"#N/A"}}]
[6,"白",2044,"2024-2043",9,"武曲","上山下水","金",null,{"$f":"+L14+K15","v":{"$error":"#N/A"}},{"$f":"+O14+N15","v":{"$error":"#N/A"}},{"$f":"+R14+Q15","v":{"$error":"#N/A"}}]
[7,"赤",2064,"2044-2063",0,"偏財",null,"金",null,{"$f":"+J14+K15","v":{"$error":"#N/A"}},{"$f":"+M14+N15","v":{"$error":"#N/A"}},{"$f":"+P14+Q15","v":{"$error":"#N/A"}}]
[8,"白",2084,"2064-2083",{"$f":"+E58+1","v":1},"正財",null,"土"]
[9,"紫",2104,"2084-2103",{"$f":"+E59+1","v":2},"喜慶",null,"火"]
[]
[]
[]
[{"$f":"H57","v":"金"},{"$f":"+H57","v":"金"},{"$f":"A64&B64","v":"金金"},"兄旺"]
[{"$f":"+A64","v":"金"},{"$f":"+H52","v":"水"},{"$f":"A65&B65","v":"金水"},"子洩"]
[{"$f":"+A65","v":"金"},{"$f":"+H55","v":"木"},"金木","妻死"]
["金",{"$f":"++H60","v":"火"},"金火","官煞"]
["金",{"$f":"+H59","v":"土"},"金土","父生"]
[{"$f":"+B65","v":"水"},{"$f":"+B64","v":"金"},"水金","父生"]
["水",{"$f":"+B65","v":"水"},"水水","兄旺"]
["水","木","水木","子洩"]
["水","火","水火","妻死"]
["水","土","水土","官煞"]
[{"$f":"+B66","v":"木"},"金","木金","官煞"]
["木","水","木水","父生"]
["木","木","木木","兄旺"]
["木","火","木火","子洩"]
["木","土","木土","妻死"]
[{"$f":"+B67","v":"火"},"金","火金","妻死"]
["火","水","火水","官煞"]
["火","木","火木","父生"]
["火","火","火火","兄旺"]
["火","土","火土","子洩"]
[{"$f":"+B83","v":"土"},"金","土金","子洩"]
["土","水","土水","妻死"]
["土","木","土木","官煞"]
["土","火","土火","父生"]
["土","土","土土","兄旺"]

{"sheet":"工作表1","index":2,"n_rows":37,"n_cols":4,"rows_kept":37,"cut":false,"hidden":true,"merged":[]}
[null,null,"羅睺日","殺師時："]
[null,"子年","癸酉","子、午時"]
[null,"丑年","甲戌","卯、午時"]
[null,"寅年","丁亥","辰、卯時"]
[null,"卯年","甲子","丑、午時"]
[null,"辰年","乙丑","巳、亥時"]
[null,"巳年","甲寅","寅、午時"]
[null,"午年","丁卯","辰、戌時"]
[null,"未年","甲辰","巳、丑時"]
[null,"申年","已巳","辰、戌時"]
[null,"酉年","甲午","卯、申時"]
[null,"戌年","丁未","午、辰時"]
[null,"亥年","甲申","戌、丑時"]
[2,"春季","乙卯","辰、戌時"]
[3,"春季","乙卯","辰、戌時"]
[4,"春季","乙卯","辰、戌時"]
[5,"夏季","丙午","卯、申時"]
[6,"夏季","丙午","卯、申時"]
[7,"夏季","丙午","卯、申時"]
[8,"秋季","庚申","戌、丑時"]
[9,"秋季","庚申","戌、丑時"]
[10,"秋季","庚申","戌、丑時"]
[11,"冬季","辛酉","子、午時"]
[12,"冬季","辛酉","子、午時"]
[1,"冬季","辛酉","子、午時"]
[null,1,"亥日","辰、卯時"]
[null,2,"子日","丑、午時"]
[null,3,"丑日","巳、亥時"]
[null,4,"寅日","寅、午時"]
[null,5,"卯日","辰、戌時"]
[null,6,"辰日","巳、丑時"]
[null,7,"巳日","辰、戌時"]
[null,8,"午曰","卯、申時"]
[null,9,"未日","午、辰時"]
[null,10,"申日","戌、丑時"]
[null,11,"酉日","子、午時"]
[null,12,"戌日","卯、午時"]

{"sheet":"Name","index":3,"n_rows":203,"n_cols":37,"rows_kept":203,"cut":false,"hidden":false,"merged":[]}
["八字",null,"木","火","土","金","水","木","火","土","金","水","木","火","土","金","水",{"$f":"COUNTIF(工作表3!E1:E3332,Name!J8&Name!L8)","v":8},"字(1)",{"$f":"COUNTIF(工作表3!E1:E3332,J9&L9)","v":73},"字(2)",null,1,"木","東","青","白水","春","木","火","土","金","水","木木木","吉",1,"吉"]
[null,"時","日","月","年",null,null,null,null,null,{"$f":"B2","v":"時"},"日","月","年",null,null,null,1,{"$f":"VLOOKUP(Name!J$8&Name!L$8&\"-\"&R2,工作表3!F$1:G$3332,2,0)","v":"曰"},1,{"$f":"VLOOKUP(J$9&L$9&\"-\"&T2,工作表3!F$1:G$3332,2,0)","v":"紮"},null,2,"木",null,null,"黑土",null,null,null,null,null,null,"木木火","吉",2,"凶"]
["夏","乙","丙","丙","壬","年",null,null,null,{"$f":"A3","v":"夏"},{"$f":"B3","v":"乙"},"丙","丙","壬","年",null,null,{"$f":"IF(R2<R$1,R2+1,\"\")","v":2},{"$f":"VLOOKUP(Name!J$8&Name!L$8&\"-\"&R3,工作表3!F$1:G$3332,2,0)","v":"厄"},{"$f":"IF(T2<T$1,T2+1,\"\")","v":2},{"$f":"VLOOKUP(J$9&L$9&\"-\"&T3,工作表3!F$1:G$3332,2,0)","v":"訟"},null,3,"火","南","紅","碧木","夏","火","土","金","水","木","木木土","吉",3,"吉"]
[null,"未","戌","午","子",{"$f":"VLOOKUP(E4,$W42:$X53,2,0)","v":"水"},null,null,null,null,"未","戌","午","子","水",null,null,3,{"$f":"VLOOKUP(Name!J$8&Name!L$8&\"-\"&R4,工作表3!F$1:G$3332,2,0)","v":"尤"},3,{"$f":"VLOOKUP(J$9&L$9&\"-\"&T4,工作表3!F$1:G$3332,2,0)","v":"雀"},null,4,"火",null,null,"綠木",null,null,null,null,null,null,"木木金","凶",4,"凶"]
[null,{"$f":"VLOOKUP(B3&B4,'60'!$D$2:$F$61,3,0)","v":"金"},{"$f":"VLOOKUP(C3&C4,'60'!$D$2:$F$61,3,0)","v":"土"},{"$f":"VLOOKUP(D3&D4,'60'!$D$2:$F$61,3,0)","v":"水"},{"$f":"VLOOKUP(E3&E4,'60'!$D$2:$F$61,3,0)","v":"木"},{"$f":"VLOOKUP(B4,$W$11:$X$40,2,0)","v":"土"},{"$f":"VLOOKUP(C4,$W$11:$X$40,2,0)","v":"土"},{"$f":"VLOOKUP(D4,$W$11:$X$40,2,0)","v":"火"},{"$f":"VLOOKUP(E4,$W$11:$X$40,2,0)","v":"水"},{"$f":"VLOOKUP(B3,$W$11:$X$40,2,0)","v":"木"},{"$f":"VLOOKUP(C3,$W$11:$X$40,2,0)","v":"火"},{"$f":"VLOOKUP(D3,$W$11:$X$40,2,0)","v":"火"},{"$f":"VLOOKUP(E3,$W$11:$X$40,2,0)","v":"水"},null,null,null,null,4,{"$f":"VLOOKUP(Name!J$8&Name!L$8&\"-\"&R5,工作表3!F$1:G$3332,2,0)","v":"引"},4,{"$f":"VLOOKUP(J$9&L$9&\"-\"&T5,工作表3!F$1:G$3332,2,0)","v":"赦"},null,5,"土","中","黃","黃土",null,null,null,null,null,null,"木木水","凶",5,"吉"]
[null,null,{"$f":"IF(B6=\"\",0,VLOOKUP(B6,工作表3!B$1:D$9900,3,0))","v":0},{"$f":"IF(((C6/2)-INT(C6/2))>0,\"陽\",\"陰\")","v":"陰"},{"$f":"E7+E9-E8","v":{"$error":"#N/A"}},"外",{"$f":"VLOOKUP(INT(RIGHT(E6,1)),$W$1:$X$10,2,0)","v":{"$error":"#N/A"}},{"$f":"VLOOKUP(G8&G6,$W$55:$X$79,2)","v":{"$error":"#N/A"}},null,null,{"$f":"B6","v":0},{"$f":"IF(B6=\"\",0,VLOOKUP(B6,工作表3!B$1:D$9900,3,0))","v":0},{"$f":"IF(((L6/2)-INT(L6/2))>0,\"陽\",\"陰\")","v":"陰"},{"$f":"N7+N9-N8","v":12},"外",{"$f":"VLOOKUP(INT(RIGHT(N6,1)),$W$1:$X$10,2,0)","v":"木"},{"$f":"VLOOKUP(P8&P6,$W$55:$X$79,2,0)","v":"中吉"},5,{"$f":"VLOOKUP(Name!J$8&Name!L$8&\"-\"&R6,工作表3!F$1:G$3332,2,0)","v":"友"},5,{"$f":"VLOOKUP(J$9&L$9&\"-\"&T6,工作表3!F$1:G$3332,2,0)","v":"馗"},null,6,"土",null,null,"白金",null,null,null,null,null,null,"木火木","吉",6,"吉"]
[{"$f":"VLOOKUP(B7,工作表3!B$1:C$4000,2,0)","v":"火"},"羅",{"$f":"VLOOKUP(B7,工作表3!B$1:D$9900,3,0)","v":20},{"$f":"IF(((C7/2)-INT(C7/2))>0,\"陽\",\"陰\")","v":"陰"},{"$f":"IF(C6=0,C7+1,C6+C7)","v":21},"天",{"$f":"VLOOKUP(INT(RIGHT(E7,1)),$W$1:$X$10,2,0)","v":"木"},{"$f":"VLOOKUP(G7&G8&G9,$AH1:$AI125,2,0)","v":{"$error":"#N/A"}},null,{"$f":"VLOOKUP(B7,工作表3!B$1:C$4000,2,0)","v":"火"},{"$f":"B7","v":"羅"},{"$f":"VLOOKUP(B7,工作表3!B$1:D$9900,3,0)","v":20},{"$f":"IF(((L7/2)-INT(L7/2))>0,\"陽\",\"陰\")","v":"陰"},{"$f":"IF(L6=0,L7+1,L6+L7)","v":21},"天",{"$f":"VLOOKUP(INT(RIGHT(N7,1)),$W$1:$X$10,2,0)","v":"木"},{"$f":"VLOOKUP(P7&P8&P9,$AH1:$AI125,2,0)","v":"吉"},6,{"$f":"VLOOKUP(Name!J$8&Name!L$8&\"-\"&R7,工作表3!F$1:G$3332,2,0)","v":"王"},6,{"$f":"VLOOKUP(J$9&L$9&\"-\"&T7,工作表3!F$1:G$3332,2,0)","v":"責"},null,7,"金","西","白","赤金","秋","金","水","木","火","土","木火火","中吉",7,"吉"]
[{"$f":"VLOOKUP(B8,工作表3!G$1:H$4000,2,0)","v":{"$error":"#N/A"}},null,{"$f":"VLOOKUP(B8,工作表3!G$1:I$4000,3,0)","v":{"$error":"#N/A"}},{"$f":"IF(((C8/2)-INT(C8/2))>0,\"陽\",\"陰\")","v":{"$error":"#N/A"}},{"$f":"C7+C8","v":{"$error":"#N/A"}},"人",{"$f":"VLOOKUP(INT(RIGHT(E8,1)),$W$1:$X$10,2,0)","v":{"$error":"#N/A"}},{"$f":"VLOOKUP(G7&G8,$W55:$Y79,3,0)","v":{"$error":"#N/A"}},"順",{"$f":"IF(I8=\"逆\",VLOOKUP(A1,A1:Q1,MATCH(J7,C1:P1,0)+1),VLOOKUP(A1,A1:Q1,MATCH(J7,C1:P1,0)+3))","v":"土"},"允",4,{"$f":"IF(((L8/2)-INT(L8/2))>0,\"陽\",\"陰\")","v":"陰"},{"$f":"L7+L8","v":24},"人",{"$f":"VLOOKUP(INT(RIGHT(N8,1)),$W$1:$X$10,2,0)","v":"火"},{"$f":"VLOOKUP(P7&P8,$W55:$Y79,3,0)","v":"吉"},7,{"$f":"VLOOKUP(Name!J$8&Name!L$8&\"-\"&R8,工作表3!F$1:G$3332,2,0)","v":"允"},7,{"$f":"VLOOKUP(J$9&L$9&\"-\"&T8,工作表3!F$1:G$3332,2,0)","v":"釵"},null,8,"金",null,null,"白土",null,null,null,null,null,null,"木火土","吉",8,"吉"]
[{"$f":"VLOOKUP(B9,工作表3!G$1:H$4000,2,0)","v":{"$error":"#N/A"}},null,{"$f":"IF(B9=\"\",0,VLOOKUP(B9,工作表3!G$1:I$4000,3,0))","v":0},{"$f":"IF(((C9/2)-INT(C9/2))>0,\"陽\",\"陰\")","v":"陰"},{"$f":"IF(C9=0,C8+1,C9+C8)","v":{"$error":"#N/A"}},"地",{"$f":"VLOOKUP(INT(RIGHT(E9,1)),$W$1:$X$10,2,0)","v":{"$error":"#N/A"}},{"$f":"VLOOKUP(G8&G9,$W55:$Z79,4,0)","v":{"$error":"#N/A"}},null,{"$f":"IF(I8=\"逆\",J7,VLOOKUP(A1,A1:Q1,MATCH(J7,C1:P1,0)+4))","v":"金"},"浚",11,{"$f":"IF(((L9/2)-INT(L9/2))>0,\"陽\",\"陰\")","v":"陽"},{"$f":"IF(L9=0,L8+1,L9+L8)","v":15},"地",{"$f":"VLOOKUP(INT(RIGHT(N9,1)),$W$1:$X$10,2,0)","v":"土"},{"$f":"VLOOKUP(P8&P9,$W55:$Z79,4,0)","v":"吉"},8,{"$f":"VLOOKUP(Name!J$8&Name!L$8&\"-\"&R9,工作表3!F$1:G$3332,2,0)","v":"尹"},8,{"$f":"VLOOKUP(J$9&L$9&\"-\"&T9,工作表3!F$1:G$3332,2,0)","v":"船"},null,9,"水","北","黑","紫火","冬","水","木","火","土","金","木火金","凶",9,"凶"]
[null,null,null,null,{"$f":"SUM(C6:C9)","v":{"$error":"#N/A"}},"總",{"$f":"VLOOKUP(INT(RIGHT(E10,1)),$W$1:$X$10,2,0)","v":{"$error":"#N/A"}},null,null,null,null,null,null,{"$f":"SUM(L6:L9)","v":35},"總",{"$f":"VLOOKUP(INT(RIGHT(N10,1)),$W$1:$X$10,2,0)","v":"土"},null,"",{"$f":"VLOOKUP(Name!J$8&Name!L$8&\"-\"&R10,工作表3!F$1:G$3332,2,0)","v":{"$error":"#N/A"}},9,{"$f":"VLOOKUP(J$9&L$9&\"-\"&T10,工作表3!F$1:G$3332,2,0)","v":"設"},null,0,"水",null,null,null,null,null,null,null,null,null,"木火水","凶",10,"凶"]
[null,null,null,null,null,null,null,{"$f":"VLOOKUP(E10,$AJ1:$AK125,2,0)","v":{"$error":"#N/A"}},null,null,null,null,null,null,null,null,{"$f":"VLOOKUP(N10,$AJ1:$AK125,2,0)","v":"吉"},"",{"$f":"VLOOKUP(Name!J$8&Name!L$8&\"-\"&R11,工作表3!F$1:G$3332,2,0)","v":{"$error":"#N/A"}},10,{"$f":"VLOOKUP(J$9&L$9&\"-\"&T11,工作表3!F$1:G$3332,2,0)","v":"羞"},null,"乾","金",null,null,null,null,null,null,null,null,null,"木土木","凶",11,"吉"]
[{"$f":"VLOOKUP($A$3,$AB$1:$AG$9,6,0)","v":"木"},{"$f":"VLOOKUP($A$3,$AB$1:$AF$9,5,0)","v":"水"},{"$f":"VLOOKUP($A$3,$AB$1:$AE$9,4,0)","v":"金"},{"$f":"VLOOKUP($A$3,$AB$1:$AD$9,3,0)","v":"土"},{"$f":"VLOOKUP($A$3,$AB$1:$AC$9,2,0)","v":"火"},null,null,null,null,{"$f":"VLOOKUP($J$3,$AB$1:$AG$9,6,0)","v":"木"},{"$f":"VLOOKUP($J$3,$AB$1:$AF$9,5,0)","v":"水"},{"$f":"VLOOKUP($J$3,$AB$1:$AE$9,4,0)","v":"金"},{"$f":"VLOOKUP($J$3,$AB$1:$AD$9,3,0)","v":"土"},{"$f":"VLOOKUP($J$3,$AB$1:$AC$9,2,0)","v":"火"},null,null,null,"",{"$f":"VLOOKUP(Name!J$8&Name!L$8&\"-\"&R12,工作表3!F$1:G$3332,2,0)","v":{"$error":"#N/A"}},11,{"$f":"VLOOKUP(J$9&L$9&\"-\"&T12,工作表3!F$1:G$3332,2,0)","v":"粗"},null,"兌","金",null,null,null,null,null,null,null,null,null,"木土火","吉",12,"凶"]
["休","囚","死","相","旺",null,null,null,null,"休","囚","死","相","旺",null,null,null,"",{"$f":"VLOOKUP(Name!J$8&Name!L$8&\"-\"&R13,工作表3!F$1:G$3332,2,0)","v":{"$error":"#N/A"}},12,{"$f":"VLOOKUP(J$9&L$9&\"-\"&T13,工作表3!F$1:G$3332,2,0)","v":"窓"},null,"離","火",null,null,null,null,null,null,null,null,null,"木土土","吉",13,"吉"]
[{"$f":"COUNTIF($B$5:$M$5,A12)","v":2},3,1,3,{"$f":"COUNTIF($B$5:$M$5,E12)","v":3},"命",null,null,null,{"$f":"A14","v":2},3,1,{"$f":"D14","v":3},{"$f":"E14","v":3},{"$f":"F14","v":"命"},null,null,"",{"$f":"VLOOKUP(Name!J$8&Name!L$8&\"-\"&R14,工作表3!F$1:G$3332,2,0)","v":{"$error":"#N/A"}},13,{"$f":"VLOOKUP(J$9&L$9&\"-\"&T14,工作表3!F$1:G$3332,2,0)","v":"祭"},null,"震","木",null,null,null,null,null,null,null,null,null,"木土金","中吉",14,"凶"]
[{"$f":"COUNTIF($G$6:$G$10,A12)+COUNTIF($A$6:$A$9,A12)","v":1},0,0,0,{"$f":"COUNTIF($G$6:$G$10,E12)+COUNTIF($A$6:$A$9,E12)","v":1},"名",null,null,null,{"$f":"COUNTIF($P$6:$P$10,J12)+COUNTIF($J$6:$J$9,J12)","v":2},{"$f":"COUNTIF($P$6:$P$10,K12)+COUNTIF($J$6:$J$9,K12)","v":0},{"$f":"COUNTIF($P$6:$P$10,L12)+COUNTIF($J$6:$J$9,L12)","v":1},{"$f":"COUNTIF($P$6:$P$10,M12)+COUNTIF($J$6:$J$9,M12)","v":3},{"$f":"COUNTIF($P$6:$P$10,N12)+COUNTIF($J$6:$J$9,N12)","v":2},{"$f":"F15","v":"名"},null,null,"",{"$f":"VLOOKUP(Name!J$8&Name!L$8&\"-\"&R15,工作表3!F$1:G$3332,2,0)","v":{"$error":"#N/A"}},14,{"$f":"VLOOKUP(J$9&L$9&\"-\"&T15,工作表3!F$1:G$3332,2,0)","v":"笥"},null,"巽","木",null,null,null,null,null,null,null,null,null,"木土水","凶",15,"吉"]
[{"$f":"SUM(A14:A15)","v":3},3,1,3,{"$f":"SUM(E14:E15)","v":4},"總",null,null,null,{"$f":"SUM(J14:J15)","v":4},3,2,6,5,{"$f":"F16","v":"總"},null,null,"",{"$f":"VLOOKUP(Name!J$8&Name!L$8&\"-\"&R16,工作表3!F$1:G$3332,2,0)","v":{"$error":"#N/A"}},15,{"$f":"VLOOKUP(J$9&L$9&\"-\"&T16,工作表3!F$1:G$3332,2,0)","v":"產"},null,"坎","水",null,null,null,null,null,null,null,null,null,"木金木","凶",16,"吉"]
[null,null,null,null,null,null,null,null,null,null,null,null,null,null,null,null,null,"",{"$f":"VLOOKUP(Name!J$8&Name!L$8&\"-\"&R17,工作表3!F$1:G$3332,2,0)","v":{"$error":"#N/A"}},16,{"$f":"VLOOKUP(J$9&L$9&\"-\"&T17,工作表3!F$1:G$3332,2,0)","v":"笙"},null,"艮","土",null,null,null,null,null,null,null,null,null,"木金火","凶",17,"吉"]
[null,null,null,null,null,null,null,null,null,null,null,null,null,null,null,null,null,"",{"$f":"VLOOKUP(Name!J$8&Name!L$8&\"-\"&R18,工作表3!F$1:G$3332,2,0)","v":{"$error":"#N/A"}},17,{"$f":"VLOOKUP(J$9&L$9&\"-\"&T18,工作表3!F$1:G$3332,2,0)","v":"晟"},null,"坤","土",null,null,null,null,null,null,null,null,null,"木金土","凶",18,"吉"]
[null,null,null,null,null,null,null,null,null,null,null,null,null,null,null,null,null,"",{"$f":"VLOOKUP(Name!J$8&Name!L$8&\"-\"&R19,工作表3!F$1:G$3332,2,0)","v":{"$error":"#N/A"}},18,{"$f":"VLOOKUP(J$9&L$9&\"-\"&T19,工作表3!F$1:G$3332,2,0)","v":"率"},null,"子","水",null,null,null,null,null,null,null,null,null,"木金金","凶",19,"凶"]
[null,null,null,null,null,null,null,null,null,null,null,null,null,null,null,null,null,"",{"$f":"VLOOKUP(Name!J$8&Name!L$8&\"-\"&R20,工作表3!F$1:G$3332,2,0)","v":{"$error":"#N/A"}},19,{"$f":"VLOOKUP(J$9&L$9&\"-\"&T20,工作表3!F$1:G$3332,2,0)","v":"悦"},null,"丑","土",null,null,null,null,null,null,null,null,null,"木金水","凶",20,"凶"]
[null,null,null,null,null,null,null,null,null,null,null,null,null,null,null,null,null,"",{"$f":"VLOOKUP(Name!J$8&Name!L$8&\"-\"&R21,工作表3!F$1:G$3332,2,0)","v":{"$error":"#N/A"}},20,{"$f":"VLOOKUP(J$9&L$9&\"-\"&T21,工作表3!F$1:G$3332,2,0)","v":"珣"},null,"寅","木",null,null,null,null,null,null,null,null,null,"木水木","吉凶分明",21,"吉"]
[null,null,null,null,null,null,null,null,null,null,null,null,null,null,null,null,null,"",{"$f":"VLOOKUP(Name!J$8&Name!L$8&\"-\"&R22,工作表3!F$1:G$3332,2,0)","v":{"$error":"#N/A"}},21,{"$f":"VLOOKUP(J$9&L$9&\"-\"&T22,工作表3!F$1:G$3332,2,0)","v":"珠"},null,"卯","木",null,null,null,null,null,null,null,null,null,"木水火","凶",22,"凶"]
[null,null,null,null,null,null,null,null,null,null,null,null,null,null,null,null,null,"",{"$f":"VLOOKUP(Name!J$8&Name!L$8&\"-\"&R23,工作表3!F$1:G$3332,2,0)","v":{"$error":"#N/A"}},22,{"$f":"VLOOKUP(J$9&L$9&\"-\"&T23,工作表3!F$1:G$3332,2,0)","v":"爽"},null,"辰","土",null,null,null,null,null,null,null,null,null,"木水土","凶",23,"吉"]
[null,null,null,null,null,null,null,null,null,null,null,null,null,null,null,null,null,"",{"$f":"VLOOKUP(Name!J$8&Name!L$8&\"-\"&R24,工作表3!F$1:G$3332,2,0)","v":{"$error":"#N/A"}},23,{"$f":"VLOOKUP(J$9&L$9&\"-\"&T24,工作表3!F$1:G$3332,2,0)","v":"斜"},null,"巳","火",null,null,null,null,null,null,null,null,null,"木水金","凶",24,"吉"]
[null,null,null,null,null,null,null,null,null,null,null,null,null,null,null,null,null,"",{"$f":"VLOOKUP(Name!J$8&Name!L$8&\"-\"&R25,工作表3!F$1:G$3332,2,0)","v":{"$error":"#N/A"}},24,{"$f":"VLOOKUP(J$9&L$9&\"-\"&T25,工作表3!F$1:G$3332,2,0)","v":"敍"},null,"午","火",null,null,null,null,null,null,null,null,null,"木水水","中吉",25,"吉"]
[null,null,null,null,null,null,null,null,null,null,null,null,null,null,null,null,null,"",{"$f":"VLOOKUP(Name!J$8&Name!L$8&\"-\"&R26,工作表3!F$1:G$3332,2,0)","v":{"$error":"#N/A"}},25,{"$f":"VLOOKUP(J$9&L$9&\"-\"&T26,工作表3!F$1:G$3332,2,0)","v":"戚"},null,"未","土",null,null,null,null,null,null,null,null,null,"火木木","吉",26,"凶"]
[null,null,null,null,null,null,null,null,null,null,null,null,null,null,null,null,null,"",{"$f":"VLOOKUP(Name!J$8&Name!L$8&\"-\"&R27,工作表3!F$1:G$3332,2,0)","v":{"$error":"#N/A"}},26,{"$f":"VLOOKUP(J$9&L$9&\"-\"&T27,工作表3!F$1:G$3332,2,0)","v":"旋"},null,"申","金",null,null,null,null,null,null,null,null,null,"火木火","吉",27,"吉帶凶"]
[null,null,null,null,null,null,null,null,null,null,null,null,null,null,null,null,null,"",{"$f":"VLOOKUP(Name!J$8&Name!L$8&\"-\"&R28,工作表3!F$1:G$3332,2,0)","v":{"$error":"#N/A"}},27,{"$f":"VLOOKUP(J$9&L$9&\"-\"&T28,工作表3!F$1:G$3332,2,0)","v":"悉"},null,"酉","金",null,null,null,null,null,null,null,null,null,"火木土","吉",28,"凶"]
[null,null,null,null,null,null,null,null,null,null,null,null,null,null,null,null,null,"",{"$f":"VLOOKUP(Name!J$8&Name!L$8&\"-\"&R29,工作表3!F$1:G$3332,2,0)","v":{"$error":"#N/A"}},28,{"$f":"VLOOKUP(J$9&L$9&\"-\"&T29,工作表3!F$1:G$3332,2,0)","v":"宿"},null,"戌","土",null,null,null,null,null,null,null,null,null,"火木金","凶",29,"吉"]
[null,null,null,null,null,null,null,null,null,null,null,null,null,null,null,null,null,"",{"$f":"VLOOKUP(Name!J$8&Name!L$8&\"-\"&R30,工作表3!F$1:G$3332,2,0)","v":{"$error":"#N/A"}},29,{"$f":"VLOOKUP(J$9&L$9&\"-\"&T30,工作表3!F$1:G$3332,2,0)","v":"巢"},null,"亥","水",null,null,null,null,null,null,null,null,null,"火木水","凶",30,"吉帶凶"]
[null,null,null,null,null,null,null,null,null,null,null,null,null,null,null,null,null,"",{"$f":"VLOOKUP(Name!J$8&Name!L$8&\"-\"&R31,工作表3!F$1:G$3332,2,0)","v":{"$error":"#N/A"}},30,{"$f":"VLOOKUP(J$9&L$9&\"-\"&T31,工作表3!F$1:G$3332,2,0)","v":"旌"},null,"甲","木",null,null,null,null,null,null,null,null,null,"火火木","吉",31,"吉"]
[null,null,null,null,null,null,null,null,null,null,null,null,null,null,null,null,null,"",{"$f":"VLOOKUP(Name!J$8&Name!L$8&\"-\"&R32,工作表3!F$1:G$3332,2,0)","v":{"$error":"#N/A"}},31,{"$f":"VLOOKUP(J$9&L$9&\"-\"&T32,工作表3!F$1:G$3332,2,0)","v":"彫"},null,"乙","木",null,null,null,null,null,null,null,null,null,"火火火","中吉",32,"吉帶凶"]
[null,null,null,null,null,null,null,null,null,null,null,null,null,null,null,null,null,"",{"$f":"VLOOKUP(Name!J$8&Name!L$8&\"-\"&R33,工作表3!F$1:G$3332,2,0)","v":{"$error":"#N/A"}},32,{"$f":"VLOOKUP(J$9&L$9&\"-\"&T33,工作表3!F$1:G$3332,2,0)","v":"庶"},null,"丙","火",null,null,null,null,null,null,null,null,null,"火火土","中吉",33,"吉"]
[null,null,null,null,null,null,null,null,null,null,null,null,null,null,null,null,null,"",{"$f":"VLOOKUP(Name!J$8&Name!L$8&\"-\"&R34,工作表3!F$1:G$3332,2,0)","v":{"$error":"#N/A"}},33,{"$f":"VLOOKUP(J$9&L$9&\"-\"&T34,工作表3!F$1:G$3332,2,0)","v":"寂"},null,"丁","火",null,null,null,null,null,null,null,null,null,"火火金","凶",34,"吉"]
[null,null,null,null,null,null,null,null,null,null,null,null,null,null,null,null,null,"",{"$f":"VLOOKUP(Name!J$8&Name!L$8&\"-\"&R35,工作表3!F$1:G$3332,2,0)","v":{"$error":"#N/A"}},34,{"$f":"VLOOKUP(J$9&L$9&\"-\"&T35,工作表3!F$1:G$3332,2,0)","v":"問"},null,"戊","土",null,null,null,null,null,null,null,null,null,"火火水","凶",35,"吉"]
[null,null,null,null,null,null,null,null,null,null,null,null,null,null,null,null,null,"",{"$f":"VLOOKUP(Name!J$8&Name!L$8&\"-\"&R36,工作表3!F$1:G$3332,2,0)","v":{"$error":"#N/A"}},35,{"$f":"VLOOKUP(J$9&L$9&\"-\"&T36,工作表3!F$1:G$3332,2,0)","v":"商"},null,"己","土",null,null,null,null,null,null,null,null,null,"火土木","凶",36,"凶"]
[null,null,null,null,null,null,null,null,null,null,null,null,null,null,null,null,null,"",{"$f":"VLOOKUP(Name!J$8&Name!L$8&\"-\"&R37,工作表3!F$1:G$3332,2,0)","v":{"$error":"#N/A"}},36,{"$f":"VLOOKUP(J$9&L$9&\"-\"&T37,工作表3!F$1:G$3332,2,0)","v":"阡"},null,"庚","金",null,null,null,null,null,null,null,null,null,"火土火","吉",37,"吉"]
[null,null,null,null,null,null,null,null,null,null,null,null,null,null,null,null,null,"",{"$f":"VLOOKUP(Name!J$8&Name!L$8&\"-\"&R38,工作表3!F$1:G$3332,2,0)","v":{"$error":"#N/A"}},37,{"$f":"VLOOKUP(J$9&L$9&\"-\"&T38,工作表3!F$1:G$3332,2,0)","v":"勘"},null,"辛","金",null,null,null,null,null,null,null,null,null,"火土土","吉",38,"吉帶凶"]
[null,null,null,null,null,null,null,null,null,null,null,null,null,null,null,null,null,"",{"$f":"VLOOKUP(Name!J$8&Name!L$8&\"-\"&R39,工作表3!F$1:G$3332,2,0)","v":{"$error":"#N/A"}},38,{"$f":"VLOOKUP(J$9&L$9&\"-\"&T39,工作表3!F$1:G$3332,2,0)","v":"唱"},null,"壬","水",null,null,null,null,null,null,null,null,null,"火土金","吉",39,"吉"]
[null,null,null,null,null,null,null,null,null,null,null,null,null,null,null,null,null,"",{"$f":"VLOOKUP(Name!J$8&Name!L$8&\"-\"&R40,工作表3!F$1:G$3332,2,0)","v":{"$error":"#N/A"}},39,{"$f":"VLOOKUP(J$9&L$9&\"-\"&T40,工作表3!F$1:G$3332,2,0)","v":"釧"},null,"癸","水",null,null,null,null,null,null,null,null,null,"火土水","凶",40,"吉帶凶"]
[null,null,null,null,null,null,null,null,null,null,null,null,null,null,null,null,null,"",{"$f":"VLOOKUP(Name!J$8&Name!L$8&\"-\"&R41,工作表3!F$1:G$3332,2,0)","v":{"$error":"#N/A"}},40,{"$f":"VLOOKUP(J$9&L$9&\"-\"&T41,工作表3!F$1:G$3332,2,0)","v":"彩"},null,null,null,null,null,null,null,null,null,null,null,null,"火金木","凶",41,"吉"]
[null,null,null,null,null,null,null,null,null,null,null,null,null,null,null,null,null,"",{"$f":"VLOOKUP(Name!J$8&Name!L$8&\"-\"&R42,工作表3!F$1:G$3332,2,0)","v":{"$error":"#N/A"}},41,{"$f":"VLOOKUP(J$9&L$9&\"-\"&T42,工作表3!F$1:G$3332,2,0)","v":"趾"},null,"子","水",null,"甲",null,null,null,null,null,null,null,"火金火","凶",42,"吉帶凶"]
[null,null,null,null,null,null,null,null,null,null,null,null,null,null,null,null,null,"",{"$f":"VLOOKUP(Name!J$8&Name!L$8&\"-\"&R43,工作表3!F$1:G$3332,2,0)","v":{"$error":"#N/A"}},42,{"$f":"VLOOKUP(J$9&L$9&\"-\"&T43,工作表3!F$1:G$3332,2,0)","v":"崇"},null,"丑","金",null,"乙",null,null,null,null,null,null,null,"火金土","凶",43,"吉帶凶"]
[null,null,null,null,null,null,null,null,null,null,null,null,null,null,null,null,null,"",{"$f":"VLOOKUP(Name!J$8&Name!L$8&\"-\"&R44,工作表3!F$1:G$3332,2,0)","v":{"$error":"#N/A"}},43,{"$f":"VLOOKUP(J$9&L$9&\"-\"&T44,工作表3!F$1:G$3332,2,0)","v":"崧"},null,"寅","火",null,"丙",null,null,null,null,null,null,null,"火金金","凶",44,"凶"]
[null,null,null,null,null,null,null,null,null,null,null,null,null,null,null,null,null,"",{"$f":"VLOOKUP(Name!J$8&Name!L$8&\"-\"&R45,工作表3!F$1:G$3332,2,0)","v":{"$error":"#N/A"}},44,{"$f":"VLOOKUP(J$9&L$9&\"-\"&T45,工作表3!F$1:G$3332,2,0)","v":"曹"},null,"卯","木",null,"丁",null,null,null,null,null,null,null,"火金水","凶",45,"吉"]
[null,null,null,null,null,null,null,null,null,null,null,null,null,null,null,null,null,"",{"$f":"VLOOKUP(Name!J$8&Name!L$8&\"-\"&R46,工作表3!F$1:G$3332,2,0)","v":{"$error":"#N/A"}},45,{"$f":"VLOOKUP(J$9&L$9&\"-\"&T46,工作表3!F$1:G$3332,2,0)","v":"常"},null,"辰","水",null,"戊",null,null,null,null,null,null,null,"火水木","凶",46,"凶"]
[null,null,null,null,null,null,null,null,null,null,null,null,null,null,null,null,null,"",{"$f":"VLOOKUP(Name!J$8&Name!L$8&\"-\"&R47,工作表3!F$1:G$3332,2,0)","v":{"$error":"#N/A"}},46,{"$f":"VLOOKUP(J$9&L$9&\"-\"&T47,工作表3!F$1:G$3332,2,0)","v":"船"},null,"巳","金",null,"己",null,null,null,null,null,null,null,"火水火","凶",47,"吉"]
[null,null,null,null,null,null,null,null,null,null,null,null,null,null,null,null,null,"",{"$f":"VLOOKUP(Name!J$8&Name!L$8&\"-\"&R48,工作表3!F$1:G$3332,2,0)","v":{"$error":"#N/A"}},47,{"$f":"VLOOKUP(J$9&L$9&\"-\"&T48,工作表3!F$1:G$3332,2,0)","v":"祥"},null,"午","火",null,"庚",null,null,null,null,null,null,null,"火水土","凶",48,"吉"]
[null,null,null,null,null,null,null,null,null,null,null,null,null,null,null,null,null,"",{"$f":"VLOOKUP(Name!J$8&Name!L$8&\"-\"&R49,工作表3!F$1:G$3332,2,0)","v":{"$error":"#N/A"}},48,{"$f":"VLOOKUP(J$9&L$9&\"-\"&T49,工作表3!F$1:G$3332,2,0)","v":"晨"},null,"未","木",null,"辛",null,null,null,null,null,null,null,"火水金","凶",49,"凶"]
[null,null,null,null,null,null,null,null,null,null,null,null,null,null,null,null,null,"",{"$f":"VLOOKUP(Name!J$8&Name!L$8&\"-\"&R50,工作表3!F$1:G$3332,2,0)","v":{"$error":"#N/A"}},49,{"$f":"VLOOKUP(J$9&L$9&\"-\"&T50,工作表3!F$1:G$3332,2,0)","v":"專"},null,"申","水",null,"壬",null,null,null,null,null,null,null,"火水水","凶",50,"吉帶凶"]
[null,null,null,null,null,null,null,null,null,null,null,null,null,null,null,null,null,"",{"$f":"VLOOKUP(Name!J$8&Name!L$8&\"-\"&R51,工作表3!F$1:G$3332,2,0)","v":{"$error":"#N/A"}},50,{"$f":"VLOOKUP(J$9&L$9&\"-\"&T51,工作表3!F$1:G$3332,2,0)","v":"雪"},null,"酉","金",null,"癸",null,null,null,null,null,null,null,"土木木","凶",51,"吉帶凶"]
[null,null,null,null,null,null,null,null,null,null,null,null,null,null,null,null,null,"",{"$f":"VLOOKUP(Name!J$8&Name!L$8&\"-\"&R52,工作表3!F$1:G$3332,2,0)","v":{"$error":"#N/A"}},51,{"$f":"VLOOKUP(J$9&L$9&\"-\"&T52,工作表3!F$1:G$3332,2,0)","v":"許"},null,"戌","火",null,null,null,null,null,null,null,null,null,"土木火","中吉",52,"吉"]
[null,null,null,null,null,null,null,null,null,null,null,null,null,null,null,null,null,"",{"$f":"VLOOKUP(Name!J$8&Name!L$8&\"-\"&R53,工作表3!F$1:G$3332,2,0)","v":{"$error":"#N/A"}},52,{"$f":"VLOOKUP(J$9&L$9&\"-\"&T53,工作表3!F$1:G$3332,2,0)","v":"紫"},null,"亥","木",null,null,null,null,null,null,null,null,null,"土木土","凶",53,"吉帶凶"]
[null,null,null,null,null,null,null,null,null,null,null,null,null,null,null,null,null,"",{"$f":"VLOOKUP(Name!J$8&Name!L$8&\"-\"&R54,工作表3!F$1:G$3332,2,0)","v":{"$error":"#N/A"}},53,{"$f":"VLOOKUP(J$9&L$9&\"-\"&T54,工作表3!F$1:G$3332,2,0)","v":"參"},null,null,"人外","天人","人地",null,null,null,null,null,null,null,"土木金","凶",54,"凶"]
[null,null,null,null,null,null,null,null,null,null,null,null,null,null,null,null,null,"",{"$f":"VLOOKUP(Name!J$8&Name!L$8&\"-\"&R55,工作表3!F$1:G$3332,2,0)","v":{"$error":"#N/A"}},54,{"$f":"VLOOKUP(J$9&L$9&\"-\"&T55,工作表3!F$1:G$3332,2,0)","v":"焌"},null,"木木","吉","吉","吉",null,null,null,null,null,null,null,"土木水","凶",55,"吉帶凶"]
[null,null,null,null,null,null,null,null,null,null,null,null,null,null,null,null,null,"",{"$f":"VLOOKUP(Name!J$8&Name!L$8&\"-\"&R56,工作表3!F$1:G$3332,2,0)","v":{"$error":"#N/A"}},55,{"$f":"VLOOKUP(J$9&L$9&\"-\"&T56,工作表3!F$1:G$3332,2,0)","v":"處"},null,"火木","中吉","吉","吉",null,null,null,null,null,null,null,"土火木","中吉",56,"凶"]
[null,null,null,null,null,null,null,null,null,null,null,null,null,null,null,null,null,"",{"$f":"VLOOKUP(Name!J$8&Name!L$8&\"-\"&R57,工作表3!F$1:G$3332,2,0)","v":{"$error":"#N/A"}},56,{"$f":"VLOOKUP(J$9&L$9&\"-\"&T57,工作表3!F$1:G$3332,2,0)","v":"匙"},null,"土木","中吉","凶","凶",null,null,null,null,null,null,null,"土火火","吉",57,"吉帶凶"]
[null,null,null,null,null,null,null,null,null,null,null,null,null,null,null,null,null,"",{"$f":"VLOOKUP(Name!J$8&Name!L$8&\"-\"&R58,工作表3!F$1:G$3332,2,0)","v":{"$error":"#N/A"}},57,{"$f":"VLOOKUP(J$9&L$9&\"-\"&T58,工作表3!F$1:G$3332,2,0)","v":"若"},null,"金木","凶","凶","凶",null,null,null,null,null,null,null,"土火土","吉",58,"吉帶凶"]
[null,null,null,null,null,null,null,null,null,null,null,null,null,null,null,null,null,"",{"$f":"VLOOKUP(Name!J$8&Name!L$8&\"-\"&R59,工作表3!F$1:G$3332,2,0)","v":{"$error":"#N/A"}},58,{"$f":"VLOOKUP(J$9&L$9&\"-\"&T59,工作表3!F$1:G$3332,2,0)","v":"桶"},null,"水木","吉","吉","凶",null,null,null,null,null,null,null,"土火金","凶",59,"凶"]
[null,null,null,null,null,null,null,null,null,null,null,null,null,null,null,null,null,"",{"$f":"VLOOKUP(Name!J$8&Name!L$8&\"-\"&R60,工作表3!F$1:G$3332,2,0)","v":{"$error":"#N/A"}},59,{"$f":"VLOOKUP(J$9&L$9&\"-\"&T60,工作表3!F$1:G$3332,2,0)","v":"梢"},null,"火火","凶","吉","吉",null,null,null,null,null,null,null,"土火水","凶",60,"凶"]
[null,null,null,null,null,null,null,null,null,null,null,null,null,null,null,null,null,"",{"$f":"VLOOKUP(Name!J$8&Name!L$8&\"-\"&R61,工作表3!F$1:G$3332,2,0)","v":{"$error":"#N/A"}},60,{"$f":"VLOOKUP(J$9&L$9&\"-\"&T61,工作表3!F$1:G$3332,2,0)","v":"梓"},null,"土火","吉","吉","吉",null,null,null,null,null,null,null,"土土木","凶",61,"吉帶凶"]
[null,null,null,null,null,null,null,null,null,null,null,null,null,null,null,null,null,"",{"$f":"VLOOKUP(Name!J$8&Name!L$8&\"-\"&R62,工作表3!F$1:G$3332,2,0)","v":{"$error":"#N/A"}},61,{"$f":"VLOOKUP(J$9&L$9&\"-\"&T62,工作表3!F$1:G$3332,2,0)","v":"彬"},null,"金火","凶","凶","凶",null,null,null,null,null,null,null,"土土火","吉",62,"凶"]
[null,null,null,null,null,null,null,null,null,null,null,null,null,null,null,null,null,"",{"$f":"VLOOKUP(Name!J$8&Name!L$8&\"-\"&R63,工作表3!F$1:G$3332,2,0)","v":{"$error":"#N/A"}},62,{"$f":"VLOOKUP(J$9&L$9&\"-\"&T63,工作表3!F$1:G$3332,2,0)","v":"得"},null,"水火","中吉","凶","凶",null,null,null,null,null,null,null,"土土土","中吉",63,"吉"]
[null,null,null,null,null,null,null,null,null,null,null,null,null,null,null,null,null,"",{"$f":"VLOOKUP(Name!J$8&Name!L$8&\"-\"&R64,工作表3!F$1:G$3332,2,0)","v":{"$error":"#N/A"}},63,{"$f":"VLOOKUP(J$9&L$9&\"-\"&T64,工作表3!F$1:G$3332,2,0)","v":"側"},null,"木火","中吉","吉","吉",null,null,null,null,null,null,null,"土土金","吉",64,"凶"]
[null,null,null,null,null,null,null,null,null,null,null,null,null,null,null,null,null,"",{"$f":"VLOOKUP(Name!J$8&Name!L$8&\"-\"&R65,工作表3!F$1:G$3332,2,0)","v":{"$error":"#N/A"}},64,{"$f":"VLOOKUP(J$9&L$9&\"-\"&T65,工作表3!F$1:G$3332,2,0)","v":"細"},null,"土土","吉","吉","吉",null,null,null,null,null,null,null,"土土水","凶",65,"吉"]
[null,null,null,null,null,null,null,null,null,null,null,null,null,null,null,null,null,"",{"$f":"VLOOKUP(Name!J$8&Name!L$8&\"-\"&R66,工作表3!F$1:G$3332,2,0)","v":{"$error":"#N/A"}},65,{"$f":"VLOOKUP(J$9&L$9&\"-\"&T66,工作表3!F$1:G$3332,2,0)","v":"終"},null,"金土","吉","吉","吉",null,null,null,null,null,null,null,"土金木","凶",66,"凶"]
[null,null,null,null,null,null,null,null,null,null,null,null,null,null,null,null,null,{"$f":"IF(R66<R$1,R66+1,\"\")","v":""},{"$f":"VLOOKUP(Name!J$8&Name!L$8&\"-\"&R67,工作表3!F$1:G$3332,2,0)","v":{"$error":"#N/A"}},{"$f":"IF(T66<T$1,T66+1,\"\")","v":66},{"$f":"VLOOKUP(J$9&L$9&\"-\"&T67,工作表3!F$1:G$3332,2,0)","v":"紹"},null,"水土","吉","凶","凶",null,null,null,null,null,null,null,"土金火","凶",67,"吉"]
[null,null,null,null,null,null,null,null,null,null,null,null,null,null,null,null,null,"",{"$f":"VLOOKUP(Name!J$8&Name!L$8&\"-\"&R68,工作表3!F$1:G$3332,2,0)","v":{"$error":"#N/A"}},67,{"$f":"VLOOKUP(J$9&L$9&\"-\"&T68,工作表3!F$1:G$3332,2,0)","v":"組"},null,"木土","吉","凶","吉",null,null,null,null,null,null,null,"土金土","吉",68,"吉"]
[null,null,null,null,null,null,null,null,null,null,null,null,null,null,null,null,null,"",{"$f":"VLOOKUP(Name!J$8&Name!L$8&\"-\"&R69,工作表3!F$1:G$3332,2,0)","v":{"$error":"#N/A"}},68,{"$f":"VLOOKUP(J$9&L$9&\"-\"&T69,工作表3!F$1:G$3332,2,0)","v":"紳"},null,"火土","吉","吉","吉",null,null,null,null,null,null,null,"土金金","吉",69,"凶"]
[null,null,null,null,null,null,null,null,null,null,null,null,null,null,null,null,null,"",{"$f":"VLOOKUP(Name!J$8&Name!L$8&\"-\"&R70,工作表3!F$1:G$3332,2,0)","v":{"$error":"#N/A"}},69,{"$f":"VLOOKUP(J$9&L$9&\"-\"&T70,工作表3!F$1:G$3332,2,0)","v":"袖"},null,"金金","凶","凶","凶",null,null,null,null,null,null,null,"土金水","中吉",70,"凶"]
[null,null,null,null,null,null,null,null,null,null,null,null,null,null,null,null,null,"",{"$f":"VLOOKUP(Name!J$8&Name!L$8&\"-\"&R71,工作表3!F$1:G$3332,2,0)","v":{"$error":"#N/A"}},70,{"$f":"VLOOKUP(J$9&L$9&\"-\"&T71,工作表3!F$1:G$3332,2,0)","v":"浙"},null,"水金","吉","吉","凶",null,null,null,null,null,null,null,"土水木","凶",71,"吉帶凶"]
[null,null,null,null,null,null,null,null,null,null,null,null,null,null,null,null,null,"",{"$f":"VLOOKUP(Name!J$8&Name!L$8&\"-\"&R72,工作表3!F$1:G$3332,2,0)","v":{"$error":"#N/A"}},71,{"$f":"VLOOKUP(J$9&L$9&\"-\"&T72,工作表3!F$1:G$3332,2,0)","v":"浸"},null,"木金","吉","凶","凶",null,null,null,null,null,null,null,"土水火","凶",72,"吉帶凶"]
[null,null,null,null,null,null,null,null,null,null,null,null,null,null,null,null,null,"",{"$f":"VLOOKUP(Name!J$8&Name!L$8&\"-\"&R73,工作表3!F$1:G$3332,2,0)","v":{"$error":"#N/A"}},72,{"$f":"VLOOKUP(J$9&L$9&\"-\"&T73,工作表3!F$1:G$3332,2,0)","v":"消"},null,"火金","凶","凶","凶",null,null,null,null,null,null,null,"土水土","凶",73,"吉"]
[null,null,null,null,null,null,null,null,null,null,null,null,null,null,null,null,null,"",{"$f":"VLOOKUP(Name!J$8&Name!L$8&\"-\"&R74,工作表3!F$1:G$3332,2,0)","v":{"$error":"#N/A"}},73,{"$f":"VLOOKUP(J$9&L$9&\"-\"&T74,工作表3!F$1:G$3332,2,0)","v":"浚"},null,"土金","凶","吉","吉",null,null,null,null,null,null,null,"土水金","凶",74,"凶"]
[null,null,null,null,null,null,null,null,null,null,null,null,null,null,null,null,null,"",{"$f":"VLOOKUP(Name!J$8&Name!L$8&\"-\"&R75,工作表3!F$1:G$3332,2,0)","v":{"$error":"#N/A"}},"",{"$f":"VLOOKUP(J$9&L$9&\"-\"&T75,工作表3!F$1:G$3332,2,0)","v":{"$error":"#N/A"}},null,"水水","吉","凶","凶",null,null,null,null,null,null,null,"土水水","凶",75,"吉帶凶"]
[null,null,null,null,null,null,null,null,null,null,null,null,null,null,null,null,null,"",{"$f":"VLOOKUP(Name!J$8&Name!L$8&\"-\"&R76,工作表3!F$1:G$3332,2,0)","v":{"$error":"#N/A"}},"",{"$f":"VLOOKUP(J$9&L$9&\"-\"&T76,工作表3!F$1:G$3332,2,0)","v":{"$error":"#N/A"}},null,"木水","吉","凶","凶",null,null,null,null,null,null,null,"金木木","凶",76,"凶"]
[null,null,null,null,null,null,null,null,null,null,null,null,null,null,null,null,null,"",{"$f":"VLOOKUP(Name!J$8&Name!L$8&\"-\"&R77,工作表3!F$1:G$3332,2,0)","v":{"$error":"#N/A"}},"",{"$f":"VLOOKUP(J$9&L$9&\"-\"&T77,工作表3!F$1:G$3332,2,0)","v":{"$error":"#N/A"}},null,"火水","凶","凶","凶",null,null,null,null,null,null,null,"金木火","凶",77,"吉帶凶"]
[null,null,null,null,null,null,null,null,null,null,null,null,null,null,null,null,null,"",{"$f":"VLOOKUP(Name!J$8&Name!L$8&\"-\"&R78,工作表3!F$1:G$3332,2,0)","v":{"$error":"#N/A"}},"",{"$f":"VLOOKUP(J$9&L$9&\"-\"&T78,工作表3!F$1:G$3332,2,0)","v":{"$error":"#N/A"}},null,"土水","凶","凶","凶",null,null,null,null,null,null,null,"金木土","凶",78,"凶"]
[null,null,null,null,null,null,null,null,null,null,null,null,null,null,null,null,null,"",{"$f":"VLOOKUP(Name!J$8&Name!L$8&\"-\"&R79,工作表3!F$1:G$3332,2,0)","v":{"$error":"#N/A"}},"",{"$f":"VLOOKUP(J$9&L$9&\"-\"&T79,工作表3!F$1:G$3332,2,0)","v":{"$error":"#N/A"}},null,"金水","凶","凶","凶",null,null,null,null,null,null,null,"金木金","凶",79,"凶"]
[null,null,null,null,null,null,null,null,null,null,null,null,null,null,null,null,null,"",{"$f":"VLOOKUP(Name!J$8&Name!L$8&\"-\"&R80,工作表3!F$1:G$3332,2,0)","v":{"$error":"#N/A"}},"",{"$f":"VLOOKUP(J$9&L$9&\"-\"&T80,工作表3!F$1:G$3332,2,0)","v":{"$error":"#N/A"}},null,null,null,null,null,null,null,null,null,null,null,null,"金木水","凶",80,"吉帶凶"]
[null,null,null,null,null,null,null,null,null,null,null,null,null,null,null,null,null,"",{"$f":"VLOOKUP(Name!J$8&Name!L$8&\"-\"&R81,工作表3!F$1:G$3332,2,0)","v":{"$error":"#N/A"}},"",{"$f":"VLOOKUP(J$9&L$9&\"-\"&T81,工作表3!F$1:G$3332,2,0)","v":{"$error":"#N/A"}},null,null,null,null,null,null,null,null,null,null,null,null,"金火木","凶",81,{"$f":"AK1","v":"吉"}]
[null,null,null,null,null,null,null,null,null,null,null,null,null,null,null,null,null,"",{"$f":"VLOOKUP(Name!J$8&Name!L$8&\"-\"&R82,工作表3!F$1:G$3332,2,0)","v":{"$error":"#N/A"}},"",{"$f":"VLOOKUP(J$9&L$9&\"-\"&T82,工作表3!F$1:G$3332,2,0)","v":{"$error":"#N/A"}},null,null,null,null,null,null,null,null,null,null,null,null,"金火火","凶",82,{"$f":"AK2","v":"凶"}]
[null,null,null,null,null,null,null,null,null,null,null,null,null,null,null,null,null,"",{"$f":"VLOOKUP(Name!J$8&Name!L$8&\"-\"&R83,工作表3!F$1:G$3332,2,0)","v":{"$error":"#N/A"}},"",{"$f":"VLOOKUP(J$9&L$9&\"-\"&T83,工作表3!F$1:G$3332,2,0)","v":{"$error":"#N/A"}},null,null,null,null,null,null,null,null,null,null,null,null,"金火土","凶",83,"吉"]
[null,null,null,null,null,null,null,null,null,null,null,null,null,null,null,null,null,"",{"$f":"VLOOKUP(Name!J$8&Name!L$8&\"-\"&R84,工作表3!F$1:G$3332,2,0)","v":{"$error":"#N/A"}},"",{"$f":"VLOOKUP(J$9&L$9&\"-\"&T84,工作表3!F$1:G$3332,2,0)","v":{"$error":"#N/A"}},null,null,null,null,null,null,null,null,null,null,null,null,"金火金","凶",84,"凶"]
[null,null,null,null,null,null,null,null,null,null,null,null,null,null,null,null,null,"",{"$f":"VLOOKUP(Name!J$8&Name!L$8&\"-\"&R85,工作表3!F$1:G$3332,2,0)","v":{"$error":"#N/A"}},"",{"$f":"VLOOKUP(J$9&L$9&\"-\"&T85,工作表3!F$1:G$3332,2,0)","v":{"$error":"#N/A"}},null,null,null,null,null,null,null,null,null,null,null,null,"金火水","凶",85,"吉"]
[null,null,null,null,null,null,null,null,null,null,null,null,null,null,null,null,null,"",{"$f":"VLOOKUP(Name!J$8&Name!L$8&\"-\"&R86,工作表3!F$1:G$3332,2,0)","v":{"$error":"#N/A"}},"",{"$f":"VLOOKUP(J$9&L$9&\"-\"&T86,工作表3!F$1:G$3332,2,0)","v":{"$error":"#N/A"}},null,null,null,null,null,null,null,null,null,null,null,null,"金土木","凶",86,"吉"]
[null,null,null,null,null,null,null,null,null,null,null,null,null,null,null,null,null,"",{"$f":"VLOOKUP(Name!J$8&Name!L$8&\"-\"&R87,工作表3!F$1:G$3332,2,0)","v":{"$error":"#N/A"}},"",{"$f":"VLOOKUP(J$9&L$9&\"-\"&T87,工作表3!F$1:G$3332,2,0)","v":{"$error":"#N/A"}},null,null,null,null,null,null,null,null,null,null,null,null,"金土火","吉",87,"吉"]
[null,null,null,null,null,null,null,null,null,null,null,null,null,null,null,null,null,"",{"$f":"VLOOKUP(Name!J$8&Name!L$8&\"-\"&R88,工作表3!F$1:G$3332,2,0)","v":{"$error":"#N/A"}},"",{"$f":"VLOOKUP(J$9&L$9&\"-\"&T88,工作表3!F$1:G$3332,2,0)","v":{"$error":"#N/A"}},null,null,null,null,null,null,null,null,null,null,null,null,"金土土","吉",88,"吉"]
[null,null,null,null,null,null,null,null,null,null,null,null,null,null,null,null,null,"",{"$f":"VLOOKUP(Name!J$8&Name!L$8&\"-\"&R89,工作表3!F$1:G$3332,2,0)","v":{"$error":"#N/A"}},"",{"$f":"VLOOKUP(J$9&L$9&\"-\"&T89,工作表3!F$1:G$3332,2,0)","v":{"$error":"#N/A"}},null,null,null,null,null,null,null,null,null,null,null,null,"金土金","吉",89,"凶"]
[null,null,null,null,null,null,null,null,null,null,null,null,null,null,null,null,null,"",{"$f":"VLOOKUP(Name!J$8&Name!L$8&\"-\"&R90,工作表3!F$1:G$3332,2,0)","v":{"$error":"#N/A"}},"",{"$f":"VLOOKUP(J$9&L$9&\"-\"&T90,工作表3!F$1:G$3332,2,0)","v":{"$error":"#N/A"}},null,null,null,null,null,null,null,null,null,null,null,null,"金土水","凶",90,"凶"]
[null,null,null,null,null,null,null,null,null,null,null,null,null,null,null,null,null,"",{"$f":"VLOOKUP(Name!J$8&Name!L$8&\"-\"&R91,工作表3!F$1:G$3332,2,0)","v":{"$error":"#N/A"}},"",{"$f":"VLOOKUP(J$9&L$9&\"-\"&T91,工作表3!F$1:G$3332,2,0)","v":{"$error":"#N/A"}},null,null,null,null,null,null,null,null,null,null,null,null,"金金木","凶",91,"吉"]
[null,null,null,null,null,null,null,null,null,null,null,null,null,null,null,null,null,"",{"$f":"VLOOKUP(Name!J$8&Name!L$8&\"-\"&R92,工作表3!F$1:G$3332,2,0)","v":{"$error":"#N/A"}},"",{"$f":"VLOOKUP(J$9&L$9&\"-\"&T92,工作表3!F$1:G$3332,2,0)","v":{"$error":"#N/A"}},null,null,null,null,null,null,null,null,null,null,null,null,"金金火","凶",92,"凶"]
[null,null,null,null,null,null,null,null,null,null,null,null,null,null,null,null,null,"",{"$f":"VLOOKUP(Name!J$8&Name!L$8&\"-\"&R93,工作表3!F$1:G$3332,2,0)","v":{"$error":"#N/A"}},"",{"$f":"VLOOKUP(J$9&L$9&\"-\"&T93,工作表3!F$1:G$3332,2,0)","v":{"$error":"#N/A"}},null,null,null,null,null,null,null,null,null,null,null,null,"金金土","吉",93,"吉"]
[null,null,null,null,null,null,null,null,null,null,null,null,null,null,null,null,null,"",{"$f":"VLOOKUP(Name!J$8&Name!L$8&\"-\"&R94,工作表3!F$1:G$3332,2,0)","v":{"$error":"#N/A"}},"",{"$f":"VLOOKUP(J$9&L$9&\"-\"&T94,工作表3!F$1:G$3332,2,0)","v":{"$error":"#N/A"}},null,null,null,null,null,null,null,null,null,null,null,null,"金金金","凶",94,"凶"]
[null,null,null,null,null,null,null,null,null,null,null,null,null,null,null,null,null,"",{"$f":"VLOOKUP(Name!J$8&Name!L$8&\"-\"&R95,工作表3!F$1:G$3332,2,0)","v":{"$error":"#N/A"}},"",{"$f":"VLOOKUP(J$9&L$9&\"-\"&T95,工作表3!F$1:G$3332,2,0)","v":{"$error":"#N/A"}},null,null,null,null,null,null,null,null,null,null,null,null,"金金水","凶",95,"吉"]
[null,null,null,null,null,null,null,null,null,null,null,null,null,null,null,null,null,"",{"$f":"VLOOKUP(Name!J$8&Name!L$8&\"-\"&R96,工作表3!F$1:G$3332,2,0)","v":{"$error":"#N/A"}},"",{"$f":"VLOOKUP(J$9&L$9&\"-\"&T96,工作表3!F$1:G$3332,2,0)","v":{"$error":"#N/A"}},null,null,null,null,null,null,null,null,null,null,null,null,"金水木","凶",96,"吉"]
[null,null,null,null,null,null,null,null,null,null,null,null,null,null,null,null,null,"",{"$f":"VLOOKUP(Name!J$8&Name!L$8&\"-\"&R97,工作表3!F$1:G$3332,2,0)","v":{"$error":"#N/A"}},"",{"$f":"VLOOKUP(J$9&L$9&\"-\"&T97,工作表3!F$1:G$3332,2,0)","v":{"$error":"#N/A"}},null,null,null,null,null,null,null,null,null,null,null,null,"金水火","凶",97,"吉"]
[null,null,null,null,null,null,null,null,null,null,null,null,null,null,null,null,null,"",{"$f":"VLOOKUP(Name!J$8&Name!L$8&\"-\"&R98,工作表3!F$1:G$3332,2,0)","v":{"$error":"#N/A"}},"",{"$f":"VLOOKUP(J$9&L$9&\"-\"&T98,工作表3!F$1:G$3332,2,0)","v":{"$error":"#N/A"}},null,null,null,null,null,null,null,null,null,null,null,null,"金水土","凶",98,"吉"]
[null,null,null,null,null,null,null,null,null,null,null,null,null,null,null,null,null,"",{"$f":"VLOOKUP(Name!J$8&Name!L$8&\"-\"&R99,工作表3!F$1:G$3332,2,0)","v":{"$error":"#N/A"}},"",{"$f":"VLOOKUP(J$9&L$9&\"-\"&T99,工作表3!F$1:G$3332,2,0)","v":{"$error":"#N/A"}},null,null,null,null,null,null,null,null,null,null,null,null,"金水金","中吉",99,"凶"]
[null,null,null,null,null,null,null,null,null,null,null,null,null,null,null,null,null,"",{"$f":"VLOOKUP(Name!J$8&Name!L$8&\"-\"&R100,工作表3!F$1:G$3332,2,0)","v":{"$error":"#N/A"}},"",{"$f":"VLOOKUP(J$9&L$9&\"-\"&T100,工作表3!F$1:G$3332,2,0)","v":{"$error":"#N/A"}},null,null,null,null,null,null,null,null,null,null,null,null,"金水水","凶",100,"凶"]
[null,null,null,null,null,null,null,null,null,null,null,null,null,null,null,null,null,"",{"$f":"VLOOKUP(Name!J$8&Name!L$8&\"-\"&R101,工作表3!F$1:G$3332,2,0)","v":{"$error":"#N/A"}},"",{"$f":"VLOOKUP(J$9&L$9&\"-\"&T101,工作表3!F$1:G$3332,2,0)","v":{"$error":"#N/A"}},null,null,null,null,null,null,null,null,null,null,null,null,"水木木","吉",101,"吉"]
[null,null,null,null,null,null,null,null,null,null,null,null,null,null,null,null,null,"",{"$f":"VLOOKUP(Name!J$8&Name!L$8&\"-\"&R102,工作表3!F$1:G$3332,2,0)","v":{"$error":"#N/A"}},"",{"$f":"VLOOKUP(J$9&L$9&\"-\"&T102,工作表3!F$1:G$3332,2,0)","v":{"$error":"#N/A"}},null,null,null,null,null,null,null,null,null,null,null,null,"水木火","凶",102,"凶"]
[null,null,null,null,null,null,null,null,null,null,null,null,null,null,null,null,null,"",{"$f":"VLOOKUP(Name!J$8&Name!L$8&\"-\"&R103,工作表3!F$1:G$3332,2,0)","v":{"$error":"#N/A"}},"",{"$f":"VLOOKUP(J$9&L$9&\"-\"&T103,工作表3!F$1:G$3332,2,0)","v":{"$error":"#N/A"}},null,null,null,null,null,null,null,null,null,null,null,null,"水木土","吉",103,"吉"]
[null,null,null,null,null,null,null,null,null,null,null,null,null,null,null,null,null,"",{"$f":"VLOOKUP(Name!J$8&Name!L$8&\"-\"&R104,工作表3!F$1:G$3332,2,0)","v":{"$error":"#N/A"}},"",{"$f":"VLOOKUP(J$9&L$9&\"-\"&T104,工作表3!F$1:G$3332,2,0)","v":{"$error":"#N/A"}},null,null,null,null,null,null,null,null,null,null,null,null,"水木金","凶",104,"吉"]
[null,null,null,null,null,null,null,null,null,null,null,null,null,null,null,null,null,"",{"$f":"VLOOKUP(Name!J$8&Name!L$8&\"-\"&R105,工作表3!F$1:G$3332,2,0)","v":{"$error":"#N/A"}},"",{"$f":"VLOOKUP(J$9&L$9&\"-\"&T105,工作表3!F$1:G$3332,2,0)","v":{"$error":"#N/A"}},null,null,null,null,null,null,null,null,null,null,null,null,"水木水","凶",105,"吉"]
[null,null,null,null,null,null,null,null,null,null,null,null,null,null,null,null,null,"",{"$f":"VLOOKUP(Name!J$8&Name!L$8&\"-\"&R106,工作表3!F$1:G$3332,2,0)","v":{"$error":"#N/A"}},"",{"$f":"VLOOKUP(J$9&L$9&\"-\"&T106,工作表3!F$1:G$3332,2,0)","v":{"$error":"#N/A"}},null,null,null,null,null,null,null,null,null,null,null,null,"水火木","凶",106,"凶"]
[null,null,null,null,null,null,null,null,null,null,null,null,null,null,null,null,null,"",{"$f":"VLOOKUP(Name!J$8&Name!L$8&\"-\"&R107,工作表3!F$1:G$3332,2,0)","v":{"$error":"#N/A"}},"",{"$f":"VLOOKUP(J$9&L$9&\"-\"&T107,工作表3!F$1:G$3332,2,0)","v":{"$error":"#N/A"}},null,null,null,null,null,null,null,null,null,null,null,null,"水火火","凶",107,"吉帶凶"]
[null,null,null,null,null,null,null,null,null,null,null,null,null,null,null,null,null,"",{"$f":"VLOOKUP(Name!J$8&Name!L$8&\"-\"&R108,工作表3!F$1:G$3332,2,0)","v":{"$error":"#N/A"}},"",{"$f":"VLOOKUP(J$9&L$9&\"-\"&T108,工作表3!F$1:G$3332,2,0)","v":{"$error":"#N/A"}},null,null,null,null,null,null,null,null,null,null,null,null,"水火土","凶",108,"凶"]
[null,null,null,null,null,null,null,null,null,null,null,null,null,null,null,null,null,"",{"$f":"VLOOKUP(Name!J$8&Name!L$8&\"-\"&R109,工作表3!F$1:G$3332,2,0)","v":{"$error":"#N/A"}},"",{"$f":"VLOOKUP(J$9&L$9&\"-\"&T109,工作表3!F$1:G$3332,2,0)","v":{"$error":"#N/A"}},null,null,null,null,null,null,null,null,null,null,null,null,"水火金","凶",109,"吉"]
[null,null,null,null,null,null,null,null,null,null,null,null,null,null,null,null,null,"",{"$f":"VLOOKUP(Name!J$8&Name!L$8&\"-\"&R110,工作表3!F$1:G$3332,2,0)","v":{"$error":"#N/A"}},"",{"$f":"VLOOKUP(J$9&L$9&\"-\"&T110,工作表3!F$1:G$3332,2,0)","v":{"$error":"#N/A"}},null,null,null,null,null,null,null,null,null,null,null,null,"水火水","凶",110,"吉帶凶"]
[null,null,null,null,null,null,null,null,null,null,null,null,null,null,null,null,null,"",{"$f":"VLOOKUP(Name!J$8&Name!L$8&\"-\"&R111,工作表3!F$1:G$3332,2,0)","v":{"$error":"#N/A"}},"",{"$f":"VLOOKUP(J$9&L$9&\"-\"&T111,工作表3!F$1:G$3332,2,0)","v":{"$error":"#N/A"}},null,null,null,null,null,null,null,null,null,null,null,null,"水土木","凶",111,"吉"]
[null,null,null,null,null,null,null,null,null,null,null,null,null,null,null,null,null,"",{"$f":"VLOOKUP(Name!J$8&Name!L$8&\"-\"&R112,工作表3!F$1:G$3332,2,0)","v":{"$error":"#N/A"}},"",{"$f":"VLOOKUP(J$9&L$9&\"-\"&T112,工作表3!F$1:G$3332,2,0)","v":{"$error":"#N/A"}},null,null,null,null,null,null,null,null,null,null,null,null,"水土火","凶",112,"吉帶凶"]
[null,null,null,null,null,null,null,null,null,null,null,null,null,null,null,null,null,"",{"$f":"VLOOKUP(Name!J$8&Name!L$8&\"-\"&R113,工作表3!F$1:G$3332,2,0)","v":{"$error":"#N/A"}},"",{"$f":"VLOOKUP(J$9&L$9&\"-\"&T113,工作表3!F$1:G$3332,2,0)","v":{"$error":"#N/A"}},null,null,null,null,null,null,null,null,null,null,null,null,"水土土","吉",113,"吉"]
[null,null,null,null,null,null,null,null,null,null,null,null,null,null,null,null,null,"",{"$f":"VLOOKUP(Name!J$8&Name!L$8&\"-\"&R114,工作表3!F$1:G$3332,2,0)","v":{"$error":"#N/A"}},"",{"$f":"VLOOKUP(J$9&L$9&\"-\"&T114,工作表3!F$1:G$3332,2,0)","v":{"$error":"#N/A"}},null,null,null,null,null,null,null,null,null,null,null,null,"水土金","中吉",114,"吉"]
[null,null,null,null,null,null,null,null,null,null,null,null,null,null,null,null,null,"",{"$f":"VLOOKUP(Name!J$8&Name!L$8&\"-\"&R115,工作表3!F$1:G$3332,2,0)","v":{"$error":"#N/A"}},"",{"$f":"VLOOKUP(J$9&L$9&\"-\"&T115,工作表3!F$1:G$3332,2,0)","v":{"$error":"#N/A"}},null,null,null,null,null,null,null,null,null,null,null,null,"水土水","凶",115,"吉"]
[null,null,null,null,null,null,null,null,null,null,null,null,null,null,null,null,null,"",{"$f":"VLOOKUP(Name!J$8&Name!L$8&\"-\"&R116,工作表3!F$1:G$3332,2,0)","v":{"$error":"#N/A"}},"",{"$f":"VLOOKUP(J$9&L$9&\"-\"&T116,工作表3!F$1:G$3332,2,0)","v":{"$error":"#N/A"}},null,null,null,null,null,null,null,null,null,null,null,null,"水金木","凶",116,"凶"]
[null,null,null,null,null,null,null,null,null,null,null,null,null,null,null,null,null,"",{"$f":"VLOOKUP(Name!J$8&Name!L$8&\"-\"&R117,工作表3!F$1:G$3332,2,0)","v":{"$error":"#N/A"}},"",{"$f":"VLOOKUP(J$9&L$9&\"-\"&T117,工作表3!F$1:G$3332,2,0)","v":{"$error":"#N/A"}},null,null,null,null,null,null,null,null,null,null,null,null,"水金火","凶",117,"吉"]
[null,null,null,null,null,null,null,null,null,null,null,null,null,null,null,null,null,"",{"$f":"VLOOKUP(Name!J$8&Name!L$8&\"-\"&R118,工作表3!F$1:G$3332,2,0)","v":{"$error":"#N/A"}},"",{"$f":"VLOOKUP(J$9&L$9&\"-\"&T118,工作表3!F$1:G$3332,2,0)","v":{"$error":"#N/A"}},null,null,null,null,null,null,null,null,null,null,null,null,"水金土","吉",118,"吉帶凶"]
[null,null,null,null,null,null,null,null,null,null,null,null,null,null,null,null,null,"",{"$f":"VLOOKUP(Name!J$8&Name!L$8&\"-\"&R119,工作表3!F$1:G$3332,2,0)","v":{"$error":"#N/A"}},"",{"$f":"VLOOKUP(J$9&L$9&\"-\"&T119,工作表3!F$1:G$3332,2,0)","v":{"$error":"#N/A"}},null,null,null,null,null,null,null,null,null,null,null,null,"水金金","吉",119,"吉"]
[null,null,null,null,null,null,null,null,null,null,null,null,null,null,null,null,null,"",{"$f":"VLOOKUP(Name!J$8&Name!L$8&\"-\"&R120,工作表3!F$1:G$3332,2,0)","v":{"$error":"#N/A"}},"",{"$f":"VLOOKUP(J$9&L$9&\"-\"&T120,工作表3!F$1:G$3332,2,0)","v":{"$error":"#N/A"}},null,null,null,null,null,null,null,null,null,null,null,null,"水金水","凶",120,"吉帶凶"]
[null,null,null,null,null,null,null,null,null,null,null,null,null,null,null,null,null,"",{"$f":"VLOOKUP(Name!J$8&Name!L$8&\"-\"&R121,工作表3!F$1:G$3332,2,0)","v":{"$error":"#N/A"}},"",{"$f":"VLOOKUP(J$9&L$9&\"-\"&T121,工作表3!F$1:G$3332,2,0)","v":{"$error":"#N/A"}},null,null,null,null,null,null,null,null,null,null,null,null,"水水木","凶",121,"吉"]
[null,null,null,null,null,null,null,null,null,null,null,null,null,null,null,null,null,"",{"$f":"VLOOKUP(Name!J$8&Name!L$8&\"-\"&R122,工作表3!F$1:G$3332,2,0)","v":{"$error":"#N/A"}},"",{"$f":"VLOOKUP(J$9&L$9&\"-\"&T122,工作表3!F$1:G$3332,2,0)","v":{"$error":"#N/A"}},null,null,null,null,null,null,null,null,null,null,null,null,"水水火","凶",122,"吉帶凶"]
[null,null,null,null,null,null,null,null,null,null,null,null,null,null,null,null,null,"",{"$f":"VLOOKUP(Name!J$8&Name!L$8&\"-\"&R123,工作表3!F$1:G$3332,2,0)","v":{"$error":"#N/A"}},"",{"$f":"VLOOKUP(J$9&L$9&\"-\"&T123,工作表3!F$1:G$3332,2,0)","v":{"$error":"#N/A"}},null,null,null,null,null,null,null,null,null,null,null,null,"水水土","凶",123,"吉帶凶"]
[null,null,null,null,null,null,null,null,null,null,null,null,null,null,null,null,null,"",{"$f":"VLOOKUP(Name!J$8&Name!L$8&\"-\"&R124,工作表3!F$1:G$3332,2,0)","v":{"$error":"#N/A"}},"",{"$f":"VLOOKUP(J$9&L$9&\"-\"&T124,工作表3!F$1:G$3332,2,0)","v":{"$error":"#N/A"}},null,null,null,null,null,null,null,null,null,null,null,null,"水水金","凶",124,"凶"]
[null,null,null,null,null,null,null,null,null,null,null,null,null,null,null,null,null,"",{"$f":"VLOOKUP(Name!J$8&Name!L$8&\"-\"&R125,工作表3!F$1:G$3332,2,0)","v":{"$error":"#N/A"}},"",{"$f":"VLOOKUP(J$9&L$9&\"-\"&T125,工作表3!F$1:G$3332,2,0)","v":{"$error":"#N/A"}},null,null,null,null,null,null,null,null,null,null,null,null,"水水水","凶",125,"吉"]
[null,null,null,null,null,null,null,null,null,null,null,null,null,null,null,null,null,"",{"$f":"VLOOKUP(Name!J$8&Name!L$8&\"-\"&R126,工作表3!F$1:G$3332,2,0)","v":{"$error":"#N/A"}},"",{"$f":"VLOOKUP(J$9&L$9&\"-\"&T126,工作表3!F$1:G$3332,2,0)","v":{"$error":"#N/A"}}]
[null,null,null,null,null,null,null,null,null,null,null,null,null,null,null,null,null,"",{"$f":"VLOOKUP(Name!J$8&Name!L$8&\"-\"&R127,工作表3!F$1:G$3332,2,0)","v":{"$error":"#N/A"}},"",{"$f":"VLOOKUP(J$9&L$9&\"-\"&T127,工作表3!F$1:G$3332,2,0)","v":{"$error":"#N/A"}}]
[null,null,null,null,null,null,null,null,null,null,null,null,null,null,null,null,null,"",{"$f":"VLOOKUP(Name!J$8&Name!L$8&\"-\"&R128,工作表3!F$1:G$3332,2,0)","v":{"$error":"#N/A"}},"",{"$f":"VLOOKUP(J$9&L$9&\"-\"&T128,工作表3!F$1:G$3332,2,0)","v":{"$error":"#N/A"}}]
[null,null,null,null,null,null,null,null,null,null,null,null,null,null,null,null,null,"",{"$f":"VLOOKUP(Name!J$8&Name!L$8&\"-\"&R129,工作表3!F$1:G$3332,2,0)","v":{"$error":"#N/A"}},"",{"$f":"VLOOKUP(J$9&L$9&\"-\"&T129,工作表3!F$1:G$3332,2,0)","v":{"$error":"#N/A"}}]
[null,null,null,null,null,null,null,null,null,null,null,null,null,null,null,null,null,"",{"$f":"VLOOKUP(Name!J$8&Name!L$8&\"-\"&R130,工作表3!F$1:G$3332,2,0)","v":{"$error":"#N/A"}},"",{"$f":"VLOOKUP(J$9&L$9&\"-\"&T130,工作表3!F$1:G$3332,2,0)","v":{"$error":"#N/A"}}]
[null,null,null,null,null,null,null,null,null,null,null,null,null,null,null,null,null,{"$f":"IF(R130<R$1,R130+1,\"\")","v":""},{"$f":"VLOOKUP(Name!J$8&Name!L$8&\"-\"&R131,工作表3!F$1:G$3332,2,0)","v":{"$error":"#N/A"}},{"$f":"IF(T130<T$1,T130+1,\"\")","v":""},{"$f":"VLOOKUP(J$9&L$9&\"-\"&T131,工作表3!F$1:G$3332,2,0)","v":{"$error":"#N/A"}}]
[null,null,null,null,null,null,null,null,null,null,null,null,null,null,null,null,null,"",{"$f":"VLOOKUP(Name!J$8&Name!L$8&\"-\"&R132,工作表3!F$1:G$3332,2,0)","v":{"$error":"#N/A"}},"",{"$f":"VLOOKUP(J$9&L$9&\"-\"&T132,工作表3!F$1:G$3332,2,0)","v":{"$error":"#N/A"}}]
[null,null,null,null,null,null,null,null,null,null,null,null,null,null,null,null,null,"",{"$f":"VLOOKUP(Name!J$8&Name!L$8&\"-\"&R133,工作表3!F$1:G$3332,2,0)","v":{"$error":"#N/A"}},"",{"$f":"VLOOKUP(J$9&L$9&\"-\"&T133,工作表3!F$1:G$3332,2,0)","v":{"$error":"#N/A"}}]
[null,null,null,null,null,null,null,null,null,null,null,null,null,null,null,null,null,"",{"$f":"VLOOKUP(Name!J$8&Name!L$8&\"-\"&R134,工作表3!F$1:G$3332,2,0)","v":{"$error":"#N/A"}},"",{"$f":"VLOOKUP(J$9&L$9&\"-\"&T134,工作表3!F$1:G$3332,2,0)","v":{"$error":"#N/A"}}]
[null,null,null,null,null,null,null,null,null,null,null,null,null,null,null,null,null,"",{"$f":"VLOOKUP(Name!J$8&Name!L$8&\"-\"&R135,工作表3!F$1:G$3332,2,0)","v":{"$error":"#N/A"}},"",{"$f":"VLOOKUP(J$9&L$9&\"-\"&T135,工作表3!F$1:G$3332,2,0)","v":{"$error":"#N/A"}}]
[null,null,null,null,null,null,null,null,null,null,null,null,null,null,null,null,null,"",{"$f":"VLOOKUP(Name!J$8&Name!L$8&\"-\"&R136,工作表3!F$1:G$3332,2,0)","v":{"$error":"#N/A"}},"",{"$f":"VLOOKUP(J$9&L$9&\"-\"&T136,工作表3!F$1:G$3332,2,0)","v":{"$error":"#N/A"}}]
[null,null,null,null,null,null,null,null,null,null,null,null,null,null,null,null,null,"",{"$f":"VLOOKUP(Name!J$8&Name!L$8&\"-\"&R137,工作表3!F$1:G$3332,2,0)","v":{"$error":"#N/A"}},"",{"$f":"VLOOKUP(J$9&L$9&\"-\"&T137,工作表3!F$1:G$3332,2,0)","v":{"$error":"#N/A"}}]
[null,null,null,null,null,null,null,null,null,null,null,null,null,null,null,null,null,"",{"$f":"VLOOKUP(Name!J$8&Name!L$8&\"-\"&R138,工作表3!F$1:G$3332,2,0)","v":{"$error":"#N/A"}},"",{"$f":"VLOOKUP(J$9&L$9&\"-\"&T138,工作表3!F$1:G$3332,2,0)","v":{"$error":"#N/A"}}]
[null,null,null,null,null,null,null,null,null,null,null,null,null,null,null,null,null,"",{"$f":"VLOOKUP(Name!J$8&Name!L$8&\"-\"&R139,工作表3!F$1:G$3332,2,0)","v":{"$error":"#N/A"}},"",{"$f":"VLOOKUP(J$9&L$9&\"-\"&T139,工作表3!F$1:G$3332,2,0)","v":{"$error":"#N/A"}}]
[null,null,null,null,null,null,null,null,null,null,null,null,null,null,null,null,null,"",{"$f":"VLOOKUP(Name!J$8&Name!L$8&\"-\"&R140,工作表3!F$1:G$3332,2,0)","v":{"$error":"#N/A"}},"",{"$f":"VLOOKUP(J$9&L$9&\"-\"&T140,工作表3!F$1:G$3332,2,0)","v":{"$error":"#N/A"}}]
[null,null,null,null,null,null,null,null,null,null,null,null,null,null,null,null,null,"",{"$f":"VLOOKUP(Name!J$8&Name!L$8&\"-\"&R141,工作表3!F$1:G$3332,2,0)","v":{"$error":"#N/A"}},"",{"$f":"VLOOKUP(J$9&L$9&\"-\"&T141,工作表3!F$1:G$3332,2,0)","v":{"$error":"#N/A"}}]
[null,null,null,null,null,null,null,null,null,null,null,null,null,null,null,null,null,"",{"$f":"VLOOKUP(Name!J$8&Name!L$8&\"-\"&R142,工作表3!F$1:G$3332,2,0)","v":{"$error":"#N/A"}},"",{"$f":"VLOOKUP(J$9&L$9&\"-\"&T142,工作表3!F$1:G$3332,2,0)","v":{"$error":"#N/A"}}]
[null,null,null,null,null,null,null,null,null,null,null,null,null,null,null,null,null,"",{"$f":"VLOOKUP(Name!J$8&Name!L$8&\"-\"&R143,工作表3!F$1:G$3332,2,0)","v":{"$error":"#N/A"}},"",{"$f":"VLOOKUP(J$9&L$9&\"-\"&T143,工作表3!F$1:G$3332,2,0)","v":{"$error":"#N/A"}}]
[null,null,null,null,null,null,null,null,null,null,null,null,null,null,null,null,null,"",{"$f":"VLOOKUP(Name!J$8&Name!L$8&\"-\"&R144,工作表3!F$1:G$3332,2,0)","v":{"$error":"#N/A"}},"",{"$f":"VLOOKUP(J$9&L$9&\"-\"&T144,工作表3!F$1:G$3332,2,0)","v":{"$error":"#N/A"}}]
[null,null,null,null,null,null,null,null,null,null,null,null,null,null,null,null,null,"",{"$f":"VLOOKUP(Name!J$8&Name!L$8&\"-\"&R145,工作表3!F$1:G$3332,2,0)","v":{"$error":"#N/A"}},"",{"$f":"VLOOKUP(J$9&L$9&\"-\"&T145,工作表3!F$1:G$3332,2,0)","v":{"$error":"#N/A"}}]
[null,null,null,null,null,null,null,null,null,null,null,null,null,null,null,null,null,"",{"$f":"VLOOKUP(Name!J$8&Name!L$8&\"-\"&R146,工作表3!F$1:G$3332,2,0)","v":{"$error":"#N/A"}},"",{"$f":"VLOOKUP(J$9&L$9&\"-\"&T146,工作表3!F$1:G$3332,2,0)","v":{"$error":"#N/A"}}]
[null,null,null,null,null,null,null,null,null,null,null,null,null,null,null,null,null,"",{"$f":"VLOOKUP(Name!J$8&Name!L$8&\"-\"&R147,工作表3!F$1:G$3332,2,0)","v":{"$error":"#N/A"}},"",{"$f":"VLOOKUP(J$9&L$9&\"-\"&T147,工作表3!F$1:G$3332,2,0)","v":{"$error":"#N/A"}}]
[null,null,null,null,null,null,null,null,null,null,null,null,null,null,null,null,null,"",{"$f":"VLOOKUP(Name!J$8&Name!L$8&\"-\"&R148,工作表3!F$1:G$3332,2,0)","v":{"$error":"#N/A"}},"",{"$f":"VLOOKUP(J$9&L$9&\"-\"&T148,工作表3!F$1:G$3332,2,0)","v":{"$error":"#N/A"}}]
[null,null,null,null,null,null,null,null,null,null,null,null,null,null,null,null,null,"",{"$f":"VLOOKUP(Name!J$8&Name!L$8&\"-\"&R149,工作表3!F$1:G$3332,2,0)","v":{"$error":"#N/A"}},"",{"$f":"VLOOKUP(J$9&L$9&\"-\"&T149,工作表3!F$1:G$3332,2,0)","v":{"$error":"#N/A"}}]
[null,null,null,null,null,null,null,null,null,null,null,null,null,null,null,null,null,"",{"$f":"VLOOKUP(Name!J$8&Name!L$8&\"-\"&R150,工作表3!F$1:G$3332,2,0)","v":{"$error":"#N/A"}},"",{"$f":"VLOOKUP(J$9&L$9&\"-\"&T150,工作表3!F$1:G$3332,2,0)","v":{"$error":"#N/A"}}]
[null,null,null,null,null,null,null,null,null,null,null,null,null,null,null,null,null,"",{"$f":"VLOOKUP(Name!J$8&Name!L$8&\"-\"&R151,工作表3!F$1:G$3332,2,0)","v":{"$error":"#N/A"}},"",{"$f":"VLOOKUP(J$9&L$9&\"-\"&T151,工作表3!F$1:G$3332,2,0)","v":{"$error":"#N/A"}}]
[null,null,null,null,null,null,null,null,null,null,null,null,null,null,null,null,null,"",{"$f":"VLOOKUP(Name!J$8&Name!L$8&\"-\"&R152,工作表3!F$1:G$3332,2,0)","v":{"$error":"#N/A"}},"",{"$f":"VLOOKUP(J$9&L$9&\"-\"&T152,工作表3!F$1:G$3332,2,0)","v":{"$error":"#N/A"}}]
[null,null,null,null,null,null,null,null,null,null,null,null,null,null,null,null,null,"",{"$f":"VLOOKUP(Name!J$8&Name!L$8&\"-\"&R153,工作表3!F$1:G$3332,2,0)","v":{"$error":"#N/A"}},"",{"$f":"VLOOKUP(J$9&L$9&\"-\"&T153,工作表3!F$1:G$3332,2,0)","v":{"$error":"#N/A"}}]
[null,null,null,null,null,null,null,null,null,null,null,null,null,null,null,null,null,"",{"$f":"VLOOKUP(Name!J$8&Name!L$8&\"-\"&R154,工作表3!F$1:G$3332,2,0)","v":{"$error":"#N/A"}},"",{"$f":"VLOOKUP(J$9&L$9&\"-\"&T154,工作表3!F$1:G$3332,2,0)","v":{"$error":"#N/A"}}]
[null,null,null,null,null,null,null,null,null,null,null,null,null,null,null,null,null,"",{"$f":"VLOOKUP(Name!J$8&Name!L$8&\"-\"&R155,工作表3!F$1:G$3332,2,0)","v":{"$error":"#N/A"}},"",{"$f":"VLOOKUP(J$9&L$9&\"-\"&T155,工作表3!F$1:G$3332,2,0)","v":{"$error":"#N/A"}}]
[null,null,null,null,null,null,null,null,null,null,null,null,null,null,null,null,null,"",{"$f":"VLOOKUP(Name!J$8&Name!L$8&\"-\"&R156,工作表3!F$1:G$3332,2,0)","v":{"$error":"#N/A"}},"",{"$f":"VLOOKUP(J$9&L$9&\"-\"&T156,工作表3!F$1:G$3332,2,0)","v":{"$error":"#N/A"}}]
[null,null,null,null,null,null,null,null,null,null,null,null,null,null,null,null,null,"",{"$f":"VLOOKUP(Name!J$8&Name!L$8&\"-\"&R157,工作表3!F$1:G$3332,2,0)","v":{"$error":"#N/A"}},"",{"$f":"VLOOKUP(J$9&L$9&\"-\"&T157,工作表3!F$1:G$3332,2,0)","v":{"$error":"#N/A"}}]
[null,null,null,null,null,null,null,null,null,null,null,null,null,null,null,null,null,"",{"$f":"VLOOKUP(Name!J$8&Name!L$8&\"-\"&R158,工作表3!F$1:G$3332,2,0)","v":{"$error":"#N/A"}},"",{"$f":"VLOOKUP(J$9&L$9&\"-\"&T158,工作表3!F$1:G$3332,2,0)","v":{"$error":"#N/A"}}]
[null,null,null,null,null,null,null,null,null,null,null,null,null,null,null,null,null,"",{"$f":"VLOOKUP(Name!J$8&Name!L$8&\"-\"&R159,工作表3!F$1:G$3332,2,0)","v":{"$error":"#N/A"}},"",{"$f":"VLOOKUP(J$9&L$9&\"-\"&T159,工作表3!F$1:G$3332,2,0)","v":{"$error":"#N/A"}}]
[null,null,null,null,null,null,null,null,null,null,null,null,null,null,null,null,null,"",{"$f":"VLOOKUP(Name!J$8&Name!L$8&\"-\"&R160,工作表3!F$1:G$3332,2,0)","v":{"$error":"#N/A"}},"",{"$f":"VLOOKUP(J$9&L$9&\"-\"&T160,工作表3!F$1:G$3332,2,0)","v":{"$error":"#N/A"}}]
[null,null,null,null,null,null,null,null,null,null,null,null,null,null,null,null,null,"",{"$f":"VLOOKUP(Name!J$8&Name!L$8&\"-\"&R161,工作表3!F$1:G$3332,2,0)","v":{"$error":"#N/A"}},"",{"$f":"VLOOKUP(J$9&L$9&\"-\"&T161,工作表3!F$1:G$3332,2,0)","v":{"$error":"#N/A"}}]
[null,null,null,null,null,null,null,null,null,null,null,null,null,null,null,null,null,"",{"$f":"VLOOKUP(Name!J$8&Name!L$8&\"-\"&R162,工作表3!F$1:G$3332,2,0)","v":{"$error":"#N/A"}},"",{"$f":"VLOOKUP(J$9&L$9&\"-\"&T162,工作表3!F$1:G$3332,2,0)","v":{"$error":"#N/A"}}]
[null,null,null,null,null,null,null,null,null,null,null,null,null,null,null,null,null,"",{"$f":"VLOOKUP(Name!J$8&Name!L$8&\"-\"&R163,工作表3!F$1:G$3332,2,0)","v":{"$error":"#N/A"}},"",{"$f":"VLOOKUP(J$9&L$9&\"-\"&T163,工作表3!F$1:G$3332,2,0)","v":{"$error":"#N/A"}}]
[null,null,null,null,null,null,null,null,null,null,null,null,null,null,null,null,null,"",{"$f":"VLOOKUP(Name!J$8&Name!L$8&\"-\"&R164,工作表3!F$1:G$3332,2,0)","v":{"$error":"#N/A"}},"",{"$f":"VLOOKUP(J$9&L$9&\"-\"&T164,工作表3!F$1:G$3332,2,0)","v":{"$error":"#N/A"}}]
[null,null,null,null,null,null,null,null,null,null,null,null,null,null,null,null,null,"",{"$f":"VLOOKUP(Name!J$8&Name!L$8&\"-\"&R165,工作表3!F$1:G$3332,2,0)","v":{"$error":"#N/A"}},"",{"$f":"VLOOKUP(J$9&L$9&\"-\"&T165,工作表3!F$1:G$3332,2,0)","v":{"$error":"#N/A"}}]
[null,null,null,null,null,null,null,null,null,null,null,null,null,null,null,null,null,"",{"$f":"VLOOKUP(Name!J$8&Name!L$8&\"-\"&R166,工作表3!F$1:G$3332,2,0)","v":{"$error":"#N/A"}},"",{"$f":"VLOOKUP(J$9&L$9&\"-\"&T166,工作表3!F$1:G$3332,2,0)","v":{"$error":"#N/A"}}]
[null,null,null,null,null,null,null,null,null,null,null,null,null,null,null,null,null,"",{"$f":"VLOOKUP(Name!J$8&Name!L$8&\"-\"&R167,工作表3!F$1:G$3332,2,0)","v":{"$error":"#N/A"}},"",{"$f":"VLOOKUP(J$9&L$9&\"-\"&T167,工作表3!F$1:G$3332,2,0)","v":{"$error":"#N/A"}}]
[null,null,null,null,null,null,null,null,null,null,null,null,null,null,null,null,null,"",{"$f":"VLOOKUP(Name!J$8&Name!L$8&\"-\"&R168,工作表3!F$1:G$3332,2,0)","v":{"$error":"#N/A"}},"",{"$f":"VLOOKUP(J$9&L$9&\"-\"&T168,工作表3!F$1:G$3332,2,0)","v":{"$error":"#N/A"}}]
[null,null,null,null,null,null,null,null,null,null,null,null,null,null,null,null,null,"",{"$f":"VLOOKUP(Name!J$8&Name!L$8&\"-\"&R169,工作表3!F$1:G$3332,2,0)","v":{"$error":"#N/A"}},"",{"$f":"VLOOKUP(J$9&L$9&\"-\"&T169,工作表3!F$1:G$3332,2,0)","v":{"$error":"#N/A"}}]
[null,null,null,null,null,null,null,null,null,null,null,null,null,null,null,null,null,"",{"$f":"VLOOKUP(Name!J$8&Name!L$8&\"-\"&R170,工作表3!F$1:G$3332,2,0)","v":{"$error":"#N/A"}},"",{"$f":"VLOOKUP(J$9&L$9&\"-\"&T170,工作表3!F$1:G$3332,2,0)","v":{"$error":"#N/A"}}]
[null,null,null,null,null,null,null,null,null,null,null,null,null,null,null,null,null,"",{"$f":"VLOOKUP(Name!J$8&Name!L$8&\"-\"&R171,工作表3!F$1:G$3332,2,0)","v":{"$error":"#N/A"}},"",{"$f":"VLOOKUP(J$9&L$9&\"-\"&T171,工作表3!F$1:G$3332,2,0)","v":{"$error":"#N/A"}}]
[null,null,null,null,null,null,null,null,null,null,null,null,null,null,null,null,null,"",{"$f":"VLOOKUP(Name!J$8&Name!L$8&\"-\"&R172,工作表3!F$1:G$3332,2,0)","v":{"$error":"#N/A"}},"",{"$f":"VLOOKUP(J$9&L$9&\"-\"&T172,工作表3!F$1:G$3332,2,0)","v":{"$error":"#N/A"}}]
[null,null,null,null,null,null,null,null,null,null,null,null,null,null,null,null,null,"",{"$f":"VLOOKUP(Name!J$8&Name!L$8&\"-\"&R173,工作表3!F$1:G$3332,2,0)","v":{"$error":"#N/A"}},"",{"$f":"VLOOKUP(J$9&L$9&\"-\"&T173,工作表3!F$1:G$3332,2,0)","v":{"$error":"#N/A"}}]
[null,null,null,null,null,null,null,null,null,null,null,null,null,null,null,null,null,"",{"$f":"VLOOKUP(Name!J$8&Name!L$8&\"-\"&R174,工作表3!F$1:G$3332,2,0)","v":{"$error":"#N/A"}},"",{"$f":"VLOOKUP(J$9&L$9&\"-\"&T174,工作表3!F$1:G$3332,2,0)","v":{"$error":"#N/A"}}]
[null,null,null,null,null,null,null,null,null,null,null,null,null,null,null,null,null,"",{"$f":"VLOOKUP(Name!J$8&Name!L$8&\"-\"&R175,工作表3!F$1:G$3332,2,0)","v":{"$error":"#N/A"}},"",{"$f":"VLOOKUP(J$9&L$9&\"-\"&T175,工作表3!F$1:G$3332,2,0)","v":{"$error":"#N/A"}}]
[null,null,null,null,null,null,null,null,null,null,null,null,null,null,null,null,null,"",{"$f":"VLOOKUP(Name!J$8&Name!L$8&\"-\"&R176,工作表3!F$1:G$3332,2,0)","v":{"$error":"#N/A"}},"",{"$f":"VLOOKUP(J$9&L$9&\"-\"&T176,工作表3!F$1:G$3332,2,0)","v":{"$error":"#N/A"}}]
[null,null,null,null,null,null,null,null,null,null,null,null,null,null,null,null,null,"",{"$f":"VLOOKUP(Name!J$8&Name!L$8&\"-\"&R177,工作表3!F$1:G$3332,2,0)","v":{"$error":"#N/A"}},"",{"$f":"VLOOKUP(J$9&L$9&\"-\"&T177,工作表3!F$1:G$3332,2,0)","v":{"$error":"#N/A"}}]
[null,null,null,null,null,null,null,null,null,null,null,null,null,null,null,null,null,"",{"$f":"VLOOKUP(Name!J$8&Name!L$8&\"-\"&R178,工作表3!F$1:G$3332,2,0)","v":{"$error":"#N/A"}},"",{"$f":"VLOOKUP(J$9&L$9&\"-\"&T178,工作表3!F$1:G$3332,2,0)","v":{"$error":"#N/A"}}]
[null,null,null,null,null,null,null,null,null,null,null,null,null,null,null,null,null,"",{"$f":"VLOOKUP(Name!J$8&Name!L$8&\"-\"&R179,工作表3!F$1:G$3332,2,0)","v":{"$error":"#N/A"}},"",{"$f":"VLOOKUP(J$9&L$9&\"-\"&T179,工作表3!F$1:G$3332,2,0)","v":{"$error":"#N/A"}}]
[null,null,null,null,null,null,null,null,null,null,null,null,null,null,null,null,null,"",{"$f":"VLOOKUP(Name!J$8&Name!L$8&\"-\"&R180,工作表3!F$1:G$3332,2,0)","v":{"$error":"#N/A"}},"",{"$f":"VLOOKUP(J$9&L$9&\"-\"&T180,工作表3!F$1:G$3332,2,0)","v":{"$error":"#N/A"}}]
[null,null,null,null,null,null,null,null,null,null,null,null,null,null,null,null,null,"",{"$f":"VLOOKUP(Name!J$8&Name!L$8&\"-\"&R181,工作表3!F$1:G$3332,2,0)","v":{"$error":"#N/A"}},"",{"$f":"VLOOKUP(J$9&L$9&\"-\"&T181,工作表3!F$1:G$3332,2,0)","v":{"$error":"#N/A"}}]
[null,null,null,null,null,null,null,null,null,null,null,null,null,null,null,null,null,"",{"$f":"VLOOKUP(Name!J$8&Name!L$8&\"-\"&R182,工作表3!F$1:G$3332,2,0)","v":{"$error":"#N/A"}},"",{"$f":"VLOOKUP(J$9&L$9&\"-\"&T182,工作表3!F$1:G$3332,2,0)","v":{"$error":"#N/A"}}]
[null,null,null,null,null,null,null,null,null,null,null,null,null,null,null,null,null,"",{"$f":"VLOOKUP(Name!J$8&Name!L$8&\"-\"&R183,工作表3!F$1:G$3332,2,0)","v":{"$error":"#N/A"}},"",{"$f":"VLOOKUP(J$9&L$9&\"-\"&T183,工作表3!F$1:G$3332,2,0)","v":{"$error":"#N/A"}}]
[null,null,null,null,null,null,null,null,null,null,null,null,null,null,null,null,null,"",{"$f":"VLOOKUP(Name!J$8&Name!L$8&\"-\"&R184,工作表3!F$1:G$3332,2,0)","v":{"$error":"#N/A"}},"",{"$f":"VLOOKUP(J$9&L$9&\"-\"&T184,工作表3!F$1:G$3332,2,0)","v":{"$error":"#N/A"}}]
[null,null,null,null,null,null,null,null,null,null,null,null,null,null,null,null,null,"",{"$f":"VLOOKUP(Name!J$8&Name!L$8&\"-\"&R185,工作表3!F$1:G$3332,2,0)","v":{"$error":"#N/A"}},"",{"$f":"VLOOKUP(J$9&L$9&\"-\"&T185,工作表3!F$1:G$3332,2,0)","v":{"$error":"#N/A"}}]
[null,null,null,null,null,null,null,null,null,null,null,null,null,null,null,null,null,"",{"$f":"VLOOKUP(Name!J$8&Name!L$8&\"-\"&R186,工作表3!F$1:G$3332,2,0)","v":{"$error":"#N/A"}},"",{"$f":"VLOOKUP(J$9&L$9&\"-\"&T186,工作表3!F$1:G$3332,2,0)","v":{"$error":"#N/A"}}]
[null,null,null,null,null,null,null,null,null,null,null,null,null,null,null,null,null,"",{"$f":"VLOOKUP(Name!J$8&Name!L$8&\"-\"&R187,工作表3!F$1:G$3332,2,0)","v":{"$error":"#N/A"}},"",{"$f":"VLOOKUP(J$9&L$9&\"-\"&T187,工作表3!F$1:G$3332,2,0)","v":{"$error":"#N/A"}}]
[null,null,null,null,null,null,null,null,null,null,null,null,null,null,null,null,null,"",{"$f":"VLOOKUP(Name!J$8&Name!L$8&\"-\"&R188,工作表3!F$1:G$3332,2,0)","v":{"$error":"#N/A"}},"",{"$f":"VLOOKUP(J$9&L$9&\"-\"&T188,工作表3!F$1:G$3332,2,0)","v":{"$error":"#N/A"}}]
[null,null,null,null,null,null,null,null,null,null,null,null,null,null,null,null,null,"",{"$f":"VLOOKUP(Name!J$8&Name!L$8&\"-\"&R189,工作表3!F$1:G$3332,2,0)","v":{"$error":"#N/A"}},"",{"$f":"VLOOKUP(J$9&L$9&\"-\"&T189,工作表3!F$1:G$3332,2,0)","v":{"$error":"#N/A"}}]
[null,null,null,null,null,null,null,null,null,null,null,null,null,null,null,null,null,"",{"$f":"VLOOKUP(Name!J$8&Name!L$8&\"-\"&R190,工作表3!F$1:G$3332,2,0)","v":{"$error":"#N/A"}},"",{"$f":"VLOOKUP(J$9&L$9&\"-\"&T190,工作表3!F$1:G$3332,2,0)","v":{"$error":"#N/A"}}]
[null,null,null,null,null,null,null,null,null,null,null,null,null,null,null,null,null,"",{"$f":"VLOOKUP(Name!J$8&Name!L$8&\"-\"&R191,工作表3!F$1:G$3332,2,0)","v":{"$error":"#N/A"}},"",{"$f":"VLOOKUP(J$9&L$9&\"-\"&T191,工作表3!F$1:G$3332,2,0)","v":{"$error":"#N/A"}}]
[null,null,null,null,null,null,null,null,null,null,null,null,null,null,null,null,null,"",{"$f":"VLOOKUP(Name!J$8&Name!L$8&\"-\"&R192,工作表3!F$1:G$3332,2,0)","v":{"$error":"#N/A"}},"",{"$f":"VLOOKUP(J$9&L$9&\"-\"&T192,工作表3!F$1:G$3332,2,0)","v":{"$error":"#N/A"}}]
[null,null,null,null,null,null,null,null,null,null,null,null,null,null,null,null,null,"",{"$f":"VLOOKUP(Name!J$8&Name!L$8&\"-\"&R193,工作表3!F$1:G$3332,2,0)","v":{"$error":"#N/A"}},"",{"$f":"VLOOKUP(J$9&L$9&\"-\"&T193,工作表3!F$1:G$3332,2,0)","v":{"$error":"#N/A"}}]
[null,null,null,null,null,null,null,null,null,null,null,null,null,null,null,null,null,"",{"$f":"VLOOKUP(Name!J$8&Name!L$8&\"-\"&R194,工作表3!F$1:G$3332,2,0)","v":{"$error":"#N/A"}},"",{"$f":"VLOOKUP(J$9&L$9&\"-\"&T194,工作表3!F$1:G$3332,2,0)","v":{"$error":"#N/A"}}]
[null,null,null,null,null,null,null,null,null,null,null,null,null,null,null,null,null,{"$f":"IF(R194<R$1,R194+1,\"\")","v":""},{"$f":"VLOOKUP(Name!J$8&Name!L$8&\"-\"&R195,工作表3!F$1:G$3332,2,0)","v":{"$error":"#N/A"}},{"$f":"IF(T194<T$1,T194+1,\"\")","v":""},{"$f":"VLOOKUP(J$9&L$9&\"-\"&T195,工作表3!F$1:G$3332,2,0)","v":{"$error":"#N/A"}}]
[null,null,null,null,null,null,null,null,null,null,null,null,null,null,null,null,null,"",{"$f":"VLOOKUP(Name!J$8&Name!L$8&\"-\"&R196,工作表3!F$1:G$3332,2,0)","v":{"$error":"#N/A"}},"",{"$f":"VLOOKUP(J$9&L$9&\"-\"&T196,工作表3!F$1:G$3332,2,0)","v":{"$error":"#N/A"}}]
[null,null,null,null,null,null,null,null,null,null,null,null,null,null,null,null,null,"",{"$f":"VLOOKUP(Name!J$8&Name!L$8&\"-\"&R197,工作表3!F$1:G$3332,2,0)","v":{"$error":"#N/A"}},"",{"$f":"VLOOKUP(J$9&L$9&\"-\"&T197,工作表3!F$1:G$3332,2,0)","v":{"$error":"#N/A"}}]
[null,null,null,null,null,null,null,null,null,null,null,null,null,null,null,null,null,"",{"$f":"VLOOKUP(Name!J$8&Name!L$8&\"-\"&R198,工作表3!F$1:G$3332,2,0)","v":{"$error":"#N/A"}},"",{"$f":"VLOOKUP(J$9&L$9&\"-\"&T198,工作表3!F$1:G$3332,2,0)","v":{"$error":"#N/A"}}]
[null,null,null,null,null,null,null,null,null,null,null,null,null,null,null,null,null,"",{"$f":"VLOOKUP(Name!J$8&Name!L$8&\"-\"&R199,工作表3!F$1:G$3332,2,0)","v":{"$error":"#N/A"}},"",{"$f":"VLOOKUP(J$9&L$9&\"-\"&T199,工作表3!F$1:G$3332,2,0)","v":{"$error":"#N/A"}}]
[null,null,null,null,null,null,null,null,null,null,null,null,null,null,null,null,null,"",{"$f":"VLOOKUP(Name!J$8&Name!L$8&\"-\"&R200,工作表3!F$1:G$3332,2,0)","v":{"$error":"#N/A"}},"",{"$f":"VLOOKUP(J$9&L$9&\"-\"&T200,工作表3!F$1:G$3332,2,0)","v":{"$error":"#N/A"}}]
[null,null,null,null,null,null,null,null,null,null,null,null,null,null,null,null,null,"",{"$f":"VLOOKUP(Name!J$8&Name!L$8&\"-\"&R201,工作表3!F$1:G$3332,2,0)","v":{"$error":"#N/A"}},"",{"$f":"VLOOKUP(J$9&L$9&\"-\"&T201,工作表3!F$1:G$3332,2,0)","v":{"$error":"#N/A"}}]
[null,null,null,null,null,null,null,null,null,null,null,null,null,null,null,null,null,"",{"$f":"VLOOKUP(Name!J$8&Name!L$8&\"-\"&R202,工作表3!F$1:G$3332,2,0)","v":{"$error":"#N/A"}},"",{"$f":"VLOOKUP(J$9&L$9&\"-\"&T202,工作表3!F$1:G$3332,2,0)","v":{"$error":"#N/A"}}]
[null,null,null,null,null,null,null,null,null,null,null,null,null,null,null,null,null,"",{"$f":"VLOOKUP(Name!J$8&Name!L$8&\"-\"&R203,工作表3!F$1:G$3332,2,0)","v":{"$error":"#N/A"}},"",{"$f":"VLOOKUP(J$9&L$9&\"-\"&T203,工作表3!F$1:G$3332,2,0)","v":{"$error":"#N/A"}}]

{"sheet":"工作表3","index":4,"n_rows":2945,"n_cols":9,"rows_kept":2945,"cut":false,"hidden":true,"merged":[]}
[{"$f":"C1&D1","v":"土29"},"鬱","土",29,{"$f":"H1&I1","v":"木28"},{"$f":"E1&\"-\"&COUNTIF(E$1:E1,E1)","v":"木28-1"},"戇","木",28]
[{"$f":"C2&D2","v":"火26"},"酈","火",26,{"$f":"H2&I2","v":"火27"},{"$f":"E2&\"-\"&COUNTIF(E$1:E2,E2)","v":"火27-1"},"灤","火",27]
["土25","酆","土",25,"金27",{"$f":"E3&\"-\"&COUNTIF(E$1:E3,E3)","v":"金27-1"},"鑽","金",27]
["木25","觀","木",25,"火27",{"$f":"E4&\"-\"&COUNTIF(E$1:E4,E4)","v":"火27-2"},"鑾","火",27]
["火24","鱣","火",24,"火27",{"$f":"E5&\"-\"&COUNTIF(E$1:E5,E5)","v":"火27-3"},"鑼","火",27]
["水23","顯","水",23,"火27",{"$f":"E6&\"-\"&COUNTIF(E$1:E6,E6)","v":"火27-4"},"纜","火",27]
["火23","欒","火",23,"火27",{"$f":"E7&\"-\"&COUNTIF(E$1:E7,E7)","v":"火27-5"},"骧","火",27]
["金22","龔","金",22,"金26",{"$f":"E8&\"-\"&COUNTIF(E$1:E8,E8)","v":"金26-1"},"讚","金",26]
["土22","鬻","土",22,"金26",{"$f":"E9&\"-\"&COUNTIF(E$1:E9,E9)","v":"金26-2"},"驥","金",26]
[{"$f":"C10&D10","v":"水22"},"邊","水",22,"火26",{"$f":"E10&\"-\"&COUNTIF(E$1:E10,E10)","v":"火26-1"},"欎","火",26]
["金22","襲","金",22,"火26",{"$f":"E11&\"-\"&COUNTIF(E$1:E11,E11)","v":"火26-2"},"酈","火",26]
["金22","蠨","金",22,"火26",{"$f":"E12&\"-\"&COUNTIF(E$1:E12,E12)","v":"火26-3"},"邏","火",26]
["火22","蘆","火",22,"土26",{"$f":"E13&\"-\"&COUNTIF(E$1:E13,E13)","v":"土26-1"},"灣","土",26]
["火22","藺","火",22,"金25",{"$f":"E14&\"-\"&COUNTIF(E$1:E14,E14)","v":"金25-1"},"纘","金",25]
["金22","蘇","金",22,"木25",{"$f":"E15&\"-\"&COUNTIF(E$1:E15,E15)","v":"木25-1"},"灝","木",25]
["水22","穰","水",22,"水25",{"$f":"E16&\"-\"&COUNTIF(E$1:E16,E16)","v":"水25-1"},"灞","水",25]
["木22","權","木",22,"木25",{"$f":"E17&\"-\"&COUNTIF(E$1:E17,E17)","v":"木25-2"},"瓛","木",25]
["土22","懿","土",22,"土25",{"$f":"E18&\"-\"&COUNTIF(E$1:E18,E18)","v":"土25-1"},"糶","土",25]
["火22","囊","火",22,"水25",{"$f":"E19&\"-\"&COUNTIF(E$1:E19,E19)","v":"水25-2"},"釁","水",25]
["金21","饒","金",21,"水25",{"$f":"E20&\"-\"&COUNTIF(E$1:E20,E20)","v":"水25-3"},"黌","水",25]
["木21","顧","木",21,"土25",{"$f":"E21&\"-\"&COUNTIF(E$1:E21,E21)","v":"土25-2"},"靉","土",25]
["水21","藩","水",21,"水25",{"$f":"E22&\"-\"&COUNTIF(E$1:E22,E22)","v":"水25-4"},"蠻","水",25]
["金21","續","金",21,"金25",{"$f":"E23&\"-\"&COUNTIF(E$1:E23,E23)","v":"金25-2"},"龣","金",25]
["金20","黥","金",20,"木25",{"$f":"E24&\"-\"&COUNTIF(E$1:E24,E24)","v":"木25-3"},"觀","木",25]
["火20","黨","火",20,"水25",{"$f":"E25&\"-\"&COUNTIF(E$1:E25,E25)","v":"水25-5"},"羈","水",25]
["金20","騫","金",20,"火24",{"$f":"E26&\"-\"&COUNTIF(E$1:E26,E26)","v":"火24-1"},"籬","火",24]
["木20","闞","木",20,"水24",{"$f":"E27&\"-\"&COUNTIF(E$1:E27,E27)","v":"水24-1"},"靆","水",24]
["金20","鐘","金",20,"木24",{"$f":"E28&\"-\"&COUNTIF(E$1:E28,E28)","v":"木24-1"},"靄","木",24]
["木20","鄶","木",20,"土24",{"$f":"E29&\"-\"&COUNTIF(E$1:E29,E29)","v":"土24-1"},"鹽","土",24]
["金20","觸","金",20,"木24",{"$f":"E30&\"-\"&COUNTIF(E$1:E30,E30)","v":"木24-2"},"鸂","木",24]
["火20","藍","火",20,"火24",{"$f":"E31&\"-\"&COUNTIF(E$1:E31,E31)","v":"火24-2"},"鷺","火",24]
["金20","薩","金",20,"火24",{"$f":"E32&\"-\"&COUNTIF(E$1:E32,E32)","v":"火24-3"},"靂","火",24]
["火20","羅","火",20,"火24",{"$f":"E33&\"-\"&COUNTIF(E$1:E33,E33)","v":"火24-4"},"靈","火",24]
["火20","籍","火",20,"木24",{"$f":"E34&\"-\"&COUNTIF(E$1:E34,E34)","v":"木24-3"},"釀","木",24]
["火20","竇","火",20,"木24",{"$f":"E35&\"-\"&COUNTIF(E$1:E35,E35)","v":"木24-4"},"罐","木",24]
["水20","獻","水",20,"土24",{"$f":"E36&\"-\"&COUNTIF(E$1:E36,E36)","v":"土24-2"},"艷","土",24]
["水20","懷","水",20,"金24",{"$f":"E37&\"-\"&COUNTIF(E$1:E37,E37)","v":"金24-1"},"鑫","金",24]
["木20","夔","木",20,"火24",{"$f":"E38&\"-\"&COUNTIF(E$1:E38,E38)","v":"火24-5"},"讓","火",24]
["金20","壤","金",20,"木24",{"$f":"E39&\"-\"&COUNTIF(E$1:E39,E39)","v":"木24-5"},"蠶","木",24]
["木20","嚴","木",20,"木24",{"$f":"E40&\"-\"&COUNTIF(E$1:E40,E40)","v":"木24-6"},"鷹","木",24]
["水19","龐","水",19,"木24",{"$f":"E41&\"-\"&COUNTIF(E$1:E41,E41)","v":"木24-7"},"攪","木",24]
["金19","麴","金",19,"木24",{"$f":"E42&\"-\"&COUNTIF(E$1:E42,E42)","v":"木24-8"},"贛","木",24]
["火19","難","火",19,"金23",{"$f":"E43&\"-\"&COUNTIF(E$1:E43,E43)","v":"金23-1"},"黴","金",23]
["木19","關","木",19,"水23",{"$f":"E44&\"-\"&COUNTIF(E$1:E44,E44)","v":"水23-1"},"囏","水",23]
["火19","鄧","火",19,"火23",{"$f":"E45&\"-\"&COUNTIF(E$1:E45,E45)","v":"火23-1"},"鳞","火",23]
["火19","鄭","火",19,"金23",{"$f":"E46&\"-\"&COUNTIF(E$1:E46,E46)","v":"金23-2"},"鱖","金",23]
["金19","遲","金",19,"土23",{"$f":"E47&\"-\"&COUNTIF(E$1:E47,E47)","v":"土23-1"},"纓","土",23]
["金19","譙","金",19,"水23",{"$f":"E48&\"-\"&COUNTIF(E$1:E48,E48)","v":"水23-2"},"顯","水",23]
["火19","譚","火",19,"木23",{"$f":"E49&\"-\"&COUNTIF(E$1:E49,E49)","v":"木23-1"},"驗","木",23]
["火19","薊","火",19,"火23",{"$f":"E50&\"-\"&COUNTIF(E$1:E50,E50)","v":"火23-2"},"麟","火",23]
["水19","薄","水",19,"金23",{"$f":"E51&\"-\"&COUNTIF(E$1:E51,E51)","v":"金23-3"},"籤","金",23]
["金19","薛","金",19,"火23",{"$f":"E52&\"-\"&COUNTIF(E$1:E52,E52)","v":"火23-3"},"戀","火",23]
["金19","蕭","金",19,"火23",{"$f":"E53&\"-\"&COUNTIF(E$1:E53,E53)","v":"火23-4"},"體","火",23]
["金18","骐","金",18,"木23",{"$f":"E54&\"-\"&COUNTIF(E$1:E54,E54)","v":"木23-2"},"驛","木",23]
["金18","顓","金",18,"土23",{"$f":"E55&\"-\"&COUNTIF(E$1:E55,E55)","v":"土23-2"},"變","土",23]
["木18","顔","木",18,"火23",{"$f":"E56&\"-\"&COUNTIF(E$1:E56,E56)","v":"火23-5"},"欒","火",23]
["金18","雙","金",18,"火23",{"$f":"E57&\"-\"&COUNTIF(E$1:E57,E57)","v":"火23-6"},"鑠","火",23]
["土18","隗","土",18,"木23",{"$f":"E58&\"-\"&COUNTIF(E$1:E58,E58)","v":"木23-3"},"鑛","木",23]
["木18","闕","木",18,"火23",{"$f":"E59&\"-\"&COUNTIF(E$1:E59,E59)","v":"火23-7"},"纏","火",23]
["金18","鄡","金",18,"火23",{"$f":"E60&\"-\"&COUNTIF(E$1:E60,E60)","v":"火23-8"},"蘭","火",23]
["土18","鄢","土",18,"水23",{"$f":"E61&\"-\"&COUNTIF(E$1:E61,E61)","v":"水23-3"},"覉","水",23]
["火18","鄟","火",18,"火23",{"$f":"E62&\"-\"&COUNTIF(E$1:E62,E62)","v":"火23-9"},"鑣","火",23]
["水18","豐","水",18,"木23",{"$f":"E63&\"-\"&COUNTIF(E$1:E63,E63)","v":"木23-4"},"巖","木",23]
["火18","嬌","火",18,"火23",{"$f":"E64&\"-\"&COUNTIF(E$1:E64,E64)","v":"火23-10"},"鑪","火",23]
["土18","蒍","土",18,"金23",{"$f":"E65&\"-\"&COUNTIF(E$1:E65,E65)","v":"金23-4"},"蠲","金",23]
["木18","魏","木",18,{"$f":"H66&I66","v":"火23"},{"$f":"E66&\"-\"&COUNTIF(E$1:E66,E66)","v":"火23-11"},"灑","火",23]
["火18","職","火",18,"金23",{"$f":"E67&\"-\"&COUNTIF(E$1:E67,E67)","v":"金23-5"},"攢","金",23]
["金18","聶","金",18,"金22",{"$f":"E68&\"-\"&COUNTIF(E$1:E68,E68)","v":"金22-1"},"癣","金",22]
["土18","翼","土",18,"木22",{"$f":"E69&\"-\"&COUNTIF(E$1:E69,E69)","v":"木22-1"},"儼","木",22]
["木18","繞","木",18,"火22",{"$f":"E70&\"-\"&COUNTIF(E$1:E70,E70)","v":"火22-1"},"贖","火",22]
["木18","簡","木",18,"火22",{"$f":"E71&\"-\"&COUNTIF(E$1:E71,E71)","v":"火22-2"},"顫","火",22]
["火18","禮","火",18,"火22",{"$f":"E72&\"-\"&COUNTIF(E$1:E72,E72)","v":"火22-3"},"龕","火",22]
["木18","瞿","木",18,"火22",{"$f":"E73&\"-\"&COUNTIF(E$1:E73,E73)","v":"火22-4"},"躒","火",22]
[{"$f":"C74&D74","v":"木18"},"環","木",18,"土22",{"$f":"E74&\"-\"&COUNTIF(E$1:E74,E74)","v":"土22-1"},"懿","土",22]
["木18","璩","木",18,"火22",{"$f":"E75&\"-\"&COUNTIF(E$1:E75,E75)","v":"火22-5"},"巔","火",22]
["水18","濮","水",18,"水22",{"$f":"E76&\"-\"&COUNTIF(E$1:E76,E76)","v":"水22-1"},"歡","水",22]
["火18","濯","火",18,"金22",{"$f":"E77&\"-\"&COUNTIF(E$1:E77,E77)","v":"金22-2"},"鑄","金",22]
["火18","濟","火",18,"火22",{"$f":"E78&\"-\"&COUNTIF(E$1:E78,E78)","v":"火22-6"},"聽","火",22]
["木18","歸","木",18,"火22",{"$f":"E79&\"-\"&COUNTIF(E$1:E79,E79)","v":"火22-7"},"霽","火",22]
["火18","戴","火",18,"金22",{"$f":"E80&\"-\"&COUNTIF(E$1:E80,E80)","v":"金22-3"},"鬚","金",22]
["火18","儲","火",18,"木22",{"$f":"E81&\"-\"&COUNTIF(E$1:E81,E81)","v":"木22-2"},"鸛","木",22]
["金17","鮮","金",17,"金22",{"$f":"E82&\"-\"&COUNTIF(E$1:E82,E82)","v":"金22-4"},"欉","金",22]
["水17","韓","水",17,"金22",{"$f":"E83&\"-\"&COUNTIF(E$1:E83,E83)","v":"金22-5"},"蘇","金",22]
["木17","鞠","木",17,"金22",{"$f":"E84&\"-\"&COUNTIF(E$1:E84,E84)","v":"金22-6"},"藷","金",22]
["火17","隆","火",17,"土22",{"$f":"E85&\"-\"&COUNTIF(E$1:E85,E85)","v":"土22-2"},"隱","土",22]
["金17","隋","金",17,"木22",{"$f":"E86&\"-\"&COUNTIF(E$1:E86,E86)","v":"木22-3"},"鑑","木",22]
["土17","陽","土",17,"火22",{"$f":"E87&\"-\"&COUNTIF(E$1:E87,E87)","v":"火22-8"},"攝","火",22]
["金17","鍾","金",17,"木22",{"$f":"E88&\"-\"&COUNTIF(E$1:E88,E88)","v":"木22-4"},"灌","木",22]
["土17","鄔","土",17,"土22",{"$f":"E89&\"-\"&COUNTIF(E$1:E89,E89)","v":"土22-3"},"瓔","土",22]
["金17","鄒","金",17,"火22",{"$f":"E90&\"-\"&COUNTIF(E$1:E90,E90)","v":"火22-9"},"讀","火",22]
["金17","蹇","金",17,"木22",{"$f":"E91&\"-\"&COUNTIF(E$1:E91,E91)","v":"木22-5"},"鑒","木",22]
["土17","輿","土",17,"水22",{"$f":"E92&\"-\"&COUNTIF(E$1:E92,E92)","v":"水22-2"},"鰻","水",22]
["金17","謝","金",17,"火22",{"$f":"E93&\"-\"&COUNTIF(E$1:E93,E93)","v":"火22-10"},"籠","火",22]
["土17","蔚","土",17,"火22",{"$f":"E94&\"-\"&COUNTIF(E$1:E94,E94)","v":"火22-11"},"疊","火",22]
["水17","慕","水",17,"木22",{"$f":"E95&\"-\"&COUNTIF(E$1:E95,E95)","v":"木22-6"},"龢","木",22]
["火17","蔣","火",17,"木22",{"$f":"E96&\"-\"&COUNTIF(E$1:E96,E96)","v":"木22-7"},"權","木",22]
["金17","蔡","金",17,"水22",{"$f":"E97&\"-\"&COUNTIF(E$1:E97,E97)","v":"水22-3"},"響","水",22]
["木17","舉","木",17,"水22",{"$f":"E98&\"-\"&COUNTIF(E$1:E98,E98)","v":"水22-4"},"穰","水",22]
["金17","聲","金",17,"水22",{"$f":"E99&\"-\"&COUNTIF(E$1:E99,E99)","v":"水22-5"},"驊","水",22]
["水17","繁","水",17,"金22",{"$f":"E100&\"-\"&COUNTIF(E$1:E100,E100)","v":"金22-7"},"襯","金",22]
["水17","繆","水",17,"木21",{"$f":"E101&\"-\"&COUNTIF(E$1:E101,E101)","v":"木21-1"},"囂","木",21]
["火17","糜","火",17,"火21",{"$f":"E102&\"-\"&COUNTIF(E$1:E102,E102)","v":"火21-1"},"齎","火",21]
["水17","蓬","水",17,"水21",{"$f":"E103&\"-\"&COUNTIF(E$1:E103,E103)","v":"水21-1"},"飜","水",21]
["金17","燭","金",17,"水21",{"$f":"E104&\"-\"&COUNTIF(E$1:E104,E104)","v":"水21-2"},"黯","水",21]
["土17","營","土",17,"土21",{"$f":"E105&\"-\"&COUNTIF(E$1:E105,E105)","v":"土21-1"},"櫻","土",21]
["水17","鴻","水",17,"土21",{"$f":"E106&\"-\"&COUNTIF(E$1:E106,E106)","v":"土21-2"},"鶯","土",21]
["火17","澹","火",17,"水21",{"$f":"E107&\"-\"&COUNTIF(E$1:E107,E107)","v":"水21-3"},"霸","水",21]
["火17","檀","火",17,"木21",{"$f":"E108&\"-\"&COUNTIF(E$1:E108,E108)","v":"木21-2"},"饒","木",21]
["土17","應","土",17,"水21",{"$f":"E109&\"-\"&COUNTIF(E$1:E109,E109)","v":"水21-4"},"辯","水",21]
["火17","彌","火",17,"火21",{"$f":"E110&\"-\"&COUNTIF(E$1:E110,E110)","v":"火21-2"},"鳎","火",21]
["土17","嬰","土",17,"火21",{"$f":"E111&\"-\"&COUNTIF(E$1:E111,E111)","v":"火21-3"},"饌","火",21]
["土17","優","土",17,"木21",{"$f":"E112&\"-\"&COUNTIF(E$1:E112,E112)","v":"木21-3"},"顥","木",21]
["火17","襄","火",17,"水21",{"$f":"E113&\"-\"&COUNTIF(E$1:E113,E113)","v":"水21-5"},"霹","水",21]
["火16","龍","火",16,"水21",{"$f":"E114&\"-\"&COUNTIF(E$1:E114,E114)","v":"水21-6"},"轟","水",21]
["火16","麋","火",16,"木21",{"$f":"E115&\"-\"&COUNTIF(E$1:E115,E115)","v":"木21-4"},"驅","木",21]
["水16","鮑","水",16,"土21",{"$f":"E116&\"-\"&COUNTIF(E$1:E116,E116)","v":"土21-3"},"躍","土",21]
["火16","駱","火",16,"火21",{"$f":"E117&\"-\"&COUNTIF(E$1:E117,E117)","v":"火21-4"},"蠟","火",21]
["火16","頹","火",16,"木21",{"$f":"E118&\"-\"&COUNTIF(E$1:E118,E118)","v":"木21-5"},"巍","木",21]
["木16","霍","木",16,"土21",{"$f":"E119&\"-\"&COUNTIF(E$1:E119,E119)","v":"土21-4"},"譽","土",21]
["土16","陰","土",16,"水21",{"$f":"E120&\"-\"&COUNTIF(E$1:E120,E120)","v":"水21-7"},"鹤","水",21]
["火16","陵","火",16,"火21",{"$f":"E121&\"-\"&COUNTIF(E$1:E121,E121)","v":"火21-5"},"覽","火",21]
["火16","陸","火",16,"土21",{"$f":"E122&\"-\"&COUNTIF(E$1:E122,E122)","v":"土21-5"},"蠡","土",21]
["火16","陶","火",16,"火21",{"$f":"E123&\"-\"&COUNTIF(E$1:E123,E123)","v":"火21-6"},"藤","火",21]
["火16","陳","火",16,"金21",{"$f":"E124&\"-\"&COUNTIF(E$1:E124,E124)","v":"金21-1"},"屬","金",21]
["土16","閻","土",16,"火21",{"$f":"E125&\"-\"&COUNTIF(E$1:E125,E125)","v":"火21-7"},"鐵","火",21]
["火16","錄","火",16,"火21",{"$f":"E126&\"-\"&COUNTIF(E$1:E126,E126)","v":"火21-8"},"躋","火",21]
["木16","錦","木",16,"金21",{"$f":"E127&\"-\"&COUNTIF(E$1:E127,E127)","v":"金21-2"},"鐸","金",21]
["金16","錫","金",16,"木21",{"$f":"E128&\"-\"&COUNTIF(E$1:E128,E128)","v":"木21-6"},"齦","木",21]
["金16","錢","金",16,"金21",{"$f":"E129&\"-\"&COUNTIF(E$1:E129,E129)","v":"金21-3"},"續","金",21]
["土16","鄆","土",16,{"$f":"H130&I130","v":"水21"},{"$f":"E130&\"-\"&COUNTIF(E$1:E130,E130)","v":"水21-8"},"護","水",21]
["火16","都","火",16,"木21",{"$f":"E131&\"-\"&COUNTIF(E$1:E131,E131)","v":"木21-7"},"顧","木",21]
["土16","郵","土",16,"金21",{"$f":"E132&\"-\"&COUNTIF(E$1:E132,E132)","v":"金21-4"},"鐫","金",21]
["土16","鄂","土",16,"土21",{"$f":"E133&\"-\"&COUNTIF(E$1:E133,E133)","v":"土21-6"},"趯","土",21]
["火16","遂","火",16,"火21",{"$f":"E134&\"-\"&COUNTIF(E$1:E134,E134)","v":"火21-9"},"瀾","火",21]
["木16","遇","木",16,"木21",{"$f":"E135&\"-\"&COUNTIF(E$1:E135,E135)","v":"木21-8"},"藝","木",21]
["木16","過","木",16,"金21",{"$f":"E136&\"-\"&COUNTIF(E$1:E136,E136)","v":"金21-5"},"隨","金",21]
["火16","賴","火",16,"土21",{"$f":"E137&\"-\"&COUNTIF(E$1:E137,E137)","v":"土21-7"},"藥","土",21]
[{"$f":"C138&D138","v":"水16"},"謀","水",16,"火20",{"$f":"E138&\"-\"&COUNTIF(E$1:E138,E138)","v":"火20-1"},"露","火",20]
["金16","諸","金",16,"木20",{"$f":"E139&\"-\"&COUNTIF(E$1:E139,E139)","v":"木20-1"},"鏹","木",20]
["水16","衡","水",16,"水20",{"$f":"E140&\"-\"&COUNTIF(E$1:E140,E140)","v":"水20-1"},"顢","水",20]
["土16","融","土",16,"金20",{"$f":"E141&\"-\"&COUNTIF(E$1:E141,E141)","v":"金20-1"},"籌","金",20]
["木16","蒯","木",16,"火20",{"$f":"E142&\"-\"&COUNTIF(E$1:E142,E142)","v":"火20-2"},"爐","火",20]
["金16","蒼","金",16,"火20",{"$f":"E143&\"-\"&COUNTIF(E$1:E143,E143)","v":"火20-3"},"豑","火",20]
["木16","蓋","木",16,"木20",{"$f":"E144&\"-\"&COUNTIF(E$1:E144,E144)","v":"木20-2"},"鐧","木",20]
["水16","蒲","水",16,"水20",{"$f":"E145&\"-\"&COUNTIF(E$1:E145,E145)","v":"水20-2"},"麵","水",20]
["水16","蒙","水",16,"火20",{"$f":"E146&\"-\"&COUNTIF(E$1:E146,E146)","v":"火20-4"},"竇","火",20]
["金16","羲","金",16,"木20",{"$f":"E147&\"-\"&COUNTIF(E$1:E147,E147)","v":"木20-3"},"競","木",20]
["水16","穆","水",16,"木20",{"$f":"E148&\"-\"&COUNTIF(E$1:E148,E148)","v":"木20-4"},"礦","木",20]
["火16","盧","火",16,"水20",{"$f":"E149&\"-\"&COUNTIF(E$1:E149,E149)","v":"水20-3"},"嚲","水",20]
["土16","甌","土",16,"木20",{"$f":"E150&\"-\"&COUNTIF(E$1:E150,E150)","v":"木20-5"},"闞","木",20]
["土16","燕","土",16,"火20",{"$f":"E151&\"-\"&COUNTIF(E$1:E151,E151)","v":"火20-5"},"黨","火",20]
["水16","潘","水",16,"木20",{"$f":"E152&\"-\"&COUNTIF(E$1:E152,E152)","v":"木20-6"},"犧","木",20]
["水16","橫","水",16,"金20",{"$f":"E153&\"-\"&COUNTIF(E$1:E153,E153)","v":"金20-2"},"觸","金",20]
["金16","橋","金",16,"火20",{"$f":"E154&\"-\"&COUNTIF(E$1:E154,E154)","v":"火20-6"},"朧","火",20]
["金16","樹","金",16,"水20",{"$f":"E155&\"-\"&COUNTIF(E$1:E155,E155)","v":"水20-4"},"飄","水",20]
["火16","曁","火",16,"火20",{"$f":"E156&\"-\"&COUNTIF(E$1:E156,E156)","v":"火20-7"},"壞","火",20]
["金16","戰","金",16,"火20",{"$f":"E157&\"-\"&COUNTIF(E$1:E157,E157)","v":"火20-8"},"闡","火",20]
["水16","憲","水",16,"木20",{"$f":"E158&\"-\"&COUNTIF(E$1:E158,E158)","v":"木20-7"},"譍","木",20]
["土16","贏","土",16,"火20",{"$f":"E159&\"-\"&COUNTIF(E$1:E159,E159)","v":"火20-9"},"籍","火",20]
["水16","奮","水",16,"水20",{"$f":"E160&\"-\"&COUNTIF(E$1:E160,E160)","v":"水20-5"},"礬","水",20]
["木16","噲","木",16,"水20",{"$f":"E161&\"-\"&COUNTIF(E$1:E161,E161)","v":"水20-6"},"懷","水",20]
["金16","冀","金",16,"木20",{"$f":"E162&\"-\"&COUNTIF(E$1:E162,E162)","v":"木20-8"},"舊","木",20]
["金16","儒","金",16,"水20",{"$f":"E163&\"-\"&COUNTIF(E$1:E163,E163)","v":"水20-7"},"薰","水",20]
["木15","駒","木",15,"水20",{"$f":"E164&\"-\"&COUNTIF(E$1:E164,E164)","v":"水20-8"},"還","水",20]
["金15","駟","金",15,"木20",{"$f":"E165&\"-\"&COUNTIF(E$1:E165,E165)","v":"木20-9"},"邀","木",20]
["土15","養","土",15,"火20",{"$f":"E166&\"-\"&COUNTIF(E$1:E166,E166)","v":"火20-10"},"獺","火",20]
["土15","潁","土",15,"木20",{"$f":"E167&\"-\"&COUNTIF(E$1:E167,E167)","v":"木20-10"},"嚴","木",20]
["木15","鞏","木",15,"火20",{"$f":"E168&\"-\"&COUNTIF(E$1:E168,E168)","v":"火20-11"},"礫","火",20]
["火15","閭","火",15,"火20",{"$f":"E169&\"-\"&COUNTIF(E$1:E169,E169)","v":"火20-12"},"贍","火",20]
["火15","郯","火",15,"木20",{"$f":"E170&\"-\"&COUNTIF(E$1:E170,E170)","v":"木20-11"},"艦","木",20]
["木15","郭","木",15,"火20",{"$f":"E171&\"-\"&COUNTIF(E$1:E171,E171)","v":"火20-13"},"鐙","火",20]
["火15","逯","火",15,"木20",{"$f":"E172&\"-\"&COUNTIF(E$1:E172,E172)","v":"木20-12"},"嚳","木",20]
["火15","談","火",15,"木20",{"$f":"E173&\"-\"&COUNTIF(E$1:E173,E173)","v":"木20-13"},"懸","木",20]
["火15","調","火",15,"金20",{"$f":"E174&\"-\"&COUNTIF(E$1:E174,E174)","v":"金20-3"},"譯","金",20]
["金15","賜","金",15,"木20",{"$f":"E175&\"-\"&COUNTIF(E$1:E175,E175)","v":"木20-14"},"警","木",20]
["火15","質","火",15,"火20",{"$f":"E176&\"-\"&COUNTIF(E$1:E176,E176)","v":"火20-14"},"籃","火",20]
["火15","豎","火",15,"火20",{"$f":"E177&\"-\"&COUNTIF(E$1:E177,E177)","v":"火20-15"},"騰","火",20]
["火15","褚","火",15,"金20",{"$f":"E178&\"-\"&COUNTIF(E$1:E178,E178)","v":"金20-4"},"繻","金",20]
["水15","褒","水",15,"木20",{"$f":"E179&\"-\"&COUNTIF(E$1:E179,E179)","v":"木20-15"},"覺","木",20]
["土15","衛","土",15,"水20",{"$f":"E180&\"-\"&COUNTIF(E$1:E180,E180)","v":"水20-9"},"獻","水",20]
["金15","興","金",15,"火20",{"$f":"E181&\"-\"&COUNTIF(E$1:E181,E181)","v":"火20-16"},"纂","火",20]
["土15","耦","土",15,"木20",{"$f":"E182&\"-\"&COUNTIF(E$1:E182,E182)","v":"木20-16"},"繼","木",20]
["水15","緡","水",15,"火20",{"$f":"E183&\"-\"&COUNTIF(E$1:E183,E183)","v":"火20-17"},"羅","火",20]
["水15","篇","水",15,"木20",{"$f":"E184&\"-\"&COUNTIF(E$1:E184,E184)","v":"木20-17"},"勸","木",20]
["木15","葵","木",15,"木20",{"$f":"E185&\"-\"&COUNTIF(E$1:E185,E185)","v":"木20-18"},"齣","木",20]
["土15","葉","土",15,"土20",{"$f":"E186&\"-\"&COUNTIF(E$1:E186,E186)","v":"土20-1"},"耀","土",20]
["火15","董","火",15,"金20",{"$f":"E187&\"-\"&COUNTIF(E$1:E187,E187)","v":"金20-5"},"馨","金",20]
["木15","葛","木",15,"木20",{"$f":"E188&\"-\"&COUNTIF(E$1:E188,E188)","v":"木20-19"},"議","木",20]
["水15","萬","水",15,"土20",{"$f":"E189&\"-\"&COUNTIF(E$1:E189,E189)","v":"土20-2"},"孆","土",20]
["火15","稷","火",15,"火20",{"$f":"E190&\"-\"&COUNTIF(E$1:E190,E190)","v":"火20-18"},"鐸","火",20]
["木15","稽","木",15,"火20",{"$f":"E191&\"-\"&COUNTIF(E$1:E191,E191)","v":"火20-19"},"齡","火",20]
["火15","稻","火",15,"金20",{"$f":"E192&\"-\"&COUNTIF(E$1:E192,E192)","v":"金20-6"},"鐘","金",20]
["火15","黎","火",15,"水20",{"$f":"E193&\"-\"&COUNTIF(E$1:E193,E193)","v":"水20-10"},"邁","水",20]
["土15","歐","土",15,{"$f":"H194&I194","v":"木20"},{"$f":"E194&\"-\"&COUNTIF(E$1:E194,E194)","v":"木20-20"},"瓊","木",20]
["金15","漕","金",15,"水20",{"$f":"E195&\"-\"&COUNTIF(E$1:E195,E195)","v":"水20-11"},"寶","水",20]
["土15","漁","土",15,"火20",{"$f":"E196&\"-\"&COUNTIF(E$1:E196,E196)","v":"火20-20"},"藏","火",20]
["水15","漢","水",15,"金20",{"$f":"E197&\"-\"&COUNTIF(E$1:E197,E197)","v":"金20-7"},"釋","金",20]
["水15","滿","水",15,"火19",{"$f":"E198&\"-\"&COUNTIF(E$1:E198,E198)","v":"火19-1"},"鏖","火",19]
["水15","樗","水",15,"金19",{"$f":"E199&\"-\"&COUNTIF(E$1:E199,E199)","v":"金19-1"},"繭","金",19]
["木15","概","木",15,"水19",{"$f":"E200&\"-\"&COUNTIF(E$1:E200,E200)","v":"水19-1"},"霪","水",19]
["火15","樓","火",15,"火19",{"$f":"E201&\"-\"&COUNTIF(E$1:E201,E201)","v":"火19-2"},"赢","火",19]
[{"$f":"C202&D202","v":"火15"},"樂","火",15,"水19",{"$f":"E202&\"-\"&COUNTIF(E$1:E202,E202)","v":"水19-2"},"羹","水",19]
["土15","樊","土",15,"金19",{"$f":"E203&\"-\"&COUNTIF(E$1:E203,E203)","v":"金19-2"},"鯫","金",19]
["水15","暴","水",15,"木19",{"$f":"E204&\"-\"&COUNTIF(E$1:E204,E204)","v":"木19-1"},"繫","木",19]
["火15","魯","火",15,"火19",{"$f":"E205&\"-\"&COUNTIF(E$1:E205,E205)","v":"火19-3"},"譔","火",19]
["火15","摯","火",15,"土19",{"$f":"E206&\"-\"&COUNTIF(E$1:E206,E206)","v":"土19-1"},"穩","土",19]
["火15","德","火",15,"水19",{"$f":"E207&\"-\"&COUNTIF(E$1:E207,E207)","v":"水19-3"},"嚮","水",19]
["火15","徵","火",15,"木19",{"$f":"E208&\"-\"&COUNTIF(E$1:E208,E208)","v":"木19-2"},"蠊","木",19]
["木15","慶","木",15,"火19",{"$f":"E209&\"-\"&COUNTIF(E$1:E209,E209)","v":"火19-4"},"繹","火",19]
["木15","廣","木",15,"金19",{"$f":"E210&\"-\"&COUNTIF(E$1:E210,E210)","v":"金19-3"},"鯖","金",19]
["金15","審","金",15,"水19",{"$f":"E211&\"-\"&COUNTIF(E$1:E211,E211)","v":"水19-4"},"穫","水",19]
["水15","奭","水",15,"水19",{"$f":"E212&\"-\"&COUNTIF(E$1:E212,E212)","v":"水19-5"},"繪","水",19]
["水15","墨","水",15,"金19",{"$f":"E213&\"-\"&COUNTIF(E$1:E213,E213)","v":"金19-4"},"繩","金",19]
["火15","厲","火",15,"火19",{"$f":"E214&\"-\"&COUNTIF(E$1:E214,E214)","v":"火19-5"},"類","火",19]
["火15","劉","火",15,"木19",{"$f":"E215&\"-\"&COUNTIF(E$1:E215,E215)","v":"木19-3"},"舋","木",19]
["木15","儀","木",15,"木19",{"$f":"E216&\"-\"&COUNTIF(E$1:E216,E216)","v":"木19-4"},"蟹","木",19]
["火15","儋","火",15,"水19",{"$f":"E217&\"-\"&COUNTIF(E$1:E217,E217)","v":"水19-6"},"麓","水",19]
["水14","鳳","水",14,"火19",{"$f":"E218&\"-\"&COUNTIF(E$1:E218,E218)","v":"火19-6"},"齏","火",19]
["火14","翟","火",14,"木19",{"$f":"E219&\"-\"&COUNTIF(E$1:E219,E219)","v":"木19-5"},"蟻","木",19]
["水14","聞","水",14,"金19",{"$f":"E220&\"-\"&COUNTIF(E$1:E220,E220)","v":"金19-5"},"辭","金",19]
["水14","閩","水",14,"土19",{"$f":"E221&\"-\"&COUNTIF(E$1:E221,E221)","v":"土19-2"},"韻","土",19]
["水14","郤","水",14,"金19",{"$f":"E222&\"-\"&COUNTIF(E$1:E222,E222)","v":"金19-6"},"識","金",19]
["金14","郗","金",14,"木19",{"$f":"E223&\"-\"&COUNTIF(E$1:E223,E223)","v":"木19-6"},"願","木",19]
["木14","郜","木",14,"金19",{"$f":"E224&\"-\"&COUNTIF(E$1:E224,E224)","v":"金19-7"},"鵲","金",19]
["金14","郕","金",14,"火19",{"$f":"E225&\"-\"&COUNTIF(E$1:E225,E225)","v":"火19-7"},"麗","火",19]
["木14","郟","木",14,"木19",{"$f":"E226&\"-\"&COUNTIF(E$1:E226,E226)","v":"木19-7"},"擷","木",19]
["水14","郝","水",14,"金19",{"$f":"E227&\"-\"&COUNTIF(E$1:E227,E227)","v":"金19-8"},"疇","金",19]
["火14","郎","火",14,"木19",{"$f":"E228&\"-\"&COUNTIF(E$1:E228,E228)","v":"木19-8"},"遺","木",19]
["火14","通","火",14,"水19",{"$f":"E229&\"-\"&COUNTIF(E$1:E229,E229)","v":"水19-7"},"薄","水",19]
["金14","造","金",14,"金19",{"$f":"E230&\"-\"&COUNTIF(E$1:E230,E230)","v":"金19-9"},"遵","金",19]
["火14","連","火",14,"火19",{"$f":"E231&\"-\"&COUNTIF(E$1:E231,E231)","v":"火19-8"},"際","火",19]
["火14","滕","火",14,"水19",{"$f":"E232&\"-\"&COUNTIF(E$1:E232,E232)","v":"水19-8"},"薇","水",19]
["土14","源","土",14,"木19",{"$f":"E233&\"-\"&COUNTIF(E$1:E233,E233)","v":"木19-9"},"穨","木",19]
["木14","肇","木",14,"火19",{"$f":"E234&\"-\"&COUNTIF(E$1:E234,E234)","v":"火19-9"},"證","火",19]
["水14","裴","水",14,"火19",{"$f":"E235&\"-\"&COUNTIF(E$1:E235,E235)","v":"火19-10"},"贈","火",19]
["水14","綿","水",14,"水19",{"$f":"E236&\"-\"&COUNTIF(E$1:E236,E236)","v":"水19-9"},"霧","水",19]
["木14","箕","木",14,"水19",{"$f":"E237&\"-\"&COUNTIF(E$1:E237,E237)","v":"水19-10"},"鵬","水",19]
["木14","管","木",14,"水19",{"$f":"E238&\"-\"&COUNTIF(E$1:E238,E238)","v":"水19-11"},"嚭","水",19]
["火14","種","火",14,"火19",{"$f":"E239&\"-\"&COUNTIF(E$1:E239,E239)","v":"火19-11"},"轍","火",19]
["水14","熊","水",14,"火19",{"$f":"E240&\"-\"&COUNTIF(E$1:E240,E240)","v":"火19-12"},"璽","火",19]
["木14","彄","木",14,"水19",{"$f":"E241&\"-\"&COUNTIF(E$1:E241,E241)","v":"水19-12"},"靡","水",19]
["火14","嫘","火",14,"水19",{"$f":"E242&\"-\"&COUNTIF(E$1:E242,E242)","v":"水19-13"},"譜","水",19]
["金14","僖","金",14,"木19",{"$f":"E243&\"-\"&COUNTIF(E$1:E243,E243)","v":"木19-10"},"鯨","木",19]
["木14","僑","木",14,"金19",{"$f":"E244&\"-\"&COUNTIF(E$1:E244,E244)","v":"金19-10"},"鏘","金",19]
["木14","僚","木",14,"金19",{"$f":"E245&\"-\"&COUNTIF(E$1:E245,E245)","v":"金19-11"},"簽","金",19]
["土14","瑕","土",14,"土19",{"$f":"E246&\"-\"&COUNTIF(E$1:E246,E246)","v":"土19-3"},"嬿","土",19]
["土14","搖","土",14,"金19",{"$f":"E247&\"-\"&COUNTIF(E$1:E247,E247)","v":"金19-12"},"禱","金",19]
["木14","赫","木",14,"金19",{"$f":"E248&\"-\"&COUNTIF(E$1:E248,E248)","v":"金19-13"},"獸","金",19]
["火14","趙","火",14,"火19",{"$f":"E249&\"-\"&COUNTIF(E$1:E249,E249)","v":"火19-13"},"離","火",19]
["水14","福","水",14,"火19",{"$f":"E250&\"-\"&COUNTIF(E$1:E250,E250)","v":"火19-14"},"韜","火",19]
["土14","臧","土",14,"木19",{"$f":"E251&\"-\"&COUNTIF(E$1:E251,E251)","v":"木19-11"},"曠","木",19]
["金14","壽","金",14,"木19",{"$f":"E252&\"-\"&COUNTIF(E$1:E252,E252)","v":"木19-12"},"攀","木",19]
["木14","嘉","木",14,"水19",{"$f":"E253&\"-\"&COUNTIF(E$1:E253,E253)","v":"水19-14"},"鏢","水",19]
["水14","輔","水",14,"金19",{"$f":"E254&\"-\"&COUNTIF(E$1:E254,E254)","v":"金19-14"},"贊","金",19]
["火14","臺","火",14,"金19",{"$f":"E255&\"-\"&COUNTIF(E$1:E255,E255)","v":"金19-15"},"顚","金",19]
["金14","甄","金",14,"火19",{"$f":"E256&\"-\"&COUNTIF(E$1:E256,E256)","v":"火19-15"},"譚","火",19]
["水14","夢","水",14,"水19",{"$f":"E257&\"-\"&COUNTIF(E$1:E257,E257)","v":"水19-15"},"鵰","水",19]
["火14","菅","火",14,{"$f":"H258&I258","v":"木19"},{"$f":"E258&\"-\"&COUNTIF(E$1:E258,E258)","v":"木19-13"},"麒","木",19]
["火14","萊","火",14,"木19",{"$f":"E259&\"-\"&COUNTIF(E$1:E259,E259)","v":"木19-14"},"鏡","木",19]
["水14","華","水",14,"木19",{"$f":"E260&\"-\"&COUNTIF(E$1:E260,E260)","v":"木19-15"},"關","木",19]
["金14","說","金",14,"火19",{"$f":"E261&\"-\"&COUNTIF(E$1:E261,E261)","v":"火19-16"},"鏐","火",19]
["金14","愼","金",14,"木19",{"$f":"E262&\"-\"&COUNTIF(E$1:E262,E262)","v":"木19-16"},"顗","木",19]
["火14","端","火",14,"火19",{"$f":"E263&\"-\"&COUNTIF(E$1:E263,E263)","v":"火19-17"},"獵","火",19]
["金14","精","金",14,"金19",{"$f":"E264&\"-\"&COUNTIF(E$1:E264,E264)","v":"金19-16"},"遷","金",19]
["火14","韶","火",14,"火19",{"$f":"E265&\"-\"&COUNTIF(E$1:E265,E265)","v":"火19-18"},"鏈","火",19]
[{"$f":"C266&D266","v":"土14"},"榮","土",14,"金19",{"$f":"E266&\"-\"&COUNTIF(E$1:E266,E266)","v":"金19-17"},"選","金",19]
["木14","旗","木",14,"金19",{"$f":"E267&\"-\"&COUNTIF(E$1:E267,E267)","v":"金19-18"},"繡","金",19]
["火14","廖","火",14,"金19",{"$f":"E268&\"-\"&COUNTIF(E$1:E268,E268)","v":"金19-19"},"蕭","金",19]
["金14","齊","金",14,"木18",{"$f":"E269&\"-\"&COUNTIF(E$1:E269,E269)","v":"木18-1"},"覲","木",18]
["水14","滑","水",14,"火18",{"$f":"E270&\"-\"&COUNTIF(E$1:E270,E270)","v":"火18-1"},"釐","火",18]
["土14","溫","土",14,"水18",{"$f":"E271&\"-\"&COUNTIF(E$1:E271,E271)","v":"水18-1"},"璧","水",18]
["木13","解","木",13,"水18",{"$f":"E272&\"-\"&COUNTIF(E$1:E272,E272)","v":"水18-2"},"燻","水",18]
["火13","詹","火",13,"金18",{"$f":"E273&\"-\"&COUNTIF(E$1:E273,E273)","v":"金18-1"},"謦","金",18]
["土13","蛾","土",13,"金18",{"$f":"E274&\"-\"&COUNTIF(E$1:E274,E274)","v":"金18-2"},"鎗","金",18]
["金13","睢","金",13,"木18",{"$f":"E275&\"-\"&COUNTIF(E$1:E275,E275)","v":"木18-2"},"瞽","木",18]
["火13","督","火",13,"火18",{"$f":"E276&\"-\"&COUNTIF(E$1:E276,E276)","v":"火18-2"},"題","火",18]
["火13","農","火",13,"金18",{"$f":"E277&\"-\"&COUNTIF(E$1:E277,E277)","v":"金18-3"},"礎","金",18]
["金13","蜀","金",13,"金18",{"$f":"E278&\"-\"&COUNTIF(E$1:E278,E278)","v":"金18-4"},"鎖","金",18]
["木13","跪","木",13,"木18",{"$f":"E279&\"-\"&COUNTIF(E$1:E279,E279)","v":"木18-3"},"黠","木",18]
["火13","路","火",13,"余18",{"$f":"E280&\"-\"&COUNTIF(E$1:E280,E280)","v":"余18-1"},"雜","余",18]
["火13","提","火",13,"火18",{"$f":"E281&\"-\"&COUNTIF(E$1:E281,E281)","v":"火18-3"},"鯉","火",18]
["金13","肆","金",13,"水18",{"$f":"E282&\"-\"&COUNTIF(E$1:E282,E282)","v":"水18-3"},"鵠","水",18]
["木13","壺","木",13,"水18",{"$f":"E283&\"-\"&COUNTIF(E$1:E283,E283)","v":"水18-4"},"鞭","水",18]
["火13","祿","火",13,"木18",{"$f":"E284&\"-\"&COUNTIF(E$1:E284,E284)","v":"木18-4"},"鵑","木",18]
["水13","裘","水",13,"木18",{"$f":"E285&\"-\"&COUNTIF(E$1:E285,E285)","v":"木18-5"},"騎","木",18]
["木13","勤","木",13,"木18",{"$f":"E286&\"-\"&COUNTIF(E$1:E286,E286)","v":"木18-6"},"顏","木",18]
["金13","琴","金",13,"金18",{"$f":"E287&\"-\"&COUNTIF(E$1:E287,E287)","v":"金18-5"},"穢","金",18]
["金13","聖","金",13,"金18",{"$f":"E288&\"-\"&COUNTIF(E$1:E288,E288)","v":"金18-6"},"鬆","金",18]
["水13","賁","水",13,"木18",{"$f":"E289&\"-\"&COUNTIF(E$1:E289,E289)","v":"木18-7"},"闕","木",18]
["木13","靳","木",13,"木18",{"$f":"E290&\"-\"&COUNTIF(E$1:E290,E290)","v":"木18-8"},"鐮","木",18]
["火13","虞","火",13,"土18",{"$f":"E291&\"-\"&COUNTIF(E$1:E291,E291)","v":"土18-1"},"醫","土",18]
["土13","徭","土",13,"火18",{"$f":"E292&\"-\"&COUNTIF(E$1:E292,E292)","v":"火18-4"},"壘","火",18]
["土13","衙","土",13,"火18",{"$f":"E293&\"-\"&COUNTIF(E$1:E293,E293)","v":"火18-5"},"蟲","火",18]
["土13","微","土",13,"火18",{"$f":"E294&\"-\"&COUNTIF(E$1:E294,E294)","v":"火18-6"},"職","火",18]
["土13","愛","土",13,"金18",{"$f":"E295&\"-\"&COUNTIF(E$1:E295,E295)","v":"金18-7"},"鎖","金",18]
["水13","逄","水",13,"水18",{"$f":"E296&\"-\"&COUNTIF(E$1:E296,E296)","v":"水18-5"},"蹣","水",18]
["火13","僂","火",13,"金18",{"$f":"E297&\"-\"&COUNTIF(E$1:E297,E297)","v":"金18-8"},"觴","金",18]
["金13","禽","金",13,"火18",{"$f":"E298&\"-\"&COUNTIF(E$1:E298,E298)","v":"火18-7"},"轉","火",18]
["土13","稚","土",13,"金18",{"$f":"E299&\"-\"&COUNTIF(E$1:E299,E299)","v":"金18-9"},"蟬","金",18]
["土13","惲","土",13,"水18",{"$f":"E300&\"-\"&COUNTIF(E$1:E300,E300)","v":"水18-6"},"覆","水",18]
["木13","義","木",13,"水18",{"$f":"E301&\"-\"&COUNTIF(E$1:E301,E301)","v":"水18-7"},"翻","水",18]
["金13","新","金",13,"木18",{"$f":"E302&\"-\"&COUNTIF(E$1:E302,E302)","v":"木18-9"},"簡","木",18]
["土13","雍","土",13,"水18",{"$f":"E303&\"-\"&COUNTIF(E$1:E303,E303)","v":"水18-8"},"闖","水",18]
["金13","資","金",13,"火18",{"$f":"E304&\"-\"&COUNTIF(E$1:E304,E304)","v":"火18-8"},"瞻","火",18]
["木13","廉","木",13,"金18",{"$f":"E305&\"-\"&COUNTIF(E$1:E305,E305)","v":"金18-10"},"繕","金",18]
["土13","阿","土",13,"火18",{"$f":"E306&\"-\"&COUNTIF(E$1:E306,E306)","v":"火18-9"},"糧","火",18]
["金13","郇","金",13,"木18",{"$f":"E307&\"-\"&COUNTIF(E$1:E307,E307)","v":"木18-10"},"瞼","木",18]
["金13","郄","金",13,"火18",{"$f":"E308&\"-\"&COUNTIF(E$1:E308,E308)","v":"火18-10"},"簪","火",18]
["火13","邾","火",13,"火18",{"$f":"E309&\"-\"&COUNTIF(E$1:E309,E309)","v":"火18-11"},"鎧","火",18]
["金13","邿","金",13,"火18",{"$f":"E310&\"-\"&COUNTIF(E$1:E310,E310)","v":"火18-12"},"壽","火",18]
["火13","郅","火",13,"火18",{"$f":"E311&\"-\"&COUNTIF(E$1:E311,E311)","v":"火18-13"},"爵","火",18]
["水13","郁","水",13,"木18",{"$f":"E312&\"-\"&COUNTIF(E$1:E312,E312)","v":"木18-11"},"歸","木",18]
["金13","莘","金",13,"水18",{"$f":"E313&\"-\"&COUNTIF(E$1:E313,E313)","v":"水18-9"},"濮","水",18]
["金13","莧","金",13,"火18",{"$f":"E314&\"-\"&COUNTIF(E$1:E314,E314)","v":"火18-14"},"濟","火",18]
["水13","莽","水",13,"土18",{"$f":"E315&\"-\"&COUNTIF(E$1:E315,E315)","v":"土18-2"},"濙","土",18]
["火13","荻","火",13,"木18",{"$f":"E316&\"-\"&COUNTIF(E$1:E316,E316)","v":"木18-12"},"環","木",18]
["火13","莒","火",13,"水18",{"$f":"E317&\"-\"&COUNTIF(E$1:E317,E317)","v":"水18-10"},"獲","水",18]
["水13","莫","水",13,"火18",{"$f":"E318&\"-\"&COUNTIF(E$1:E318,E318)","v":"火18-15"},"蕊","火",18]
["金13","莊","金",13,"土18",{"$f":"E319&\"-\"&COUNTIF(E$1:E319,E319)","v":"土18-3"},"隕","土",18]
["木13","經","木",13,"火18",{"$f":"E320&\"-\"&COUNTIF(E$1:E320,E320)","v":"火18-16"},"適","火",18]
["木13","賈","木",13,"金18",{"$f":"E321&\"-\"&COUNTIF(E$1:E321,E321)","v":"金18-11"},"璨","金",18]
["火13","雷","火",13,{"$f":"H322&I322","v":"木18"},{"$f":"E322&\"-\"&COUNTIF(E$1:E322,E322)","v":"木18-13"},"璩","木",18]
["火13","敬","火",13,"水18",{"$f":"E323&\"-\"&COUNTIF(E$1:E323,E323)","v":"水18-11"},"濱","水",18]
["金13","楚","金",13,"火18",{"$f":"E324&\"-\"&COUNTIF(E$1:E324,E324)","v":"火18-17"},"濤","火",18]
["土13","楊","土",13,"金18",{"$f":"E325&\"-\"&COUNTIF(E$1:E325,E325)","v":"金18-12"},"濕","金",18]
["水13","熙","水",13,"木18",{"$f":"E326&\"-\"&COUNTIF(E$1:E326,E326)","v":"木18-14"},"擬","木",18]
["金13","渻","金",13,"木18",{"$f":"E327&\"-\"&COUNTIF(E$1:E327,E327)","v":"木18-15"},"擱","木",18]
["土13","湛","土",13,"火18",{"$f":"E328&\"-\"&COUNTIF(E$1:E328,E328)","v":"火18-18"},"戴","火",18]
["金13","渠","金",13,"火18",{"$f":"E329&\"-\"&COUNTIF(E$1:E329,E329)","v":"火18-19"},"斷","火",18]
[{"$f":"C330&D330","v":"土13"},"淵","土",13,"火18",{"$f":"E330&\"-\"&COUNTIF(E$1:E330,E330)","v":"火18-20"},"儲","火",18]
["火13","塗","火",13,"木18",{"$f":"E331&\"-\"&COUNTIF(E$1:E331,E331)","v":"木18-16"},"檻","木",18]
["火13","湯","火",13,"水18",{"$f":"E332&\"-\"&COUNTIF(E$1:E332,E332)","v":"水18-12"},"謨","水",18]
["土13","游","土",13,"土18",{"$f":"E333&\"-\"&COUNTIF(E$1:E333,E333)","v":"土18-4"},"曜","土",18]
["金12","犀","金",12,"水18",{"$f":"E334&\"-\"&COUNTIF(E$1:E334,E334)","v":"水18-13"},"馥","水",18]
["火12","屠","火",12,"金18",{"$f":"E335&\"-\"&COUNTIF(E$1:E335,E335)","v":"金18-13"},"叢","金",18]
["火12","絳","火",12,"木18",{"$f":"E336&\"-\"&COUNTIF(E$1:E336,E336)","v":"木18-17"},"骐","木",18]
["火12","能","火",12,"金18",{"$f":"E337&\"-\"&COUNTIF(E$1:E337,E337)","v":"金18-14"},"織","金",18]
["火12","幾","火",12,"水18",{"$f":"E338&\"-\"&COUNTIF(E$1:E338,E338)","v":"水18-14"},"總","水",18]
["火12","智","火",12,"金18",{"$f":"E339&\"-\"&COUNTIF(E$1:E339,E339)","v":"金18-15"},"赜","金",18]
["金12","尋","金",12,"水18",{"$f":"E340&\"-\"&COUNTIF(E$1:E340,E340)","v":"水18-15"},"豐","水",18]
["水12","費","水",12,"土18",{"$f":"E341&\"-\"&COUNTIF(E$1:E341,E341)","v":"土18-5"},"鎔","土",18]
["水12","賀","水",12,"火18",{"$f":"E342&\"-\"&COUNTIF(E$1:E342,E342)","v":"火18-21"},"鎚","火",18]
["木12","卿","木",12,"木18",{"$f":"E343&\"-\"&COUNTIF(E$1:E343,E343)","v":"木18-18"},"繞","木",18]
["土12","爲","土",12,"木18",{"$f":"E344&\"-\"&COUNTIF(E$1:E344,E344)","v":"木18-19"},"謹","木",18]
["水12","番","水",12,"金18",{"$f":"E345&\"-\"&COUNTIF(E$1:E345,E345)","v":"金18-16"},"顓","金",18]
["水12","猛","水",12,"金18",{"$f":"E346&\"-\"&COUNTIF(E$1:E346,E346)","v":"金18-17"},"雙","金",18]
["金12","須","金",12,"火18",{"$f":"E347&\"-\"&COUNTIF(E$1:E347,E347)","v":"火18-22"},"禮","火",18]
["水12","復","水",12,"土18",{"$f":"E348&\"-\"&COUNTIF(E$1:E348,E348)","v":"土18-6"},"鎰","土",18]
["金12","甥","金",12,"火18",{"$f":"E349&\"-\"&COUNTIF(E$1:E349,E349)","v":"火18-23"},"鎮","火",18]
["木12","皓","木",12,"木18",{"$f":"E350&\"-\"&COUNTIF(E$1:E350,E350)","v":"木18-20"},"翹","木",18]
["水12","雲","水",12,"金18",{"$f":"E351&\"-\"&COUNTIF(E$1:E351,E351)","v":"金18-18"},"翱","金",18]
["金12","期","金",12,"火18",{"$f":"E352&\"-\"&COUNTIF(E$1:E352,E352)","v":"火18-24"},"燼","火",18]
["金12","項","金",12,"金18",{"$f":"E353&\"-\"&COUNTIF(E$1:E353,E353)","v":"金18-19"},"翼","金",18]
["木12","辜","木",12,"金17",{"$f":"E354&\"-\"&COUNTIF(E$1:E354,E354)","v":"金17-1"},"黏","金",17]
["金12","盛","金",12,"木17",{"$f":"E355&\"-\"&COUNTIF(E$1:E355,E355)","v":"木17-1"},"赚","木",17]
["土12","越","土",12,"火17",{"$f":"E356&\"-\"&COUNTIF(E$1:E356,E356)","v":"火17-1"},"隸","火",17]
["水12","彭","水",12,"金17",{"$f":"E357&\"-\"&COUNTIF(E$1:E357,E357)","v":"金17-2"},"燥","金",17]
["木12","黃","木",12,"木17",{"$f":"E358&\"-\"&COUNTIF(E$1:E358,E358)","v":"木17-2"},"覬","木",17]
["火12","程","火",12,"火17",{"$f":"E359&\"-\"&COUNTIF(E$1:E359,E359)","v":"火17-2"},"黛","火",17]
["金12","訾","金",12,"金17",{"$f":"E360&\"-\"&COUNTIF(E$1:E360,E360)","v":"金17-3"},"鮮","金",17]
["金12","掌","金",12,"金17",{"$f":"E361&\"-\"&COUNTIF(E$1:E361,E361)","v":"金17-4"},"餞","金",17]
["火12","棠","火",12,"木17",{"$f":"E362&\"-\"&COUNTIF(E$1:E362,E362)","v":"木17-3"},"鞠","木",17]
["水12","閔","水",12,"金17",{"$f":"E363&\"-\"&COUNTIF(E$1:E363,E363)","v":"金17-5"},"霜","金",17]
["木12","景","木",12,"木17",{"$f":"E364&\"-\"&COUNTIF(E$1:E364,E364)","v":"木17-4"},"黚","木",17]
["土12","喩","土",12,"水17",{"$f":"E365&\"-\"&COUNTIF(E$1:E365,E365)","v":"水17-1"},"豁","水",17]
["火12","單","火",12,"水17",{"$f":"E366&\"-\"&COUNTIF(E$1:E366,E366)","v":"水17-2"},"鎂","水",17]
["水12","斐","水",12,"土17",{"$f":"E367&\"-\"&COUNTIF(E$1:E367,E367)","v":"土17-1"},"醞","土",17]
["才12","喬","才",12,"土17",{"$f":"E368&\"-\"&COUNTIF(E$1:E368,E368)","v":"土17-2"},"輿","土",17]
["金12","舜","金",12,"金17",{"$f":"E369&\"-\"&COUNTIF(E$1:E369,E369)","v":"金17-6"},"謝","金",17]
["金12","舒","金",12,"木17",{"$f":"E370&\"-\"&COUNTIF(E$1:E370,E370)","v":"木17-5"},"謄","木",17]
["金12","喪","金",12,"火17",{"$f":"E371&\"-\"&COUNTIF(E$1:E371,E371)","v":"火17-3"},"鍊","火",17]
["水12","雄","水",12,"木17",{"$f":"E372&\"-\"&COUNTIF(E$1:E372,E372)","v":"木17-6"},"罄","木",17]
["木12","阮","木",12,"土17",{"$f":"E373&\"-\"&COUNTIF(E$1:E373,E373)","v":"土17-3"},"霠","土",17]
["火12","鈄","火",12,"金17",{"$f":"E374&\"-\"&COUNTIF(E$1:E374,E374)","v":"金17-7"},"鍬","金",17]
["木12","鈞","木",12,"木17",{"$f":"E375&\"-\"&COUNTIF(E$1:E375,E375)","v":"木17-7"},"谿","木",17]
["火12","鈕","火",12,"木17",{"$f":"E376&\"-\"&COUNTIF(E$1:E376,E376)","v":"木17-8"},"講","木",17]
["水12","邶","水",12,"火17",{"$f":"E377&\"-\"&COUNTIF(E$1:E377,E377)","v":"火17-4"},"褎","火",17]
["水12","邴","水",12,"木17",{"$f":"E378&\"-\"&COUNTIF(E$1:E378,E378)","v":"木17-9"},"艱","木",17]
["水12","邳","水",12,"木17",{"$f":"E379&\"-\"&COUNTIF(E$1:E379,E379)","v":"木17-10"},"懋","木",17]
["水12","邯","水",12,"水17",{"$f":"E380&\"-\"&COUNTIF(E$1:E380,E380)","v":"水17-3"},"縫","水",17]
["火12","邰","火",12,"火17",{"$f":"E381&\"-\"&COUNTIF(E$1:E381,E381)","v":"火17-5"},"燧","火",17]
["金12","邵","金",12,"水17",{"$f":"E382&\"-\"&COUNTIF(E$1:E382,E382)","v":"水17-4"},"嬪","水",17]
["木12","邱","木",12,"火17",{"$f":"E383&\"-\"&COUNTIF(E$1:E383,E383)","v":"火17-6"},"擇","火",17]
["金12","述","金",12,"土17",{"$f":"E384&\"-\"&COUNTIF(E$1:E384,E384)","v":"土17-4"},"擁","土",17]
["火12","軫","火",12,"火17",{"$f":"E385&\"-\"&COUNTIF(E$1:E385,E385)","v":"火17-7"},"擂","火",17]
["金12","粟","金",12,{"$f":"H386&I386","v":"水17"},{"$f":"E386&\"-\"&COUNTIF(E$1:E386,E386)","v":"水17-5"},"鄉","水",17]
["木12","堯","木",12,"土17",{"$f":"E387&\"-\"&COUNTIF(E$1:E387,E387)","v":"土17-5"},"陽","土",17]
["金12","茲","金",12,"金17",{"$f":"E388&\"-\"&COUNTIF(E$1:E388,E388)","v":"金17-8"},"遜","金",17]
["土12","茹","土",12,"金17",{"$f":"E389&\"-\"&COUNTIF(E$1:E389,E389)","v":"金17-9"},"總","金",17]
["木12","荆","木",12,"火17",{"$f":"E390&\"-\"&COUNTIF(E$1:E390,E390)","v":"火17-8"},"螺","火",17]
["金12","荀","金",12,"火17",{"$f":"E391&\"-\"&COUNTIF(E$1:E391,E391)","v":"火17-9"},"臨","火",17]
["火12","理","火",12,"火17",{"$f":"E392&\"-\"&COUNTIF(E$1:E392,E392)","v":"火17-10"},"襄","火",17]
["土12","無","土",12,"火17",{"$f":"E393&\"-\"&COUNTIF(E$1:E393,E393)","v":"火17-11"},"螳","火",17]
[{"$f":"C394&D394","v":"金12"},"然","金",12,"金17",{"$f":"E394&\"-\"&COUNTIF(E$1:E394,E394)","v":"金17-10"},"聰","金",17]
["金12","焦","金",12,"火17",{"$f":"E395&\"-\"&COUNTIF(E$1:E395,E395)","v":"火17-12"},"縱","火",17]
["火12","椒","火",12,"金17",{"$f":"E396&\"-\"&COUNTIF(E$1:E396,E396)","v":"金17-11"},"縮","金",17]
["金12","棗","金",12,"木17",{"$f":"E397&\"-\"&COUNTIF(E$1:E397,E397)","v":"木17-11"},"糠","木",17]
["火12","捷","火",12,"火17",{"$f":"E398&\"-\"&COUNTIF(E$1:E398,E398)","v":"火17-13"},"輾","火",17]
["水12","惠","水",12,"木17",{"$f":"E399&\"-\"&COUNTIF(E$1:E399,E399)","v":"木17-12"},"舉","木",17]
["金12","尊","金",12,"火17",{"$f":"E400&\"-\"&COUNTIF(E$1:E400,E400)","v":"火17-14"},"磯","火",17]
["金12","善","金",12,"火17",{"$f":"E401&\"-\"&COUNTIF(E$1:E401,E401)","v":"火17-15"},"瞭","火",17]
["火12","勞","火",12,"木17",{"$f":"E402&\"-\"&COUNTIF(E$1:E402,E402)","v":"木17-13"},"鍋","木",17]
["火12","童","火",12,"火17",{"$f":"E403&\"-\"&COUNTIF(E$1:E403,E403)","v":"火17-16"},"嬭","火",17]
["金12","清","金",12,"金17",{"$f":"E404&\"-\"&COUNTIF(E$1:E404,E404)","v":"金17-12"},"瞬","金",17]
["水12","馮","水",12,"金17",{"$f":"E405&\"-\"&COUNTIF(E$1:E405,E405)","v":"金17-13"},"徽","金",17]
["土12","庾","土",12,"金17",{"$f":"E406&\"-\"&COUNTIF(E$1:E406,E406)","v":"金17-14"},"燭","金",17]
["金12","曾","金",12,"火17",{"$f":"E407&\"-\"&COUNTIF(E$1:E407,E407)","v":"火17-17"},"嶺","火",17]
["火12","甯","火",12,"水17",{"$f":"E408&\"-\"&COUNTIF(E$1:E408,E408)","v":"水17-6"},"篷","水",17]
["水12","寒","水",12,"火17",{"$f":"E409&\"-\"&COUNTIF(E$1:E409,E409)","v":"火17-18"},"氈","火",17]
["水12","富","水",12,"金17",{"$f":"E410&\"-\"&COUNTIF(E$1:E410,E410)","v":"金17-15"},"糟","金",17]
["土12","貳","土",12,"金17",{"$f":"E411&\"-\"&COUNTIF(E$1:E411,E411)","v":"金17-16"},"禪","金",17]
["金12","奢","金",12,"木17",{"$f":"E412&\"-\"&COUNTIF(E$1:E412,E412)","v":"木17-14"},"矯","木",17]
["木12","堪","木",12,"火17",{"$f":"E413&\"-\"&COUNTIF(E$1:E413,E413)","v":"火17-19"},"瞳","火",17]
["火12","堵","火",12,"火17",{"$f":"E414&\"-\"&COUNTIF(E$1:E414,E414)","v":"火17-20"},"檀","火",17]
["水12","傍","水",12,"余17",{"$f":"E415&\"-\"&COUNTIF(E$1:E415,E415)","v":"余17-1"},"檜","余",17]
["水12","傅","水",12,"木17",{"$f":"E416&\"-\"&COUNTIF(E$1:E416,E416)","v":"木17-15"},"擊","木",17]
["土11","魚","土",11,"土17",{"$f":"E417&\"-\"&COUNTIF(E$1:E417,E417)","v":"土17-6"},"壑","土",17]
["金11","終","金",11,"水17",{"$f":"E418&\"-\"&COUNTIF(E$1:E418,E418)","v":"水17-7"},"賸","水",17]
["金11","參","金",11,"木17",{"$f":"E419&\"-\"&COUNTIF(E$1:E419,E419)","v":"木17-16"},"擎","木",17]
["金11","習","金",11,"木17",{"$f":"E420&\"-\"&COUNTIF(E$1:E420,E420)","v":"木17-17"},"懇","木",17]
["金11","胥","金",11,"木17",{"$f":"E421&\"-\"&COUNTIF(E$1:E421,E421)","v":"木17-18"},"嶽","木",17]
["土11","晝","土",11,"水17",{"$f":"E422&\"-\"&COUNTIF(E$1:E422,E422)","v":"水17-8"},"壕","水",17]
["土11","尉","土",11,"木17",{"$f":"E423&\"-\"&COUNTIF(E$1:E423,E423)","v":"木17-19"},"檢","木",17]
["金11","巢","金",11,"木17",{"$f":"E424&\"-\"&COUNTIF(E$1:E424,E424)","v":"木17-20"},"歛","木",17]
["水11","務","水",11,"火17",{"$f":"E425&\"-\"&COUNTIF(E$1:E425,E425)","v":"火17-21"},"彌","火",17]
["金11","梟","金",11,"金17",{"$f":"E426&\"-\"&COUNTIF(E$1:E426,E426)","v":"金17-17"},"縻","金",17]
["水11","被","水",11,"火17",{"$f":"E427&\"-\"&COUNTIF(E$1:E427,E427)","v":"火17-22"},"勵","火",17]
["火11","鳥","火",11,"火17",{"$f":"E428&\"-\"&COUNTIF(E$1:E428,E428)","v":"火17-23"},"儡","火",17]
["水11","望","水",11,"金17",{"$f":"E429&\"-\"&COUNTIF(E$1:E429,E429)","v":"金17-18"},"償","金",17]
["火11","鹿","火",11,"金17",{"$f":"E430&\"-\"&COUNTIF(E$1:E430,E430)","v":"金17-19"},"聳","金",17]
["水11","麻","水",11,"金17",{"$f":"E431&\"-\"&COUNTIF(E$1:E431,E431)","v":"金17-20"},"燦","金",17]
["水11","麥","水",11,"金17",{"$f":"E432&\"-\"&COUNTIF(E$1:E432,E432)","v":"金17-21"},"骏","金",17]
["土11","NGO","土",11,"金17",{"$f":"E433&\"-\"&COUNTIF(E$1:E433,E433)","v":"金17-22"},"蹇","金",17]
["木11","乾","木",11,"水17",{"$f":"E434&\"-\"&COUNTIF(E$1:E434,E434)","v":"水17-9"},"禧","水",17]
["火11","聊","火",11,"火17",{"$f":"E435&\"-\"&COUNTIF(E$1:E435,E435)","v":"火17-24"},"赯","火",17]
["金11","曹","金",11,"木17",{"$f":"E436&\"-\"&COUNTIF(E$1:E436,E436)","v":"木17-21"},"璟","木",17]
["土11","胡","土",11,"水17",{"$f":"E437&\"-\"&COUNTIF(E$1:E437,E437)","v":"水17-10"},"璜","水",17]
["水11","班","水",11,"木17",{"$f":"E438&\"-\"&COUNTIF(E$1:E438,E438)","v":"木17-22"},"璣","木",17]
["水11","扈","水",11,"水17",{"$f":"E439&\"-\"&COUNTIF(E$1:E439,E439)","v":"水17-11"},"璠","水",17]
["金11","啓","金",11,"火17",{"$f":"E440&\"-\"&COUNTIF(E$1:E440,E440)","v":"火17-25"},"澤","火",17]
["火11","條","火",11,"火17",{"$f":"E441&\"-\"&COUNTIF(E$1:E441,E441)","v":"火17-26"},"聯","火",17]
["火11","從","火",11,"土17",{"$f":"E442&\"-\"&COUNTIF(E$1:E442,E442)","v":"土17-7"},"遠","土",17]
["土11","移","土",11,"火17",{"$f":"E443&\"-\"&COUNTIF(E$1:E443,E443)","v":"火17-27"},"隆","火",17]
["金11","悉","金",11,"水17",{"$f":"E444&\"-\"&COUNTIF(E$1:E444,E444)","v":"水17-12"},"蔓","水",17]
["水11","符","水",11,"水17",{"$f":"E445&\"-\"&COUNTIF(E$1:E445,E445)","v":"水17-13"},"霞","水",17]
["火11","鹵","火",11,"火17",{"$f":"E446&\"-\"&COUNTIF(E$1:E446,E446)","v":"火17-28"},"儦","火",17]
["火11","眾","火",11,"土17",{"$f":"E447&\"-\"&COUNTIF(E$1:E447,E447)","v":"土17-8"},"應","土",17]
["火11","婁","火",11,"土17",{"$f":"E448&\"-\"&COUNTIF(E$1:E448,E448)","v":"土17-9"},"優","土",17]
["水11","畢","水",11,"土17",{"$f":"E449&\"-\"&COUNTIF(E$1:E449,E449)","v":"土17-10"},"營","土",17]
["金11","祟","金",11,{"$f":"H450&I450","v":"火17"},{"$f":"E450&\"-\"&COUNTIF(E$1:E450,E450)","v":"火17-29"},"褻","火",17]
["木11","崔","木",11,"金17",{"$f":"E451&\"-\"&COUNTIF(E$1:E451,E451)","v":"金17-23"},"馘","金",17]
["火11","堂","火",11,"金17",{"$f":"E452&\"-\"&COUNTIF(E$1:E452,E452)","v":"金17-24"},"聲","金",17]
["金11","常","金",11,"水17",{"$f":"E453&\"-\"&COUNTIF(E$1:E453,E453)","v":"水17-14"},"繁","水",17]
["火11","那","火",11,"金17",{"$f":"E454&\"-\"&COUNTIF(E$1:E454,E454)","v":"金17-25"},"齋","金",17]
["水11","邠","水",11,"木17",{"$f":"E455&\"-\"&COUNTIF(E$1:E455,E455)","v":"木17-23"},"謙","木",17]
["木11","邪","木",11,"金17",{"$f":"E456&\"-\"&COUNTIF(E$1:E456,E456)","v":"金17-26"},"鍾","金",17]
["金11","許","金",11,"火17",{"$f":"E457&\"-\"&COUNTIF(E$1:E457,E457)","v":"火17-30"},"麋","火",17]
[{"$f":"C458&D458","v":"水11"},"茅","水",11,"水17",{"$f":"E458&\"-\"&COUNTIF(E$1:E458,E458)","v":"水17-15"},"燮","水",17]
["木11","苟","木",11,"木17",{"$f":"E459&\"-\"&COUNTIF(E$1:E459,E459)","v":"木17-24"},"鍵","木",17]
["土11","苑","土",11,"木17",{"$f":"E460&\"-\"&COUNTIF(E$1:E460,E460)","v":"木17-25"},"顆","木",17]
["水11","苻","水",11,"火17",{"$f":"E461&\"-\"&COUNTIF(E$1:E461,E461)","v":"火17-31"},"績","火",17]
["金11","苫","金",11,"水17",{"$f":"E462&\"-\"&COUNTIF(E$1:E462,E462)","v":"水17-16"},"鴻","水",17]
["土11","英","土",11,"金17",{"$f":"E463&\"-\"&COUNTIF(E$1:E463,E463)","v":"金17-27"},"賽","金",17]
["水11","苗","水",11,"火17",{"$f":"E464&\"-\"&COUNTIF(E$1:E464,E464)","v":"火17-32"},"鍍","火",17]
["木11","苦","木",11,"水17",{"$f":"E465&\"-\"&COUNTIF(E$1:E465,E465)","v":"水17-17"},"慕","水",17]
["金11","若","金",11,"土17",{"$f":"E466&\"-\"&COUNTIF(E$1:E466,E466)","v":"土17-11"},"蔚","土",17]
["水11","范","水",11,"水17",{"$f":"E467&\"-\"&COUNTIF(E$1:E467,E467)","v":"水17-18"},"憤","水",17]
["金11","胙","金",11,"火17",{"$f":"E468&\"-\"&COUNTIF(E$1:E468,E468)","v":"火17-33"},"蓮","火",17]
["火11","聃","火",11,"火17",{"$f":"E469&\"-\"&COUNTIF(E$1:E469,E469)","v":"火17-34"},"隊","火",17]
["水11","浦","水",11,"金17",{"$f":"E470&\"-\"&COUNTIF(E$1:E470,E470)","v":"金17-28"},"操","金",17]
["金11","涉","金",11,"水17",{"$f":"E471&\"-\"&COUNTIF(E$1:E471,E471)","v":"水17-19"},"澧","水",17]
["火11","涂","火",11,"火17",{"$f":"E472&\"-\"&COUNTIF(E$1:E472,E472)","v":"火17-35"},"潞","火",17]
["水11","海","水",11,"火17",{"$f":"E473&\"-\"&COUNTIF(E$1:E473,E473)","v":"火17-36"},"濃","火",17]
["金11","梓","金",11,"火17",{"$f":"E474&\"-\"&COUNTIF(E$1:E474,E474)","v":"火17-37"},"鍛","火",17]
["水11","梅","水",11,"火16",{"$f":"E475&\"-\"&COUNTIF(E$1:E475,E475)","v":"火16-1"},"儘","火",16]
["火11","梁","火",11,"木16",{"$f":"E476&\"-\"&COUNTIF(E$1:E476,E476)","v":"木16-1"},"龜","木",16]
["火11","救","火",11,"土16",{"$f":"E477&\"-\"&COUNTIF(E$1:E477,E477)","v":"土16-1"},"歙","土",16]
["金11","赦","金",11,"火16",{"$f":"E478&\"-\"&COUNTIF(E$1:E478,E478)","v":"火16-2"},"麇","火",16]
["金11","戚","金",11,"火16",{"$f":"E479&\"-\"&COUNTIF(E$1:E479,E479)","v":"火16-3"},"鴦","火",16]
["水11","悖","水",11,"水16",{"$f":"E480&\"-\"&COUNTIF(E$1:E480,E480)","v":"水16-1"},"褰","水",16]
["金11","悅","金",11,"土16",{"$f":"E481&\"-\"&COUNTIF(E$1:E481,E481)","v":"土16-2"},"融","土",16]
["木11","強","木",11,"火16",{"$f":"E482&\"-\"&COUNTIF(E$1:E482,E482)","v":"火16-4"},"糖","火",16]
["火11","張","火",11,"木16",{"$f":"E483&\"-\"&COUNTIF(E$1:E483,E483)","v":"木16-2"},"器","木",16]
["土11","庸","土",11,"火16",{"$f":"E484&\"-\"&COUNTIF(E$1:E484,E484)","v":"火16-5"},"壇","火",16]
["金11","庶","金",11,"火16",{"$f":"E485&\"-\"&COUNTIF(E$1:E485,E485)","v":"火16-6"},"赬","火",16]
["木11","康","木",11,"火16",{"$f":"E486&\"-\"&COUNTIF(E$1:E486,E486)","v":"火16-7"},"璃","火",16]
["金11","產","金",11,"木16",{"$f":"E487&\"-\"&COUNTIF(E$1:E487,E487)","v":"木16-3"},"曉","木",16]
["金11","專","金",11,"土16",{"$f":"E488&\"-\"&COUNTIF(E$1:E488,E488)","v":"土16-3"},"豫","土",16]
["水11","密","水",11,"水16",{"$f":"E489&\"-\"&COUNTIF(E$1:E489,E489)","v":"水16-2"},"憲","水",16]
["金11","宿","金",11,"火16",{"$f":"E490&\"-\"&COUNTIF(E$1:E490,E490)","v":"火16-8"},"盧","火",16]
["木11","寇","木",11,"火16",{"$f":"E491&\"-\"&COUNTIF(E$1:E491,E491)","v":"火16-9"},"儔","火",16]
["土11","圉","土",11,"水16",{"$f":"E492&\"-\"&COUNTIF(E$1:E492,E492)","v":"水16-3"},"默","水",16]
["木11","國","木",11,"金16",{"$f":"E493&\"-\"&COUNTIF(E$1:E493,E493)","v":"金16-1"},"整","金",16]
["木11","區","木",11,"火16",{"$f":"E494&\"-\"&COUNTIF(E$1:E494,E494)","v":"火16-10"},"龍","火",16]
["火11","章","火",11,"金16",{"$f":"E495&\"-\"&COUNTIF(E$1:E495,E495)","v":"金16-2"},"親","金",16]
["金11","商","金",11,"火16",{"$f":"E496&\"-\"&COUNTIF(E$1:E496,E496)","v":"火16-11"},"歷","火",16]
["金10","射","金",10,"水16",{"$f":"E497&\"-\"&COUNTIF(E$1:E497,E497)","v":"水16-4"},"瞞","水",16]
["金10","師","金",10,"水16",{"$f":"E498&\"-\"&COUNTIF(E$1:E498,E498)","v":"水16-5"},"缚","水",16]
["金10","釗","金",10,"土16",{"$f":"E499&\"-\"&COUNTIF(E$1:E499,E499)","v":"土16-4"},"鴛","土",16]
["火10","特","火",10,"金16",{"$f":"E500&\"-\"&COUNTIF(E$1:E500,E500)","v":"金16-3"},"雕","金",16]
["金10","乘","金",10,"土16",{"$f":"E501&\"-\"&COUNTIF(E$1:E501,E501)","v":"土16-5"},"餘","土",16]
["金10","倉","金",10,"火16",{"$f":"E502&\"-\"&COUNTIF(E$1:E502,E502)","v":"火16-12"},"霖","火",16]
["土10","烏","土",10,"土16",{"$f":"E503&\"-\"&COUNTIF(E$1:E503,E503)","v":"土16-6"},"鴨","土",16]
["土10","益","土",10,"火16",{"$f":"E504&\"-\"&COUNTIF(E$1:E504,E504)","v":"火16-13"},"導","火",16]
["火10","展","火",10,"木16",{"$f":"E505&\"-\"&COUNTIF(E$1:E505,E505)","v":"木16-4"},"靦","木",16]
["木10","奚","木",10,"水16",{"$f":"E506&\"-\"&COUNTIF(E$1:E506,E506)","v":"水16-6"},"頷","水",16]
["土10","殷","土",10,"木16",{"$f":"E507&\"-\"&COUNTIF(E$1:E507,E507)","v":"木16-5"},"篤","木",16]
["木10","恭","木",10,"火16",{"$f":"E508&\"-\"&COUNTIF(E$1:E508,E508)","v":"火16-14"},"頭","火",16]
["金10","索","金",10,"火16",{"$f":"E509&\"-\"&COUNTIF(E$1:E509,E509)","v":"火16-15"},"蹄","火",16]
["木10","耿","木",10,"水16",{"$f":"E510&\"-\"&COUNTIF(E$1:E510,E510)","v":"水16-7"},"奮","水",16]
["土10","袁","土",10,"金16",{"$f":"E511&\"-\"&COUNTIF(E$1:E511,E511)","v":"金16-4"},"霓","金",16]
["金10","秦","金",10,"火16",{"$f":"E512&\"-\"&COUNTIF(E$1:E512,E512)","v":"火16-16"},"蓁","火",16]
["火10","鬥","火",10,"火16",{"$f":"E513&\"-\"&COUNTIF(E$1:E513,E513)","v":"火16-17"},"靛","火",16]
["木10","高","木",10,{"$f":"H514&I514","v":"金16"},{"$f":"E514&\"-\"&COUNTIF(E$1:E514,E514)","v":"金16-5"},"叡","金",16]
["水10","馬","水",10,"火16",{"$f":"E515&\"-\"&COUNTIF(E$1:E515,E515)","v":"火16-18"},"築","火",16]
["金10","邛","金",10,"木16",{"$f":"E516&\"-\"&COUNTIF(E$1:E516,E516)","v":"木16-6"},"縣","木",16]
["金10","軒","金",10,"水16",{"$f":"E517&\"-\"&COUNTIF(E$1:E517,E517)","v":"水16-8"},"羲","水",16]
["木10","貢","木",10,"水16",{"$f":"E518&\"-\"&COUNTIF(E$1:E518,E518)","v":"水16-9"},"穆","水",16]
["水10","訓","水",10,"火16",{"$f":"E519&\"-\"&COUNTIF(E$1:E519,E519)","v":"火16-19"},"曆","火",16]
["水10","芬","水",10,"金16",{"$f":"E520&\"-\"&COUNTIF(E$1:E520,E520)","v":"金16-6"},"戰","金",16]
["水10","花","水",10,"土16",{"$f":"E521&\"-\"&COUNTIF(E$1:E521,E521)","v":"土16-7"},"穎","土",16]
[{"$f":"C522&D522","v":"金10"},"芮","金",10,"金16",{"$f":"E522&\"-\"&COUNTIF(E$1:E522,E522)","v":"金16-7"},"冀","金",16]
["木10","芸","木",10,"木16",{"$f":"E523&\"-\"&COUNTIF(E$1:E523,E523)","v":"木16-7"},"圜","木",16]
["土10","翁","土",10,"金16",{"$f":"E524&\"-\"&COUNTIF(E$1:E524,E524)","v":"金16-8"},"儕","金",16]
["金10","神","金",10,"火16",{"$f":"E525&\"-\"&COUNTIF(E$1:E525,E525)","v":"火16-20"},"賴","火",16]
["火10","祖","火",10,"木16",{"$f":"E526&\"-\"&COUNTIF(E$1:E526,E526)","v":"木16-8"},"黔","木",16]
["金10","祝","金",10,"水16",{"$f":"E527&\"-\"&COUNTIF(E$1:E527,E527)","v":"水16-10"},"霏","水",16]
["木10","皋","木",10,"木16",{"$f":"E528&\"-\"&COUNTIF(E$1:E528,E528)","v":"木16-9"},"頰","木",16]
["土10","盎","土",10,"火16",{"$f":"E529&\"-\"&COUNTIF(E$1:E529,E529)","v":"火16-21"},"璉","火",16]
["火10","留","火",10,"金16",{"$f":"E530&\"-\"&COUNTIF(E$1:E530,E530)","v":"金16-9"},"蒨","金",16]
["金10","時","金",10,"金16",{"$f":"E531&\"-\"&COUNTIF(E$1:E531,E531)","v":"金16-10"},"儒","金",16]
["火10","晁","火",10,"水16",{"$f":"E532&\"-\"&COUNTIF(E$1:E532,E532)","v":"水16-11"},"勳","水",16]
["土10","晏","土",10,"金16",{"$f":"E533&\"-\"&COUNTIF(E$1:E533,E533)","v":"金16-11"},"醒","金",16]
["土10","員","土",10,"土16",{"$f":"E534&\"-\"&COUNTIF(E$1:E534,E534)","v":"土16-8"},"衡","土",16]
["金10","真","金",10,"金16",{"$f":"E535&\"-\"&COUNTIF(E$1:E535,E535)","v":"金16-12"},"嬙","金",16]
["木10","原","木",10,"金16",{"$f":"E536&\"-\"&COUNTIF(E$1:E536,E536)","v":"金16-13"},"靜","金",16]
["火10","晉","火",10,"水16",{"$f":"E537&\"-\"&COUNTIF(E$1:E537,E537)","v":"水16-12"},"磨","水",16]
["水10","夏","水",10,"水16",{"$f":"E538&\"-\"&COUNTIF(E$1:E538,E538)","v":"水16-13"},"學","水",16]
["土10","洪","土",10,"土16",{"$f":"E539&\"-\"&COUNTIF(E$1:E539,E539)","v":"土16-9"},"燕","土",16]
["金10","桑","金",10,"水16",{"$f":"E540&\"-\"&COUNTIF(E$1:E540,E540)","v":"水16-14"},"曇","水",16]
["水10","校","水",10,"金16",{"$f":"E541&\"-\"&COUNTIF(E$1:E541,E541)","v":"金16-14"},"輯","金",16]
["金10","栗","金",10,"火16",{"$f":"E542&\"-\"&COUNTIF(E$1:E542,E542)","v":"火16-22"},"臻","火",16]
["水10","桓","水",10,"水16",{"$f":"E543&\"-\"&COUNTIF(E$1:E543,E543)","v":"水16-15"},"壁","水",16]
["木10","桂","木",10,"水16",{"$f":"E544&\"-\"&COUNTIF(E$1:E544,E544)","v":"水16-16"},"熹","水",16]
["火10","桐","火",10,"金16",{"$f":"E545&\"-\"&COUNTIF(E$1:E545,E545)","v":"金16-15"},"霑","金",16]
["火10","旅","火",10,"火16",{"$f":"E546&\"-\"&COUNTIF(E$1:E546,E546)","v":"火16-23"},"諦","火",16]
["木10","拳","木",10,"火16",{"$f":"E547&\"-\"&COUNTIF(E$1:E547,E547)","v":"火16-24"},"諾","火",16]
["金10","息","金",10,"木16",{"$f":"E548&\"-\"&COUNTIF(E$1:E548,E548)","v":"木16-10"},"諼","木",16]
["土10","恩","土",10,"木16",{"$f":"E549&\"-\"&COUNTIF(E$1:E549,E549)","v":"木16-11"},"謁","木",16]
["水10","恒","水",10,"木16",{"$f":"E550&\"-\"&COUNTIF(E$1:E550,E550)","v":"木16-12"},"諺","木",16]
["金10","徐","金",10,"金16",{"$f":"E551&\"-\"&COUNTIF(E$1:E551,E551)","v":"金16-16"},"諸","金",16]
["金10","孫","金",10,"土16",{"$f":"E552&\"-\"&COUNTIF(E$1:E552,E552)","v":"土16-10"},"謂","土",16]
["火10","娲","火",10,"木16",{"$f":"E553&\"-\"&COUNTIF(E$1:E553,E553)","v":"木16-13"},"諧","木",16]
["水10","娥","水",10,"土16",{"$f":"E554&\"-\"&COUNTIF(E$1:E554,E554)","v":"土16-11"},"蓉","土",16]
["木10","庫","木",10,"火16",{"$f":"E555&\"-\"&COUNTIF(E$1:E555,E555)","v":"火16-25"},"蓄","火",16]
["金10","席","金",10,"金16",{"$f":"E556&\"-\"&COUNTIF(E$1:E556,E556)","v":"金16-17"},"蒼","金",16]
["火10","唐","火",10,"水16",{"$f":"E557&\"-\"&COUNTIF(E$1:E557,E557)","v":"水16-17"},"陪","水",16]
["土10","容","土",10,"火16",{"$f":"E558&\"-\"&COUNTIF(E$1:E558,E558)","v":"火16-26"},"螣","火",16]
["木10","家","木",10,"金16",{"$f":"E559&\"-\"&COUNTIF(E$1:E559,E559)","v":"金16-18"},"縢","金",16]
["金10","宰","金",10,"火16",{"$f":"E560&\"-\"&COUNTIF(E$1:E560,E560)","v":"火16-27"},"陶","火",16]
["木10","宮","木",10,"火16",{"$f":"E561&\"-\"&COUNTIF(E$1:E561,E561)","v":"火16-28"},"陳","火",16]
["火10","畜","火",10,"火16",{"$f":"E562&\"-\"&COUNTIF(E$1:E562,E562)","v":"火16-29"},"陵","火",16]
["火10","凌","火",10,"土16",{"$f":"E563&\"-\"&COUNTIF(E$1:E563,E563)","v":"土16-12"},"陰","土",16]
["金10","修","金",10,"火16",{"$f":"E564&\"-\"&COUNTIF(E$1:E564,E564)","v":"火16-30"},"璋","火",16]
["水10","候","水",10,"水16",{"$f":"E565&\"-\"&COUNTIF(E$1:E565,E565)","v":"水16-18"},"謀","水",16]
["木10","倚","木",10,"金16",{"$f":"E566&\"-\"&COUNTIF(E$1:E566,E566)","v":"金16-19"},"諭","金",16]
["火10","倫","火",10,"木16",{"$f":"E567&\"-\"&COUNTIF(E$1:E567,E567)","v":"木16-14"},"罃","木",16]
["木10","倪","木",10,"火16",{"$f":"E568&\"-\"&COUNTIF(E$1:E568,E568)","v":"火16-31"},"燄","火",16]
["火9","蛣","火",9,"土16",{"$f":"E569&\"-\"&COUNTIF(E$1:E569,E569)","v":"土16-13"},"螢","土",16]
["木9","姬","木",9,"火16",{"$f":"E570&\"-\"&COUNTIF(E$1:E570,E570)","v":"火16-32"},"燉","火",16]
["土9","姚","土",9,"火16",{"$f":"E571&\"-\"&COUNTIF(E$1:E571,E571)","v":"火16-33"},"澄","火",16]
["水9","紅","水",9,"木16",{"$f":"E572&\"-\"&COUNTIF(E$1:E572,E572)","v":"木16-15"},"潰","木",16]
["木9","紀","木",9,"木16",{"$f":"E573&\"-\"&COUNTIF(E$1:E573,E573)","v":"木16-16"},"澆","木",16]
["木9","羿","木",9,"火16",{"$f":"E574&\"-\"&COUNTIF(E$1:E574,E574)","v":"火16-34"},"澂","火",16]
["木9","建","木",9,"火16",{"$f":"E575&\"-\"&COUNTIF(E$1:E575,E575)","v":"火16-35"},"潤","火",16]
["土9","韋","土",9,"火16",{"$f":"E576&\"-\"&COUNTIF(E$1:E576,E576)","v":"火16-36"},"潮","火",16]
["金9","昝","金",9,"木16",{"$f":"E577&\"-\"&COUNTIF(E$1:E577,E577)","v":"木16-17"},"潔","木",16]
["水9","風","水",9,{"$f":"H578&I578","v":"火16"},{"$f":"E578&\"-\"&COUNTIF(E$1:E578,E578)","v":"火16-37"},"潭","火",16]
["水9","狐","水",9,"水16",{"$f":"E579&\"-\"&COUNTIF(E$1:E579,E579)","v":"水16-19"},"潢","水",16]
["水9","後","水",9,"金16",{"$f":"E580&\"-\"&COUNTIF(E$1:E580,E580)","v":"金16-20"},"澍","金",16]
["金9","泉","金",9,"火16",{"$f":"E581&\"-\"&COUNTIF(E$1:E581,E581)","v":"火16-38"},"瑾","火",16]
["水9","皇","水",9,"金16",{"$f":"E582&\"-\"&COUNTIF(E$1:E582,E582)","v":"金16-21"},"燒","金",16]
["火9","段","火",9,"火16",{"$f":"E583&\"-\"&COUNTIF(E$1:E583,E583)","v":"火16-39"},"燑","火",16]
["土9","禹","土",9,"水16",{"$f":"E584&\"-\"&COUNTIF(E$1:E584,E584)","v":"水16-20"},"燁","水",16]
["金9","帥","金",9,"金16",{"$f":"E585&\"-\"&COUNTIF(E$1:E585,E585)","v":"金16-22"},"熾","金",16]
[{"$f":"C586&D586","v":"火9"},"种","火",9,"金16",{"$f":"E586&\"-\"&COUNTIF(E$1:E586,E586)","v":"金16-23"},"燃","金",16]
["金9","秋","金",9,"火16",{"$f":"E587&\"-\"&COUNTIF(E$1:E587,E587)","v":"火16-40"},"燈","火",16]
["火9","重","火",9,"水16",{"$f":"E588&\"-\"&COUNTIF(E$1:E588,E588)","v":"水16-21"},"蟢","水",16]
["金9","兪","金",9,"火16",{"$f":"E589&\"-\"&COUNTIF(E$1:E589,E589)","v":"火16-41"},"燐","火",16]
["水9","侯","水",9,"火16",{"$f":"E590&\"-\"&COUNTIF(E$1:E590,E590)","v":"火16-42"},"積","火",16]
["水9","保","水",9,"木16",{"$f":"E591&\"-\"&COUNTIF(E$1:E591,E591)","v":"木16-18"},"橘","木",16]
["金9","信","金",9,"火16",{"$f":"E592&\"-\"&COUNTIF(E$1:E592,E592)","v":"火16-43"},"撮","火",16]
["木9","俠","木",9,"火16",{"$f":"E593&\"-\"&COUNTIF(E$1:E593,E593)","v":"火16-44"},"樽","火",16]
["土9","彫","土",9,"水16",{"$f":"E594&\"-\"&COUNTIF(E$1:E594,E594)","v":"水16-22"},"樺","水",16]
["木9","契","木",9,"水16",{"$f":"E595&\"-\"&COUNTIF(E$1:E595,E595)","v":"水16-23"},"橫","水",16]
["金9","春","金",9,"木16",{"$f":"E596&\"-\"&COUNTIF(E$1:E596,E596)","v":"木16-19"},"橋","木",16]
["火9","南","火",9,"木16",{"$f":"E597&\"-\"&COUNTIF(E$1:E597,E597)","v":"木16-20"},"機","木",16]
["水9","奔","水",9,"金16",{"$f":"E598&\"-\"&COUNTIF(E$1:E598,E598)","v":"金16-24"},"樹","金",16]
["金9","庫","金",9,"火16",{"$f":"E599&\"-\"&COUNTIF(E$1:E599,E599)","v":"火16-45"},"錄","火",16]
["水9","咸","水",9,"金16",{"$f":"E600&\"-\"&COUNTIF(E$1:E600,E600)","v":"金16-25"},"錯","金",16]
["土9","威","土",9,"金16",{"$f":"E601&\"-\"&COUNTIF(E$1:E601,E601)","v":"金16-26"},"寰","金",16]
["金9","星","金",9,"金16",{"$f":"E602&\"-\"&COUNTIF(E$1:E602,E602)","v":"金16-27"},"錢","金",16]
["火9","昭","火",9,"火16",{"$f":"E603&\"-\"&COUNTIF(E$1:E603,E603)","v":"火16-46"},"錠","火",16]
["水9","哈","水",9,"木16",{"$f":"E604&\"-\"&COUNTIF(E$1:E604,E604)","v":"木16-21"},"鋸","木",16]
["水9","勃","水",9,"金16",{"$f":"E605&\"-\"&COUNTIF(E$1:E605,E605)","v":"金16-28"},"錫","金",16]
["水9","封","水",9,"木16",{"$f":"E606&\"-\"&COUNTIF(E$1:E606,E606)","v":"木16-22"},"錡","木",16]
["火9","招","火",9,"金16",{"$f":"E607&\"-\"&COUNTIF(E$1:E607,E607)","v":"金16-29"},"錐","金",16]
["水9","抱","水",9,"木16",{"$f":"E608&\"-\"&COUNTIF(E$1:E608,E608)","v":"木16-23"},"鋼","木",16]
["火9","柱","火",9,"木16",{"$f":"E609&\"-\"&COUNTIF(E$1:E609,E609)","v":"木16-24"},"錦","木",16]
["水9","柏","水",9,"水16",{"$f":"E610&\"-\"&COUNTIF(E$1:E610,E610)","v":"水16-24"},"鋅","水",16]
["火9","柳","火",9,"火16",{"$f":"E611&\"-\"&COUNTIF(E$1:E611,E611)","v":"火16-47"},"錚","火",16]
["金9","柴","金",9,"金16",{"$f":"E612&\"-\"&COUNTIF(E$1:E612,E612)","v":"金16-30"},"錘","金",16]
["金9","相","金",9,"木16",{"$f":"E613&\"-\"&COUNTIF(E$1:E613,E613)","v":"木16-25"},"褲","木",16]
["金9","查","金",9,"金16",{"$f":"E614&\"-\"&COUNTIF(E$1:E614,E614)","v":"金16-31"},"璇","金",16]
["金9","柘","金",9,"火16",{"$f":"E615&\"-\"&COUNTIF(E$1:E615,E615)","v":"火16-48"},"達","火",16]
["木9","柯","木",9,"土16",{"$f":"E616&\"-\"&COUNTIF(E$1:E616,E616)","v":"土16-14"},"運","土",16]
["木9","怪","木",9,"水16",{"$f":"E617&\"-\"&COUNTIF(E$1:E617,E617)","v":"水16-25"},"遍","水",16]
["土9","羑","土",9,"火16",{"$f":"E618&\"-\"&COUNTIF(E$1:E618,E618)","v":"火16-49"},"遂","火",16]
["木9","姜","木",9,"木16",{"$f":"E619&\"-\"&COUNTIF(E$1:E619,E619)","v":"木16-26"},"過","木",16]
["火9","度","火",9,"土16",{"$f":"E620&\"-\"&COUNTIF(E$1:E620,E620)","v":"土16-15"},"遊","土",16]
["木9","計","木",9,"木16",{"$f":"E621&\"-\"&COUNTIF(E$1:E621,E621)","v":"木16-27"},"遇","木",16]
["金9","施","金",9,"土16",{"$f":"E622&\"-\"&COUNTIF(E$1:E622,E622)","v":"土16-16"},"遐","土",16]
["木9","冠","木",9,"火16",{"$f":"E623&\"-\"&COUNTIF(E$1:E623,E623)","v":"火16-50"},"道","火",16]
["水9","宦","水",9,"土15",{"$f":"E624&\"-\"&COUNTIF(E$1:E624,E624)","v":"土15-1"},"郵","土",15]
["金9","宣","金",9,"火15",{"$f":"E625&\"-\"&COUNTIF(E$1:E625,E625)","v":"火15-1"},"霆","火",15]
["火9","沮","火",9,"火15",{"$f":"E626&\"-\"&COUNTIF(E$1:E626,E626)","v":"火15-2"},"麃","火",15]
["火9","泥","火",9,"水15",{"$f":"E627&\"-\"&COUNTIF(E$1:E627,E627)","v":"水15-1"},"熛","水",15]
["火9","治","火",9,"火15",{"$f":"E628&\"-\"&COUNTIF(E$1:E628,E628)","v":"火15-3"},"蒂","火",15]
["水9","法","水",9,"土15",{"$f":"E629&\"-\"&COUNTIF(E$1:E629,E629)","v":"土15-2"},"葉","土",15]
["金8","承","金",8,"水15",{"$f":"E630&\"-\"&COUNTIF(E$1:E630,E630)","v":"水15-2"},"萬","水",15]
["水8","孟","水",8,"水15",{"$f":"E631&\"-\"&COUNTIF(E$1:E631,E631)","v":"水15-3"},"賢","水",15]
["水8","弦","水",8,"金15",{"$f":"E632&\"-\"&COUNTIF(E$1:E632,E632)","v":"金15-1"},"辤","金",15]
["木8","屈","木",8,"土15",{"$f":"E633&\"-\"&COUNTIF(E$1:E633,E633)","v":"土15-3"},"蝯","土",15]
["火8","居","火",8,"木15",{"$f":"E634&\"-\"&COUNTIF(E$1:E634,E634)","v":"木15-1"},"駒","木",15]
["金8","姒","金",8,"金15",{"$f":"E635&\"-\"&COUNTIF(E$1:E635,E635)","v":"金15-2"},"敷","金",15]
["木8","姑","木",8,"水15",{"$f":"E636&\"-\"&COUNTIF(E$1:E636,E636)","v":"水15-4"},"賦","水",15]
["金8","所","金",8,"水15",{"$f":"E637&\"-\"&COUNTIF(E$1:E637,E637)","v":"水15-5"},"樗","水",15]
["水8","服","水",8,"土15",{"$f":"E638&\"-\"&COUNTIF(E$1:E638,E638)","v":"土15-4"},"憂","土",15]
["水8","朋","水",8,"金15",{"$f":"E639&\"-\"&COUNTIF(E$1:E639,E639)","v":"金15-3"},"靓","金",15]
["木8","岳","木",8,"水15",{"$f":"E640&\"-\"&COUNTIF(E$1:E640,E640)","v":"水15-6"},"蝙","水",15]
["火8","狄","火",8,"金15",{"$f":"E641&\"-\"&COUNTIF(E$1:E641,E641)","v":"金15-4"},"熱","金",15]
["水8","房","水",8,{"$f":"H642&I642","v":"金15"},{"$f":"E642&\"-\"&COUNTIF(E$1:E642,E642)","v":"金15-5"},"請","金",15]
["火8","周","火",8,"金15",{"$f":"E643&\"-\"&COUNTIF(E$1:E643,E643)","v":"金15-6"},"諄","金",15]
["火8","知","火",8,"水15",{"$f":"E644&\"-\"&COUNTIF(E$1:E644,E644)","v":"水15-7"},"箲","水",15]
["金8","牧","金",8,"水15",{"$f":"E645&\"-\"&COUNTIF(E$1:E645,E645)","v":"水15-8"},"賠","水",15]
["火8","竺","火",8,"木15",{"$f":"E646&\"-\"&COUNTIF(E$1:E646,E646)","v":"木15-2"},"歎","木",15]
["水8","和","水",8,"火15",{"$f":"E647&\"-\"&COUNTIF(E$1:E647,E647)","v":"火15-4"},"魯","火",15]
["木8","季","木",8,"金15",{"$f":"E648&\"-\"&COUNTIF(E$1:E648,E648)","v":"金15-7"},"嬃","金",15]
["木8","金","木",8,"水15",{"$f":"E649&\"-\"&COUNTIF(E$1:E649,E649)","v":"水15-9"},"盤","水",15]
[{"$f":"C650&D650","v":"火8"},"佼","火",8,"火15",{"$f":"E650&\"-\"&COUNTIF(E$1:E650,E650)","v":"火15-5"},"寮","火",15]
["土8","依","土",8,"木15",{"$f":"E651&\"-\"&COUNTIF(E$1:E651,E651)","v":"木15-3"},"劍","木",15]
["水8","呼","水",8,"木15",{"$f":"E652&\"-\"&COUNTIF(E$1:E652,E652)","v":"木15-4"},"確","木",15]
["木8","昆","木",8,"水15",{"$f":"E653&\"-\"&COUNTIF(E$1:E653,E653)","v":"水15-10"},"履","水",15]
["金8","昌","金",8,"水15",{"$f":"E654&\"-\"&COUNTIF(E$1:E654,E654)","v":"水15-11"},"摩","水",15]
["水8","明","水",8,"水15",{"$f":"E655&\"-\"&COUNTIF(E$1:E655,E655)","v":"水15-12"},"瞞","水",15]
["火8","典","火",8,"土15",{"$f":"E656&\"-\"&COUNTIF(E$1:E656,E656)","v":"土15-5"},"蝴","土",15]
["火8","具","火",8,"土15",{"$f":"E657&\"-\"&COUNTIF(E$1:E657,E657)","v":"土15-6"},"熲","土",15]
["水8","昊","水",8,"火15",{"$f":"E658&\"-\"&COUNTIF(E$1:E658,E658)","v":"火15-6"},"質","火",15]
["土8","易","土",8,"火15",{"$f":"E659&\"-\"&COUNTIF(E$1:E659,E659)","v":"火15-7"},"踐","火",15]
["水8","門","水",8,"火15",{"$f":"E660&\"-\"&COUNTIF(E$1:E660,E660)","v":"火15-8"},"駐","火",15]
["火8","卓","火",8,"水15",{"$f":"E661&\"-\"&COUNTIF(E$1:E661,E661)","v":"水15-13"},"醇","水",15]
["金8","尙","金",8,"火15",{"$f":"E662&\"-\"&COUNTIF(E$1:E662,E662)","v":"火15-9"},"暂","火",15]
["火8","到","火",8,"木15",{"$f":"E663&\"-\"&COUNTIF(E$1:E663,E663)","v":"木15-5"},"窮","木",15]
["火8","直","火",8,"金15",{"$f":"E664&\"-\"&COUNTIF(E$1:E664,E664)","v":"金15-8"},"蝕","金",15]
["木8","祁","木",8,"木15",{"$f":"E665&\"-\"&COUNTIF(E$1:E665,E665)","v":"木15-6"},"麪","木",15]
["水8","武","水",8,"水15",{"$f":"E666&\"-\"&COUNTIF(E$1:E666,E666)","v":"水15-14"},"虢","水",15]
["金8","叔","金",8,"火15",{"$f":"E667&\"-\"&COUNTIF(E$1:E667,E667)","v":"火15-10"},"鼐","火",15]
["土8","艾","土",8,"金15",{"$f":"E668&\"-\"&COUNTIF(E$1:E668,E668)","v":"金15-9"},"數","金",15]
["金8","青","金",8,"火15",{"$f":"E669&\"-\"&COUNTIF(E$1:E669,E669)","v":"火15-11"},"摘","火",15]
["土8","盂","土",8,"水15",{"$f":"E670&\"-\"&COUNTIF(E$1:E670,E670)","v":"水15-15"},"慢","水",15]
["金8","昔","金",8,"火15",{"$f":"E671&\"-\"&COUNTIF(E$1:E671,E671)","v":"火15-12"},"萳","火",15]
["水8","幸","水",8,"火15",{"$f":"E672&\"-\"&COUNTIF(E$1:E672,E672)","v":"火15-13"},"除","火",15]
["水8","把","水",8,"火15",{"$f":"E673&\"-\"&COUNTIF(E$1:E673,E673)","v":"火15-14"},"瑯","火",15]
["水8","扶","水",8,"金15",{"$f":"E674&\"-\"&COUNTIF(E$1:E674,E674)","v":"金15-10"},"瑱","金",15]
["火8","折","火",8,"土15",{"$f":"E675&\"-\"&COUNTIF(E$1:E675,E675)","v":"土15-7"},"演","土",15]
["火8","東","火",8,"水15",{"$f":"E676&\"-\"&COUNTIF(E$1:E676,E676)","v":"水15-16"},"輩","水",15]
["木8","奇","木",8,"水15",{"$f":"E677&\"-\"&COUNTIF(E$1:E677,E677)","v":"水15-17"},"賣","水",15]
["火8","枝","火",8,"木15",{"$f":"E678&\"-\"&COUNTIF(E$1:E678,E678)","v":"木15-7"},"頡","木",15]
["金8","松","金",8,"水15",{"$f":"E679&\"-\"&COUNTIF(E$1:E679,E679)","v":"水15-18"},"篇","水",15]
["金8","析","金",8,"金15",{"$f":"E680&\"-\"&COUNTIF(E$1:E680,E680)","v":"金15-11"},"震","金",15]
["水8","杭","水",8,"水15",{"$f":"E681&\"-\"&COUNTIF(E$1:E681,E681)","v":"水15-19"},"奭","水",15]
["火8","林","火",8,"土15",{"$f":"E682&\"-\"&COUNTIF(E$1:E682,E682)","v":"土15-8"},"豌","土",15]
["金8","羌","金",8,"火15",{"$f":"E683&\"-\"&COUNTIF(E$1:E683,E683)","v":"火15-15"},"蝶","火",15]
["水8","放","水",8,"木15",{"$f":"E684&\"-\"&COUNTIF(E$1:E684,E684)","v":"木15-8"},"誼","木",15]
["土8","於","土",8,"木15",{"$f":"E685&\"-\"&COUNTIF(E$1:E685,E685)","v":"木15-9"},"嬌","木",15]
["木8","京","木",8,"水15",{"$f":"E686&\"-\"&COUNTIF(E$1:E686,E686)","v":"水15-20"},"瞑","水",15]
["火8","定","火",8,"木15",{"$f":"E687&\"-\"&COUNTIF(E$1:E687,E687)","v":"木15-10"},"寬","木",15]
["木8","空","木",8,"火15",{"$f":"E688&\"-\"&COUNTIF(E$1:E688,E688)","v":"火15-16"},"頫","火",15]
["火8","宓","火",8,"火15",{"$f":"E689&\"-\"&COUNTIF(E$1:E689,E689)","v":"火15-17"},"腸","火",15]
["土8","宛","土",8,"木15",{"$f":"E690&\"-\"&COUNTIF(E$1:E690,E690)","v":"木15-11"},"嫻","木",15]
["金8","宗","金",8,"水15",{"$f":"E691&\"-\"&COUNTIF(E$1:E691,E691)","v":"水15-21"},"墨","水",15]
["木8","汲","木",8,"木15",{"$f":"E692&\"-\"&COUNTIF(E$1:E692,E692)","v":"木15-12"},"慶","木",15]
["土8","沃","土",8,"金15",{"$f":"E693&\"-\"&COUNTIF(E$1:E693,E693)","v":"金15-12"},"賜","金",15]
["水8","沐","水",8,"木15",{"$f":"E694&\"-\"&COUNTIF(E$1:E694,E694)","v":"木15-13"},"箴","木",15]
["金8","沙","金",8,"土15",{"$f":"E695&\"-\"&COUNTIF(E$1:E695,E695)","v":"土15-9"},"頞","土",15]
["金8","沈","金",8,"土15",{"$f":"E696&\"-\"&COUNTIF(E$1:E696,E696)","v":"土15-10"},"影","土",15]
["土8","汪","土",8,"金15",{"$f":"E697&\"-\"&COUNTIF(E$1:E697,E697)","v":"金15-13"},"趣","金",15]
["金8","冼","金",8,"土15",{"$f":"E698&\"-\"&COUNTIF(E$1:E698,E698)","v":"土15-11"},"瑩","土",15]
["土7","妘","土",7,"水15",{"$f":"E699&\"-\"&COUNTIF(E$1:E699,E699)","v":"水15-22"},"滿","水",15]
["水7","免","水",7,"水15",{"$f":"E700&\"-\"&COUNTIF(E$1:E700,E700)","v":"水15-23"},"漂","水",15]
["木7","改","木",7,"土15",{"$f":"E701&\"-\"&COUNTIF(E$1:E701,E701)","v":"土15-12"},"漁","土",15]
["木7","忌","木",7,"火15",{"$f":"E702&\"-\"&COUNTIF(E$1:E702,E702)","v":"火15-18"},"滌","火",15]
["水7","尾","水",7,"金15",{"$f":"E703&\"-\"&COUNTIF(E$1:E703,E703)","v":"金15-14"},"漩","金",15]
["金7","系","金",7,"水15",{"$f":"E704&\"-\"&COUNTIF(E$1:E704,E704)","v":"水15-24"},"漢","水",15]
["火7","彤","火",7,"水15",{"$f":"E705&\"-\"&COUNTIF(E$1:E705,E705)","v":"水15-25"},"漠","水",15]
["土7","延","土",7,{"$f":"H706&I706","v":"金15"},{"$f":"E706&\"-\"&COUNTIF(E$1:E706,E706)","v":"金15-15"},"漱","金",15]
["土7","禿","土",7,"土15",{"$f":"E707&\"-\"&COUNTIF(E$1:E707,E707)","v":"土15-13"},"滺","土",15]
["金7","秀","金",7,"金15",{"$f":"E708&\"-\"&COUNTIF(E$1:E708,E708)","v":"金15-16"},"潰","金",15]
["木7","我","木",7,"水15",{"$f":"E709&\"-\"&COUNTIF(E$1:E709,E709)","v":"水15-26"},"滹","水",15]
["火7","利","火",7,"木15",{"$f":"E710&\"-\"&COUNTIF(E$1:E710,E710)","v":"木15-14"},"滾","木",15]
["金7","佘","金",7,"木15",{"$f":"E711&\"-\"&COUNTIF(E$1:E711,E711)","v":"木15-15"},"滸","木",15]
["土7","余","土",7,"木15",{"$f":"E712&\"-\"&COUNTIF(E$1:E712,E712)","v":"木15-16"},"漪","木",15]
["火7","佗","火",7,"木15",{"$f":"E713&\"-\"&COUNTIF(E$1:E713,E713)","v":"木15-17"},"郭","木",15]
[{"$f":"C714&D714","v":"金7"},"作","金",7,"水15",{"$f":"E714&\"-\"&COUNTIF(E$1:E714,E714)","v":"水15-27"},"部","水",15]
["火7","佟","火",7,"木15",{"$f":"E715&\"-\"&COUNTIF(E$1:E715,E715)","v":"木15-18"},"穀","木",15]
["水7","何","水",7,"水15",{"$f":"E716&\"-\"&COUNTIF(E$1:E716,E716)","v":"水15-28"},"興","水",15]
["木7","岑","木",7,"水15",{"$f":"E717&\"-\"&COUNTIF(E$1:E717,E717)","v":"水15-29"},"稷","水",15]
["金7","壯","金",7,"水15",{"$f":"E718&\"-\"&COUNTIF(E$1:E718,E718)","v":"水15-30"},"模","水",15]
["木7","岐","木",7,"水15",{"$f":"E719&\"-\"&COUNTIF(E$1:E719,E719)","v":"水15-31"},"漫","水",15]
["水7","步","水",7,"金15",{"$f":"E720&\"-\"&COUNTIF(E$1:E720,E720)","v":"金15-17"},"葱","金",15]
["火7","里","火",7,"水15",{"$f":"E721&\"-\"&COUNTIF(E$1:E721,E721)","v":"水15-32"},"暮","水",15]
["水7","貝","水",7,"火15",{"$f":"E722&\"-\"&COUNTIF(E$1:E722,E722)","v":"火15-19"},"進","火",15]
["土7","邑","土",7,"金15",{"$f":"E723&\"-\"&COUNTIF(E$1:E723,E723)","v":"金15-18"},"葫","金",15]
["水7","別","水",7,"金15",{"$f":"E724&\"-\"&COUNTIF(E$1:E724,E724)","v":"金15-19"},"瑲","金",15]
["火7","呂","火",7,"水15",{"$f":"E725&\"-\"&COUNTIF(E$1:E725,E725)","v":"水15-33"},"慧","水",15]
["土7","吳","土",7,"金15",{"$f":"E726&\"-\"&COUNTIF(E$1:E726,E726)","v":"金15-20"},"熟","金",15]
["金7","成","金",7,"水15",{"$f":"E727&\"-\"&COUNTIF(E$1:E727,E727)","v":"水15-34"},"劈","水",15]
["水7","孝","水",7,"土15",{"$f":"E728&\"-\"&COUNTIF(E$1:E728,E728)","v":"土15-14"},"糊","土",15]
["土7","酉","土",7,"木15",{"$f":"E729&\"-\"&COUNTIF(E$1:E729,E729)","v":"木15-19"},"靠","木",15]
["金7","束","金",7,"土15",{"$f":"E730&\"-\"&COUNTIF(E$1:E730,E730)","v":"土15-15"},"鞍","土",15]
["木7","五","木",7,"火15",{"$f":"E731&\"-\"&COUNTIF(E$1:E731,E731)","v":"火15-20"},"論","火",15]
["水7","甫","水",7,"火15",{"$f":"E732&\"-\"&COUNTIF(E$1:E732,E732)","v":"火15-21"},"敵","火",15]
["水7","巫","水",7,"水15",{"$f":"E733&\"-\"&COUNTIF(E$1:E733,E733)","v":"水15-35"},"輝","水",15]
["金7","車","金",7,"金15",{"$f":"E734&\"-\"&COUNTIF(E$1:E734,E734)","v":"金15-21"},"霄","金",15]
["土7","杌","土",7,"土15",{"$f":"E735&\"-\"&COUNTIF(E$1:E735,E735)","v":"土15-16"},"歐","土",15]
["金7","杞","金",7,"木15",{"$f":"E736&\"-\"&COUNTIF(E$1:E736,E736)","v":"木15-20"},"劇","木",15]
["火7","杜","火",7,"金15",{"$f":"E737&\"-\"&COUNTIF(E$1:E737,E737)","v":"金15-22"},"锐","金",15]
["火7","李","火",7,"金15",{"$f":"E738&\"-\"&COUNTIF(E$1:E738,E738)","v":"金15-23"},"碩","金",15]
["水7","罕","水",7,"火15",{"$f":"E739&\"-\"&COUNTIF(E$1:E739,E739)","v":"火15-22"},"皚","火",15]
["火7","良","火",7,"土15",{"$f":"E740&\"-\"&COUNTIF(E$1:E740,E740)","v":"土15-17"},"尉","土",15]
["木7","谷","木",7,"火15",{"$f":"E741&\"-\"&COUNTIF(E$1:E741,E741)","v":"火15-23"},"輪","火",15]
["金7","辛","金",7,"水15",{"$f":"E742&\"-\"&COUNTIF(E$1:E742,E742)","v":"水15-36"},"餅","水",15]
["木7","言","木",7,"金15",{"$f":"E743&\"-\"&COUNTIF(E$1:E743,E743)","v":"金15-24"},"幟","金",15]
["火7","汝","火",7,"水15",{"$f":"E744&\"-\"&COUNTIF(E$1:E744,E744)","v":"水15-37"},"蝠","水",15]
["火7","池","火",7,"水15",{"$f":"E745&\"-\"&COUNTIF(E$1:E745,E745)","v":"水15-38"},"蝦","水",15]
["木7","江","木",7,"火15",{"$f":"E746&\"-\"&COUNTIF(E$1:E746,E746)","v":"火15-24"},"墩","火",15]
["土7","冶","土",7,"金15",{"$f":"E747&\"-\"&COUNTIF(E$1:E747,E747)","v":"金15-25"},"審","金",15]
["火7","冷","火",7,"木15",{"$f":"E748&\"-\"&COUNTIF(E$1:E748,E748)","v":"木15-21"},"毅","木",15]
["火7","牢","火",7,"火15",{"$f":"E749&\"-\"&COUNTIF(E$1:E749,E749)","v":"火15-25"},"層","火",15]
["金7","宋","金",7,"土15",{"$f":"E750&\"-\"&COUNTIF(E$1:E750,E750)","v":"土15-18"},"逸","土",15]
["金6","羽","金",6,"水15",{"$f":"E751&\"-\"&COUNTIF(E$1:E751,E751)","v":"水15-39"},"霈","水",15]
["水6","牟","水",6,"火15",{"$f":"E752&\"-\"&COUNTIF(E$1:E752,E752)","v":"火15-26"},"談","火",15]
["金6","夙","金",6,"土15",{"$f":"E753&\"-\"&COUNTIF(E$1:E753,E753)","v":"土15-19"},"養","土",15]
["水6","名","水",6,"木15",{"$f":"E754&\"-\"&COUNTIF(E$1:E754,E754)","v":"木15-22"},"駕","木",15]
["木6","危","木",6,"木15",{"$f":"E755&\"-\"&COUNTIF(E$1:E755,E755)","v":"木15-23"},"課","木",15]
["土6","印","土",6,"水15",{"$f":"E756&\"-\"&COUNTIF(E$1:E756,E756)","v":"水15-40"},"磐","水",15]
["火6","多","火",6,"火15",{"$f":"E757&\"-\"&COUNTIF(E$1:E757,E757)","v":"火15-27"},"彈","火",15]
["水6","后","水",6,"土15",{"$f":"E758&\"-\"&COUNTIF(E$1:E758,E758)","v":"土15-20"},"閱","土",15]
["水6","行","水",6,"火15",{"$f":"E759&\"-\"&COUNTIF(E$1:E759,E759)","v":"火15-28"},"慮","火",15]
["火6","用","火",6,"水15",{"$f":"E760&\"-\"&COUNTIF(E$1:E760,E760)","v":"水15-41"},"嬉","水",15]
["火6","年","火",6,"土15",{"$f":"E761&\"-\"&COUNTIF(E$1:E761,E761)","v":"土15-21"},"潁","土",15]
["金6","先","金",6,"火15",{"$f":"E762&\"-\"&COUNTIF(E$1:E762,E762)","v":"火15-29"},"増","火",15]
["火6","竹","火",6,"水15",{"$f":"E763&\"-\"&COUNTIF(E$1:E763,E763)","v":"水15-42"},"魄","水",15]
["金6","朱","金",6,"金15",{"$f":"E764&\"-\"&COUNTIF(E$1:E764,E764)","v":"金15-26"},"賞","金",15]
["水6","合","水",6,"水15",{"$f":"E765&\"-\"&COUNTIF(E$1:E765,E765)","v":"水15-43"},"廟","水",15]
["火6","全","火",6,"金15",{"$f":"E766&\"-\"&COUNTIF(E$1:E766,E766)","v":"金15-27"},"箱","金",15]
["土6","伊","土",6,"金15",{"$f":"E767&\"-\"&COUNTIF(E$1:E767,E767)","v":"金15-28"},"嬋","金",15]
["木6","仰","木",6,"火15",{"$f":"E768&\"-\"&COUNTIF(E$1:E768,E768)","v":"火15-30"},"豎","火",15]
["金6","任","金",6,"木15",{"$f":"E769&\"-\"&COUNTIF(E$1:E769,E769)","v":"木15-24"},"鞏","木",15]
["火6","仲","火",6,{"$f":"H770&I770","v":"水15"},{"$f":"E770&\"-\"&COUNTIF(E$1:E770,E770)","v":"水15-44"},"範","水",15]
["木6","伍","木",6,"水15",{"$f":"E771&\"-\"&COUNTIF(E$1:E771,E771)","v":"水15-45"},"鋪","水",15]
["水6","伐","水",6,"火15",{"$f":"E772&\"-\"&COUNTIF(E$1:E772,E772)","v":"火15-31"},"調","火",15]
["水6","伏","水",6,"水15",{"$f":"E773&\"-\"&COUNTIF(E$1:E773,E773)","v":"水15-46"},"暴","水",15]
["木6","伉","木",6,"火15",{"$f":"E774&\"-\"&COUNTIF(E$1:E774,E774)","v":"火15-32"},"樂","火",15]
["火6","同","火",6,"水15",{"$f":"E775&\"-\"&COUNTIF(E$1:E775,E775)","v":"水15-47"},"翩","水",15]
["木6","曲","木",6,"火15",{"$f":"E776&\"-\"&COUNTIF(E$1:E776,E776)","v":"火15-33"},"箭","火",15]
["木6","光","木",6,"火15",{"$f":"E777&\"-\"&COUNTIF(E$1:E777,E777)","v":"火15-34"},"諒","火",15]
[{"$f":"C778&D778","v":"土6"},"匡","土",6,"火15",{"$f":"E778&\"-\"&COUNTIF(E$1:E778,E778)","v":"火15-35"},"劉","火",15]
["木6","戎","木",6,"土15",{"$f":"E779&\"-\"&COUNTIF(E$1:E779,E779)","v":"土15-22"},"院","土",15]
["水6","百","水",6,"火15",{"$f":"E780&\"-\"&COUNTIF(E$1:E780,E780)","v":"火15-36"},"瑭","火",15]
["土6","有","土",6,"火15",{"$f":"E781&\"-\"&COUNTIF(E$1:E781,E781)","v":"火15-37"},"逵","火",15]
["火6","列","火",6,"金15",{"$f":"E782&\"-\"&COUNTIF(E$1:E782,E782)","v":"金15-29"},"磁","金",15]
["金6","西","金",6,"土15",{"$f":"E783&\"-\"&COUNTIF(E$1:E783,E783)","v":"土15-23"},"億","土",15]
["木6","共","木",6,"木15",{"$f":"E784&\"-\"&COUNTIF(E$1:E784,E784)","v":"木15-25"},"儀","木",15]
["金6","寺","金",6,"木15",{"$f":"E785&\"-\"&COUNTIF(E$1:E785,E785)","v":"木15-26"},"價","木",15]
["木6","吉","木",6,"火15",{"$f":"E786&\"-\"&COUNTIF(E$1:E786,E786)","v":"火15-38"},"陣","火",15]
["火6","老","火",6,"金15",{"$f":"E787&\"-\"&COUNTIF(E$1:E787,E787)","v":"金15-30"},"陞","金",15]
["金6","州","金",6,"木15",{"$f":"E788&\"-\"&COUNTIF(E$1:E788,E788)","v":"木15-27"},"儉","木",15]
["金6","舟","金",6,"水15",{"$f":"E789&\"-\"&COUNTIF(E$1:E789,E789)","v":"水15-48"},"僻","水",15]
["金6","充","金",6,"金15",{"$f":"E790&\"-\"&COUNTIF(E$1:E790,E790)","v":"金15-31"},"衝","金",15]
["金6","向","金",6,"火15",{"$f":"E791&\"-\"&COUNTIF(E$1:E791,E791)","v":"火15-39"},"德","火",15]
["土6","宇","土",6,"火15",{"$f":"E792&\"-\"&COUNTIF(E$1:E792,E792)","v":"火15-40"},"徹","火",15]
["土6","安","土",6,"火15",{"$f":"E793&\"-\"&COUNTIF(E$1:E793,E793)","v":"火15-41"},"徵","火",15]
["土6","羊","土",6,"火15",{"$f":"E794&\"-\"&COUNTIF(E$1:E794,E794)","v":"火15-42"},"樑","火",15]
["水6","米","水",6,"木15",{"$f":"E795&\"-\"&COUNTIF(E$1:E795,E795)","v":"木15-28"},"稼","木",15]
["水5","弗","水",5,"火15",{"$f":"E796&\"-\"&COUNTIF(E$1:E796,E796)","v":"火15-43"},"稻","火",15]
["金5","司","金",5,"金15",{"$f":"E797&\"-\"&COUNTIF(E$1:E797,E797)","v":"金15-32"},"磋","金",15]
["水5","弘","水",5,"木15",{"$f":"E798&\"-\"&COUNTIF(E$1:E798,E798)","v":"木15-29"},"萼","木",15]
["火5","召","火",5,"金15",{"$f":"E799&\"-\"&COUNTIF(E$1:E799,E799)","v":"金15-33"},"槽","金",15]
["水5","皮","水",5,"火15",{"$f":"E800&\"-\"&COUNTIF(E$1:E800,E800)","v":"火15-44"},"樓","火",15]
["木5","句","木",5,"木15",{"$f":"E801&\"-\"&COUNTIF(E$1:E801,E801)","v":"木15-30"},"樞","木",15]
["水5","包","水",5,"土15",{"$f":"E802&\"-\"&COUNTIF(E$1:E802,E802)","v":"土15-24"},"樣","土",15]
["金5","生","金",5,"水15",{"$f":"E803&\"-\"&COUNTIF(E$1:E803,E803)","v":"水15-49"},"模","水",15]
["火5","代","火",5,"火15",{"$f":"E804&\"-\"&COUNTIF(E$1:E804,E804)","v":"火15-45"},"樟","火",15]
["火5","令","火",5,"水15",{"$f":"E805&\"-\"&COUNTIF(E$1:E805,E805)","v":"水15-50"},"標","水",15]
["木5","丘","木",5,"木15",{"$f":"E806&\"-\"&COUNTIF(E$1:E806,E806)","v":"木15-31"},"廣","木",15]
["水5","白","水",5,"木15",{"$f":"E807&\"-\"&COUNTIF(E$1:E807,E807)","v":"木15-32"},"嶔","木",15]
["金5","占","金",5,"金15",{"$f":"E808&\"-\"&COUNTIF(E$1:E808,E808)","v":"金15-34"},"銹","金",15]
["土5","由","土",5,"木15",{"$f":"E809&\"-\"&COUNTIF(E$1:E809,E809)","v":"木15-33"},"慨","木",15]
["火5","田","火",5,"木15",{"$f":"E810&\"-\"&COUNTIF(E$1:E810,E810)","v":"木15-34"},"慷","木",15]
["木5","甲","木",5,"火15",{"$f":"E811&\"-\"&COUNTIF(E$1:E811,E811)","v":"火15-46"},"漲","火",15]
["金5","串","金",5,"木15",{"$f":"E812&\"-\"&COUNTIF(E$1:E812,E812)","v":"木15-35"},"葵","木",15]
["金5","且","金",5,"火15",{"$f":"E813&\"-\"&COUNTIF(E$1:E813,E813)","v":"火15-47"},"腰","火",15]
["火5","冉","火",5,"金15",{"$f":"E814&\"-\"&COUNTIF(E$1:E814,E814)","v":"金15-35"},"萱","金",15]
["金5","史","金",5,"水15",{"$f":"E815&\"-\"&COUNTIF(E$1:E815,E815)","v":"水15-51"},"葆","水",15]
["水5","丕","水",5,"金15",{"$f":"E816&\"-\"&COUNTIF(E$1:E816,E816)","v":"金15-36"},"鋤","金",15]
["土5","右","土",5,"水15",{"$f":"E817&\"-\"&COUNTIF(E$1:E817,E817)","v":"水15-52"},"鋒","水",15]
["金5","左","金",5,"火15",{"$f":"E818&\"-\"&COUNTIF(E$1:E818,E818)","v":"火15-48"},"緩","火",15]
["水5","丙","水",5,"火15",{"$f":"E819&\"-\"&COUNTIF(E$1:E819,E819)","v":"火15-49"},"締","火",15]
["火5","正","火",5,"火15",{"$f":"E820&\"-\"&COUNTIF(E$1:E820,E820)","v":"火15-50"},"董","火",15]
["水5","平","水",5,"水15",{"$f":"E821&\"-\"&COUNTIF(E$1:E821,E821)","v":"水15-53"},"募","水",15]
["木5","甘","木",5,"水15",{"$f":"E822&\"-\"&COUNTIF(E$1:E822,E822)","v":"水15-54"},"緘","水",15]
["木5","古","木",5,"水15",{"$f":"E823&\"-\"&COUNTIF(E$1:E823,E823)","v":"水15-55"},"編","水",15]
["水5","玄","水",5,"木15",{"$f":"E824&\"-\"&COUNTIF(E$1:E824,E824)","v":"木15-36"},"媘","木",15]
["火5","立","火",5,"火15",{"$f":"E825&\"-\"&COUNTIF(E$1:E825,E825)","v":"火15-51"},"練","火",15]
["土4","毋","土",4,"金15",{"$f":"E826&\"-\"&COUNTIF(E$1:E826,E826)","v":"金15-37"},"線","金",15]
["木4","孔","木",4,"火15",{"$f":"E827&\"-\"&COUNTIF(E$1:E827,E827)","v":"火15-52"},"緹","火",15]
["水4","巴","水",4,"火15",{"$f":"E828&\"-\"&COUNTIF(E$1:E828,E828)","v":"火15-53"},"緞","火",15]
["土4","尹","土",4,"金15",{"$f":"E829&\"-\"&COUNTIF(E$1:E829,E829)","v":"金15-38"},"緒","金",15]
["金4","少","金",4,"金15",{"$f":"E830&\"-\"&COUNTIF(E$1:E830,E830)","v":"金15-39"},"節","金",15]
["金4","水","金",4,"火15",{"$f":"E831&\"-\"&COUNTIF(E$1:E831,E831)","v":"火15-54"},"墀","火",15]
["金4","殳","金",4,"土15",{"$f":"E832&\"-\"&COUNTIF(E$1:E832,E832)","v":"土15-25"},"嫺","土",15]
["木4","勾","木",4,"水15",{"$f":"E833&\"-\"&COUNTIF(E$1:E833,E833)","v":"水15-56"},"複","水",15]
["木4","斤","木",4,{"$f":"H834&I834","v":"金14"},{"$f":"E834&\"-\"&COUNTIF(E$1:E834,E834)","v":"金14-1"},"綮","金",14]
["火4","丹","火",4,"金14",{"$f":"E835&\"-\"&COUNTIF(E$1:E835,E835)","v":"金14-2"},"碩","金",14]
["金4","仍","金",4,"水14",{"$f":"E836&\"-\"&COUNTIF(E$1:E836,E836)","v":"水14-1"},"舞","水",14]
["金4","仇","金",4,"火14",{"$f":"E837&\"-\"&COUNTIF(E$1:E837,E837)","v":"火14-1"},"領","火",14]
["水4","化","水",4,"水14",{"$f":"E838&\"-\"&COUNTIF(E$1:E838,E838)","v":"水14-2"},"閩","水",14]
["水4","仆","水",4,"土14",{"$f":"E839&\"-\"&COUNTIF(E$1:E839,E839)","v":"土14-1"},"劃","土",14]
["金4","仁","金",4,"水14",{"$f":"E840&\"-\"&COUNTIF(E$1:E840,E840)","v":"水14-3"},"熏","水",14]
["木4","牛","木",4,"水14",{"$f":"E841&\"-\"&COUNTIF(E$1:E841,E841)","v":"水14-4"},"孵","水",14]
[{"$f":"C842&D842","v":"水4"},"毛","水",4,"金14",{"$f":"E842&\"-\"&COUNTIF(E$1:E842,E842)","v":"金14-3"},"獅","金",14]
["木4","介","木",4,"土14",{"$f":"E843&\"-\"&COUNTIF(E$1:E843,E843)","v":"土14-2"},"溢","土",14]
["木4","公","木",4,"水14",{"$f":"E844&\"-\"&COUNTIF(E$1:E844,E844)","v":"水14-5"},"髦","水",14]
["火4","中","火",4,"金14",{"$f":"E845&\"-\"&COUNTIF(E$1:E845,E845)","v":"金14-4"},"製","金",14]
["木4","牙","木",4,"木14",{"$f":"E846&\"-\"&COUNTIF(E$1:E846,E846)","v":"木14-1"},"閣","木",14]
["水4","比","水",4,"火14",{"$f":"E847&\"-\"&COUNTIF(E$1:E847,E847)","v":"火14-2"},"嘆","火",14]
["木4","戈","木",4,"木14",{"$f":"E848&\"-\"&COUNTIF(E$1:E848,E848)","v":"木14-2"},"疑","木",14]
["火4","太","火",4,"金14",{"$f":"E849&\"-\"&COUNTIF(E$1:E849,E849)","v":"金14-5"},"齊","金",14]
["土4","尤","土",4,"金14",{"$f":"E850&\"-\"&COUNTIF(E$1:E850,E850)","v":"金14-6"},"需","金",14]
["火4","支","火",4,"木14",{"$f":"E851&\"-\"&COUNTIF(E$1:E851,E851)","v":"木14-3"},"嘏","木",14]
["水4","木","水",4,"金14",{"$f":"E852&\"-\"&COUNTIF(E$1:E852,E852)","v":"金14-7"},"察","金",14]
["火4","井","火",4,"火14",{"$f":"E853&\"-\"&COUNTIF(E$1:E853,E853)","v":"火14-3"},"獃","火",14]
["木4","元","木",4,"水14",{"$f":"E854&\"-\"&COUNTIF(E$1:E854,E854)","v":"水14-6"},"閤","水",14]
["火4","天","火",4,"木14",{"$f":"E855&\"-\"&COUNTIF(E$1:E855,E855)","v":"木14-4"},"管","木",14]
["土4","王","土",4,"十14",{"$f":"E856&\"-\"&COUNTIF(E$1:E856,E856)","v":"十14-1"},"與","十",14]
["水4","火","水",4,"木14",{"$f":"E857&\"-\"&COUNTIF(E$1:E857,E857)","v":"木14-5"},"愿","木",14]
["木4","卞","木",4,"水14",{"$f":"E858&\"-\"&COUNTIF(E$1:E858,E858)","v":"水14-7"},"豪","水",14]
["水4","文","水",4,"土14",{"$f":"E859&\"-\"&COUNTIF(E$1:E859,E859)","v":"土14-3"},"榮","土",14]
["木4","亢","木",4,"金14",{"$f":"E860&\"-\"&COUNTIF(E$1:E860,E860)","v":"金14-8"},"署","金",14]
["水4","方","水",4,"木14",{"$f":"E861&\"-\"&COUNTIF(E$1:E861,E861)","v":"木14-6"},"肇","木",14]
["火3","女","火",3,"土14",{"$f":"E862&\"-\"&COUNTIF(E$1:E862,E862)","v":"土14-4"},"犖","土",14]
["火3","子","火",3,"木14",{"$f":"E863&\"-\"&COUNTIF(E$1:E863,E863)","v":"木14-7"},"犒","木",14]
["木3","弓","木",3,"火14",{"$f":"E864&\"-\"&COUNTIF(E$1:E864,E864)","v":"火14-4"},"臺","火",14]
["金3","尸","金",3,"水14",{"$f":"E865&\"-\"&COUNTIF(E$1:E865,E865)","v":"水14-8"},"裴","水",14]
["水3","凡","水",3,"土14",{"$f":"E866&\"-\"&COUNTIF(E$1:E866,E866)","v":"土14-5"},"頊","土",14]
["金3","夕","金",3,"土14",{"$f":"E867&\"-\"&COUNTIF(E$1:E867,E867)","v":"土14-6"},"瑕","土",14]
["金3","山","金",3,"土14",{"$f":"E868&\"-\"&COUNTIF(E$1:E868,E868)","v":"土14-7"},"瑋","土",14]
["土3","于","土",3,"水14",{"$f":"E869&\"-\"&COUNTIF(E$1:E869,E869)","v":"水14-9"},"賓","水",14]
["木3","干","木",3,"金14",{"$f":"E870&\"-\"&COUNTIF(E$1:E870,E870)","v":"金14-9"},"瑞","金",14]
["金3","士","金",3,"金14",{"$f":"E871&\"-\"&COUNTIF(E$1:E871,E871)","v":"金14-10"},"瑄","金",14]
["木3","工","木",3,"土14",{"$f":"E872&\"-\"&COUNTIF(E$1:E872,E872)","v":"土14-8"},"瑒","土",14]
["火2","力","火",2,"土14",{"$f":"E873&\"-\"&COUNTIF(E$1:E873,E873)","v":"土14-9"},"瑚","土",14]
["火2","刁","火",2,"土14",{"$f":"E874&\"-\"&COUNTIF(E$1:E874,E874)","v":"土14-10"},"瑛","土",14]
["火2","乜","火",2,"金14",{"$f":"E875&\"-\"&COUNTIF(E$1:E875,E875)","v":"金14-11"},"瑜","金",14]
["水2","卜","水",2,"水14",{"$f":"E876&\"-\"&COUNTIF(E$1:E876,E876)","v":"水14-10"},"陌","水",14]
["火2","丁","火",2,"金14",{"$f":"E877&\"-\"&COUNTIF(E$1:E877,E877)","v":"金14-12"},"實","金",14]
["土1","乙","土",1,"金14",{"$f":"E878&\"-\"&COUNTIF(E$1:E878,E878)","v":"金14-13"},"菁","金",14]
[null,null,null,null,"金14",{"$f":"E879&\"-\"&COUNTIF(E$1:E879,E879)","v":"金14-14"},"菜","金",14]
[null,null,null,null,"金14",{"$f":"E880&\"-\"&COUNTIF(E$1:E880,E880)","v":"金14-15"},"粹","金",14]
[null,null,null,null,"木14",{"$f":"E881&\"-\"&COUNTIF(E$1:E881,E881)","v":"木14-8"},"歌","木",14]
[null,null,null,null,"火14",{"$f":"E882&\"-\"&COUNTIF(E$1:E882,E882)","v":"火14-5"},"辣","火",14]
[null,null,null,null,"水14",{"$f":"E883&\"-\"&COUNTIF(E$1:E883,E883)","v":"水14-11"},"鼻","水",14]
[null,null,null,null,"金14",{"$f":"E884&\"-\"&COUNTIF(E$1:E884,E884)","v":"金14-16"},"箋","金",14]
[null,null,null,null,"金14",{"$f":"E885&\"-\"&COUNTIF(E$1:E885,E885)","v":"金14-17"},"翠","金",14]
[null,null,null,null,"水14",{"$f":"E886&\"-\"&COUNTIF(E$1:E886,E886)","v":"水14-12"},"鳴","水",14]
[null,null,null,null,"火14",{"$f":"E887&\"-\"&COUNTIF(E$1:E887,E887)","v":"火14-6"},"嫠","火",14]
[null,null,null,null,"木14",{"$f":"E888&\"-\"&COUNTIF(E$1:E888,E888)","v":"木14-9"},"箕","木",14]
[null,null,null,null,"水14",{"$f":"E889&\"-\"&COUNTIF(E$1:E889,E889)","v":"水14-13"},"熊","水",14]
[null,null,null,null,"水14",{"$f":"E890&\"-\"&COUNTIF(E$1:E890,E890)","v":"水14-14"},"鳳","水",14]
[null,null,null,null,"火14",{"$f":"E891&\"-\"&COUNTIF(E$1:E891,E891)","v":"火14-7"},"暢","火",14]
[null,null,null,null,"水14",{"$f":"E892&\"-\"&COUNTIF(E$1:E892,E892)","v":"水14-15"},"魂","水",14]
[null,null,null,null,"水14",{"$f":"E893&\"-\"&COUNTIF(E$1:E893,E893)","v":"水14-16"},"蜜","水",14]
[null,null,null,null,"火14",{"$f":"E894&\"-\"&COUNTIF(E$1:E894,E894)","v":"火14-8"},"塵","火",14]
[null,null,null,null,"火14",{"$f":"E895&\"-\"&COUNTIF(E$1:E895,E895)","v":"火14-9"},"爾","火",14]
[null,null,null,null,"木14",{"$f":"E896&\"-\"&COUNTIF(E$1:E896,E896)","v":"木14-10"},"嘉","木",14]
[null,null,null,null,"水14",{"$f":"E897&\"-\"&COUNTIF(E$1:E897,E897)","v":"水14-17"},"飽","水",14]
[null,null,null,null,{"$f":"H898&I898","v":"木14"},{"$f":"E898&\"-\"&COUNTIF(E$1:E898,E898)","v":"木14-11"},"輕","木",14]
[null,null,null,null,"金14",{"$f":"E899&\"-\"&COUNTIF(E$1:E899,E899)","v":"金14-18"},"粽","金",14]
[null,null,null,null,"火14",{"$f":"E900&\"-\"&COUNTIF(E$1:E900,E900)","v":"火14-10"},"彰","火",14]
[null,null,null,null,"木14",{"$f":"E901&\"-\"&COUNTIF(E$1:E901,E901)","v":"木14-12"},"敻","木",14]
[null,null,null,null,"火14",{"$f":"E902&\"-\"&COUNTIF(E$1:E902,E902)","v":"火14-11"},"榔","火",14]
[null,null,null,null,"木14",{"$f":"E903&\"-\"&COUNTIF(E$1:E903,E903)","v":"木14-13"},"境","木",14]
[null,null,null,null,"金14",{"$f":"E904&\"-\"&COUNTIF(E$1:E904,E904)","v":"金14-19"},"賑","金",14]
[null,null,null,null,"金14",{"$f":"E905&\"-\"&COUNTIF(E$1:E905,E905)","v":"金14-20"},"箒","金",14]
[null,null,null,null,"火14",{"$f":"E906&\"-\"&COUNTIF(E$1:E906,E906)","v":"火14-12"},"愷","火",14]
[null,null,null,null,"土14",{"$f":"E907&\"-\"&COUNTIF(E$1:E907,E907)","v":"土14-11"},"菀","土",14]
[null,null,null,null,"水14",{"$f":"E908&\"-\"&COUNTIF(E$1:E908,E908)","v":"水14-18"},"華","水",14]
[null,null,null,null,"木14",{"$f":"E909&\"-\"&COUNTIF(E$1:E909,E909)","v":"木14-14"},"箇","木",14]
[null,null,null,null,"金14",{"$f":"E910&\"-\"&COUNTIF(E$1:E910,E910)","v":"金14-21"},"嘗","金",14]
[null,null,null,null,"金14",{"$f":"E911&\"-\"&COUNTIF(E$1:E911,E911)","v":"金14-22"},"酸","金",14]
[null,null,null,null,"金14",{"$f":"E912&\"-\"&COUNTIF(E$1:E912,E912)","v":"金14-23"},"誓","金",14]
[null,null,null,null,"水14",{"$f":"E913&\"-\"&COUNTIF(E$1:E913,E913)","v":"水14-19"},"碧","水",14]
[null,null,null,null,"金14",{"$f":"E914&\"-\"&COUNTIF(E$1:E914,E914)","v":"金14-24"},"壽","金",14]
[null,null,null,null,"金14",{"$f":"E915&\"-\"&COUNTIF(E$1:E915,E915)","v":"金14-25"},"飾","金",14]
[null,null,null,null,"水14",{"$f":"E916&\"-\"&COUNTIF(E$1:E916,E916)","v":"水14-20"},"輔","水",14]
[null,null,null,null,"火14",{"$f":"E917&\"-\"&COUNTIF(E$1:E917,E917)","v":"火14-13"},"榴","火",14]
[null,null,null,null,"木14",{"$f":"E918&\"-\"&COUNTIF(E$1:E918,E918)","v":"木14-15"},"旗","木",14]
[null,null,null,null,"火14",{"$f":"E919&\"-\"&COUNTIF(E$1:E919,E919)","v":"火14-14"},"圖","火",14]
[null,null,null,null,"木14",{"$f":"E920&\"-\"&COUNTIF(E$1:E920,E920)","v":"木14-16"},"赫","木",14]
[null,null,null,null,"水14",{"$f":"E921&\"-\"&COUNTIF(E$1:E921,E921)","v":"水14-21"},"颯","水",14]
[null,null,null,null,"火14",{"$f":"E922&\"-\"&COUNTIF(E$1:E922,E922)","v":"火14-15"},"端","火",14]
[null,null,null,null,"火14",{"$f":"E923&\"-\"&COUNTIF(E$1:E923,E923)","v":"火14-16"},"態","火",14]
[null,null,null,null,"火14",{"$f":"E924&\"-\"&COUNTIF(E$1:E924,E924)","v":"火14-17"},"獎","火",14]
[null,null,null,null,"火14",{"$f":"E925&\"-\"&COUNTIF(E$1:E925,E925)","v":"火14-18"},"裳","火",14]
[null,null,null,null,"火14",{"$f":"E926&\"-\"&COUNTIF(E$1:E926,E926)","v":"火14-19"},"團","火",14]
[null,null,null,null,"金14",{"$f":"E927&\"-\"&COUNTIF(E$1:E927,E927)","v":"金14-26"},"甄","金",14]
[null,null,null,null,"水14",{"$f":"E928&\"-\"&COUNTIF(E$1:E928,E928)","v":"水14-22"},"飼","水",14]
[null,null,null,null,"金14",{"$f":"E929&\"-\"&COUNTIF(E$1:E929,E929)","v":"金14-27"},"聚","金",14]
[null,null,null,null,"木14",{"$f":"E930&\"-\"&COUNTIF(E$1:E930,E930)","v":"木14-17"},"兢","木",14]
[null,null,null,null,"火14",{"$f":"E931&\"-\"&COUNTIF(E$1:E931,E931)","v":"火14-20"},"戬","火",14]
[null,null,null,null,"土14",{"$f":"E932&\"-\"&COUNTIF(E$1:E932,E932)","v":"土14-12"},"斲","土",14]
[null,null,null,null,"金14",{"$f":"E933&\"-\"&COUNTIF(E$1:E933,E933)","v":"金14-28"},"算","金",14]
[null,null,null,null,"火14",{"$f":"E934&\"-\"&COUNTIF(E$1:E934,E934)","v":"火14-21"},"對","火",14]
[null,null,null,null,"金14",{"$f":"E935&\"-\"&COUNTIF(E$1:E935,E935)","v":"金14-29"},"精","金",14]
[null,null,null,null,"木15",{"$f":"E936&\"-\"&COUNTIF(E$1:E936,E936)","v":"木15-37"},"靳","木",15]
[null,null,null,null,"水14",{"$f":"E937&\"-\"&COUNTIF(E$1:E937,E937)","v":"水14-23"},"聞","水",14]
[null,null,null,null,"火14",{"$f":"E938&\"-\"&COUNTIF(E$1:E938,E938)","v":"火14-22"},"嫡","火",14]
[null,null,null,null,"金14",{"$f":"E939&\"-\"&COUNTIF(E$1:E939,E939)","v":"金14-30"},"閥","金",14]
[null,null,null,null,"火14",{"$f":"E940&\"-\"&COUNTIF(E$1:E940,E940)","v":"火14-23"},"嫩","火",14]
[null,null,null,null,"水14",{"$f":"E941&\"-\"&COUNTIF(E$1:E941,E941)","v":"水14-24"},"窪","水",14]
[null,null,null,null,"水14",{"$f":"E942&\"-\"&COUNTIF(E$1:E942,E942)","v":"水14-25"},"萍","水",14]
[null,null,null,null,"木14",{"$f":"E943&\"-\"&COUNTIF(E$1:E943,E943)","v":"木14-18"},"瑟","木",14]
[null,null,null,null,"水14",{"$f":"E944&\"-\"&COUNTIF(E$1:E944,E944)","v":"水14-26"},"貌","水",14]
[null,null,null,null,"水14",{"$f":"E945&\"-\"&COUNTIF(E$1:E945,E945)","v":"水14-27"},"嫚","水",14]
[null,null,null,null,"金14",{"$f":"E946&\"-\"&COUNTIF(E$1:E946,E946)","v":"金14-31"},"銜","金",14]
[null,null,null,null,"金14",{"$f":"E947&\"-\"&COUNTIF(E$1:E947,E947)","v":"金14-32"},"幑","金",14]
[null,null,null,null,"水14",{"$f":"E948&\"-\"&COUNTIF(E$1:E948,E948)","v":"水14-28"},"僕","水",14]
[null,null,null,null,"金14",{"$f":"E949&\"-\"&COUNTIF(E$1:E949,E949)","v":"金14-33"},"像","金",14]
[null,null,null,null,"木14",{"$f":"E950&\"-\"&COUNTIF(E$1:E950,E950)","v":"木14-19"},"僞","木",14]
[null,null,null,null,"金14",{"$f":"E951&\"-\"&COUNTIF(E$1:E951,E951)","v":"金14-34"},"僖","金",14]
[null,null,null,null,"木14",{"$f":"E952&\"-\"&COUNTIF(E$1:E952,E952)","v":"木14-20"},"僚","木",14]
[null,null,null,null,"金14",{"$f":"E953&\"-\"&COUNTIF(E$1:E953,E953)","v":"金14-35"},"僧","金",14]
[null,null,null,null,"木14",{"$f":"E954&\"-\"&COUNTIF(E$1:E954,E954)","v":"木14-21"},"僥","木",14]
[null,null,null,null,"木14",{"$f":"E955&\"-\"&COUNTIF(E$1:E955,E955)","v":"木14-22"},"僑","木",14]
[null,null,null,null,"火14",{"$f":"E956&\"-\"&COUNTIF(E$1:E956,E956)","v":"火14-24"},"構","火",14]
[null,null,null,null,"金14",{"$f":"E957&\"-\"&COUNTIF(E$1:E957,E957)","v":"金14-36"},"榭","金",14]
[null,null,null,null,"土14",{"$f":"E958&\"-\"&COUNTIF(E$1:E958,E958)","v":"土14-13"},"榕","土",14]
[null,null,null,null,"木14",{"$f":"E959&\"-\"&COUNTIF(E$1:E959,E959)","v":"木14-23"},"槐","木",14]
[null,null,null,null,"金14",{"$f":"E960&\"-\"&COUNTIF(E$1:E960,E960)","v":"金14-37"},"槍","金",14]
[null,null,null,null,"水14",{"$f":"E961&\"-\"&COUNTIF(E$1:E961,E961)","v":"水14-29"},"榜","水",14]
[null,null,null,null,{"$f":"H962&I962","v":"金14"},{"$f":"E962&\"-\"&COUNTIF(E$1:E962,E962)","v":"金14-38"},"滇","金",14]
[null,null,null,null,"火14",{"$f":"E963&\"-\"&COUNTIF(E$1:E963,E963)","v":"火14-25"},"溜","火",14]
[null,null,null,null,"金14",{"$f":"E964&\"-\"&COUNTIF(E$1:E964,E964)","v":"金14-39"},"溲","金",14]
[null,null,null,null,"土14",{"$f":"E965&\"-\"&COUNTIF(E$1:E965,E965)","v":"土14-14"},"溫","土",14]
[null,null,null,null,"金14",{"$f":"E966&\"-\"&COUNTIF(E$1:E966,E966)","v":"金14-40"},"滏","金",14]
[null,null,null,null,"水14",{"$f":"E967&\"-\"&COUNTIF(E$1:E967,E967)","v":"水14-30"},"夢","水",14]
[null,null,null,null,"金14",{"$f":"E968&\"-\"&COUNTIF(E$1:E968,E968)","v":"金14-41"},"滋","金",14]
[null,null,null,null,"木14",{"$f":"E969&\"-\"&COUNTIF(E$1:E969,E969)","v":"木14-24"},"滅","木",14]
[null,null,null,null,"土14",{"$f":"E970&\"-\"&COUNTIF(E$1:E970,E970)","v":"土14-15"},"溶","土",14]
[null,null,null,null,"水14",{"$f":"E971&\"-\"&COUNTIF(E$1:E971,E971)","v":"水14-31"},"滑","水",14]
[null,null,null,null,"金14",{"$f":"E972&\"-\"&COUNTIF(E$1:E972,E972)","v":"金14-42"},"滄","金",14]
[null,null,null,null,"木14",{"$f":"E973&\"-\"&COUNTIF(E$1:E973,E973)","v":"木14-25"},"溪","木",14]
[null,null,null,null,"水14",{"$f":"E974&\"-\"&COUNTIF(E$1:E974,E974)","v":"水14-32"},"幕","水",14]
[null,null,null,null,"木14",{"$f":"E975&\"-\"&COUNTIF(E$1:E975,E975)","v":"木14-26"},"源","木",14]
[null,null,null,null,"火14",{"$f":"E976&\"-\"&COUNTIF(E$1:E976,E976)","v":"火14-26"},"菱","火",14]
[null,null,null,null,"木14",{"$f":"E977&\"-\"&COUNTIF(E$1:E977,E977)","v":"木14-27"},"菊","木",14]
[null,null,null,null,"金14",{"$f":"E978&\"-\"&COUNTIF(E$1:E978,E978)","v":"金14-43"},"菘","金",14]
[null,null,null,null,"火14",{"$f":"E979&\"-\"&COUNTIF(E$1:E979,E979)","v":"火14-27"},"郎","火",14]
[null,null,null,null,"水14",{"$f":"E980&\"-\"&COUNTIF(E$1:E980,E980)","v":"水14-33"},"萌","水",14]
[null,null,null,null,"木14",{"$f":"E981&\"-\"&COUNTIF(E$1:E981,E981)","v":"木14-28"},"郡","木",14]
[null,null,null,null,"火14",{"$f":"E982&\"-\"&COUNTIF(E$1:E982,E982)","v":"火14-28"},"種","火",14]
[null,null,null,null,"金14",{"$f":"E983&\"-\"&COUNTIF(E$1:E983,E983)","v":"金14-44"},"稱","金",14]
[null,null,null,null,"金14",{"$f":"E984&\"-\"&COUNTIF(E$1:E984,E984)","v":"金14-45"},"誠","金",14]
[null,null,null,null,"水14",{"$f":"E985&\"-\"&COUNTIF(E$1:E985,E985)","v":"水14-34"},"福","水",14]
[null,null,null,null,"火14",{"$f":"E986&\"-\"&COUNTIF(E$1:E986,E986)","v":"火14-29"},"禎","火",14]
[null,null,null,null,"水14",{"$f":"E987&\"-\"&COUNTIF(E$1:E987,E987)","v":"水14-35"},"銘","水",14]
[null,null,null,null,"火14",{"$f":"E988&\"-\"&COUNTIF(E$1:E988,E988)","v":"火14-30"},"銅","火",14]
[null,null,null,null,"火14",{"$f":"E989&\"-\"&COUNTIF(E$1:E989,E989)","v":"火14-31"},"銓","火",14]
[null,null,null,null,"木14",{"$f":"E990&\"-\"&COUNTIF(E$1:E990,E990)","v":"木14-29"},"銀","木",14]
[null,null,null,null,"木14",{"$f":"E991&\"-\"&COUNTIF(E$1:E991,E991)","v":"木14-30"},"語","木",14]
[null,null,null,null,"土14",{"$f":"E992&\"-\"&COUNTIF(E$1:E992,E992)","v":"土14-16"},"誕","土",14]
[null,null,null,null,"水14",{"$f":"E993&\"-\"&COUNTIF(E$1:E993,E993)","v":"水14-36"},"誨","水",14]
[null,null,null,null,"金14",{"$f":"E994&\"-\"&COUNTIF(E$1:E994,E994)","v":"金14-46"},"說","金",14]
[null,null,null,null,"金14",{"$f":"E995&\"-\"&COUNTIF(E$1:E995,E995)","v":"金14-47"},"誦","金",14]
[null,null,null,null,"金14",{"$f":"E996&\"-\"&COUNTIF(E$1:E996,E996)","v":"金14-48"},"認","金",14]
[null,null,null,null,"火14",{"$f":"E997&\"-\"&COUNTIF(E$1:E997,E997)","v":"火14-32"},"誌","火",14]
[null,null,null,null,"木14",{"$f":"E998&\"-\"&COUNTIF(E$1:E998,E998)","v":"木14-31"},"誡","木",14]
[null,null,null,null,"木14",{"$f":"E999&\"-\"&COUNTIF(E$1:E999,E999)","v":"木14-32"},"誥","木",14]
[null,null,null,null,"火14",{"$f":"E1000&\"-\"&COUNTIF(E$1:E1000,E1000)","v":"火14-33"},"透","火",14]
[null,null,null,null,"火14",{"$f":"E1001&\"-\"&COUNTIF(E$1:E1001,E1001)","v":"火14-34"},"逐","火",14]
[null,null,null,null,"火14",{"$f":"E1002&\"-\"&COUNTIF(E$1:E1002,E1002)","v":"火14-35"},"連","火",14]
[null,null,null,null,"金14",{"$f":"E1003&\"-\"&COUNTIF(E$1:E1003,E1003)","v":"金14-49"},"速","金",14]
[null,null,null,null,"火14",{"$f":"E1004&\"-\"&COUNTIF(E$1:E1004,E1004)","v":"火14-36"},"通","火",14]
[null,null,null,null,"水14",{"$f":"E1005&\"-\"&COUNTIF(E$1:E1005,E1005)","v":"水14-37"},"溥","水",14]
[null,null,null,null,"金14",{"$f":"E1006&\"-\"&COUNTIF(E$1:E1006,E1006)","v":"金14-50"},"造","金",14]
[null,null,null,null,"水14",{"$f":"E1007&\"-\"&COUNTIF(E$1:E1007,E1007)","v":"水14-38"},"逢","水",14]
[null,null,null,null,"木14",{"$f":"E1008&\"-\"&COUNTIF(E$1:E1008,E1008)","v":"木14-33"},"降","木",14]
[null,null,null,null,"木14",{"$f":"E1009&\"-\"&COUNTIF(E$1:E1009,E1009)","v":"木14-34"},"緊","木",14]
[null,null,null,null,"木14",{"$f":"E1010&\"-\"&COUNTIF(E$1:E1010,E1010)","v":"木14-35"},"魁","木",14]
[null,null,null,null,"金14",{"$f":"E1011&\"-\"&COUNTIF(E$1:E1011,E1011)","v":"金14-51"},"綢","金",14]
[null,null,null,null,"火14",{"$f":"E1012&\"-\"&COUNTIF(E$1:E1012,E1012)","v":"火14-37"},"綾","火",14]
[null,null,null,null,"金14",{"$f":"E1013&\"-\"&COUNTIF(E$1:E1013,E1013)","v":"金14-52"},"慈","金",14]
[null,null,null,null,"火14",{"$f":"E1014&\"-\"&COUNTIF(E$1:E1014,E1014)","v":"火14-38"},"綽","火",14]
[null,null,null,null,"水14",{"$f":"E1015&\"-\"&COUNTIF(E$1:E1015,E1015)","v":"水14-39"},"綿","水",14]
[null,null,null,null,"水14",{"$f":"E1016&\"-\"&COUNTIF(E$1:E1016,E1016)","v":"水14-40"},"網","水",14]
[null,null,null,null,"木14",{"$f":"E1017&\"-\"&COUNTIF(E$1:E1017,E1017)","v":"木14-36"},"綱","木",14]
[null,null,null,null,"金14",{"$f":"E1018&\"-\"&COUNTIF(E$1:E1018,E1018)","v":"金14-53"},"综","金",14]
[null,null,null,null,"金14",{"$f":"E1019&\"-\"&COUNTIF(E$1:E1019,E1019)","v":"金14-54"},"綬","金",14]
[null,null,null,null,"火14",{"$f":"E1020&\"-\"&COUNTIF(E$1:E1020,E1020)","v":"火14-39"},"綸","火",14]
[null,null,null,null,"木14",{"$f":"E1021&\"-\"&COUNTIF(E$1:E1021,E1021)","v":"木14-37"},"綺","木",14]
[null,null,null,null,"十14",{"$f":"E1022&\"-\"&COUNTIF(E$1:E1022,E1022)","v":"十14-2"},"維","十",14]
[null,null,null,null,"火14",{"$f":"E1023&\"-\"&COUNTIF(E$1:E1023,E1023)","v":"火14-40"},"綠","火",14]
[null,null,null,null,"水14",{"$f":"E1024&\"-\"&COUNTIF(E$1:E1024,E1024)","v":"水14-41"},"幣","水",14]
[null,null,null,null,"火14",{"$f":"E1025&\"-\"&COUNTIF(E$1:E1025,E1025)","v":"火14-41"},"寧","火",14]
[null,null,null,null,{"$f":"H1026&I1026","v":"火14"},{"$f":"E1026&\"-\"&COUNTIF(E$1:E1026,E1026)","v":"火14-42"},"盡","火",14]
[null,null,null,null,"火14",{"$f":"E1027&\"-\"&COUNTIF(E$1:E1027,E1027)","v":"火14-43"},"詔","火",14]
[null,null,null,null,"木14",{"$f":"E1028&\"-\"&COUNTIF(E$1:E1028,E1028)","v":"木14-38"},"寡","木",14]
[null,null,null,null,"火13",{"$f":"E1029&\"-\"&COUNTIF(E$1:E1029,E1029)","v":"火13-1"},"礆","火",13]
[null,null,null,null,"金13",{"$f":"E1030&\"-\"&COUNTIF(E$1:E1030,E1030)","v":"金13-1"},"勣","金",13]
[null,null,null,null,"火13",{"$f":"E1031&\"-\"&COUNTIF(E$1:E1031,E1031)","v":"火13-2"},"昭","火",13]
[null,null,null,null,"水13",{"$f":"E1032&\"-\"&COUNTIF(E$1:E1032,E1032)","v":"水13-1"},"熙","水",13]
[null,null,null,null,"火13",{"$f":"E1033&\"-\"&COUNTIF(E$1:E1033,E1033)","v":"火13-3"},"艇","火",13]
[null,null,null,null,"木13",{"$f":"E1034&\"-\"&COUNTIF(E$1:E1034,E1034)","v":"木13-1"},"甞","木",13]
[null,null,null,null,"金13",{"$f":"E1035&\"-\"&COUNTIF(E$1:E1035,E1035)","v":"金13-2"},"酬","金",13]
[null,null,null,null,"金13",{"$f":"E1036&\"-\"&COUNTIF(E$1:E1036,E1036)","v":"金13-3"},"愁","金",13]
[null,null,null,null,"金13",{"$f":"E1037&\"-\"&COUNTIF(E$1:E1037,E1037)","v":"金13-4"},"準","金",13]
[null,null,null,null,"火13",{"$f":"E1038&\"-\"&COUNTIF(E$1:E1038,E1038)","v":"火13-4"},"祿","火",13]
[null,null,null,null,"水13",{"$f":"E1039&\"-\"&COUNTIF(E$1:E1039,E1039)","v":"水13-2"},"較","水",13]
[null,null,null,null,"火13",{"$f":"E1040&\"-\"&COUNTIF(E$1:E1040,E1040)","v":"火13-5"},"媸","火",13]
[null,null,null,null,"金13",{"$f":"E1041&\"-\"&COUNTIF(E$1:E1041,E1041)","v":"金13-5"},"亶","金",13]
[null,null,null,null,"水13",{"$f":"E1042&\"-\"&COUNTIF(E$1:E1042,E1042)","v":"水13-3"},"豊","水",13]
[null,null,null,null,"水13",{"$f":"E1043&\"-\"&COUNTIF(E$1:E1043,E1043)","v":"水13-4"},"雺","水",13]
[null,null,null,null,"木13",{"$f":"E1044&\"-\"&COUNTIF(E$1:E1044,E1044)","v":"木13-2"},"媲","木",13]
[null,null,null,null,"水13",{"$f":"E1045&\"-\"&COUNTIF(E$1:E1045,E1045)","v":"水13-5"},"飯","水",13]
[null,null,null,null,"火13",{"$f":"E1046&\"-\"&COUNTIF(E$1:E1046,E1046)","v":"火13-6"},"詹","火",13]
[null,null,null,null,"水13",{"$f":"E1047&\"-\"&COUNTIF(E$1:E1047,E1047)","v":"水13-6"},"碑","水",13]
[null,null,null,null,"土13",{"$f":"E1048&\"-\"&COUNTIF(E$1:E1048,E1048)","v":"土13-1"},"園","土",13]
[null,null,null,null,"火13",{"$f":"E1049&\"-\"&COUNTIF(E$1:E1049,E1049)","v":"火13-7"},"零","火",13]
[null,null,null,null,"火13",{"$f":"E1050&\"-\"&COUNTIF(E$1:E1050,E1050)","v":"火13-8"},"路","火",13]
[null,null,null,null,"木13",{"$f":"E1051&\"-\"&COUNTIF(E$1:E1051,E1051)","v":"木13-3"},"畸","木",13]
[null,null,null,null,"土13",{"$f":"E1052&\"-\"&COUNTIF(E$1:E1052,E1052)","v":"土13-2"},"飲","土",13]
[null,null,null,null,"水13",{"$f":"E1053&\"-\"&COUNTIF(E$1:E1053,E1053)","v":"水13-7"},"盟","水",13]
[null,null,null,null,"木13",{"$f":"E1054&\"-\"&COUNTIF(E$1:E1054,E1054)","v":"木13-4"},"敬","木",13]
[null,null,null,null,"金13",{"$f":"E1055&\"-\"&COUNTIF(E$1:E1055,E1055)","v":"金13-6"},"剿","金",13]
[null,null,null,null,"火13",{"$f":"E1056&\"-\"&COUNTIF(E$1:E1056,E1056)","v":"火13-9"},"頓","火",13]
[null,null,null,null,"火13",{"$f":"E1057&\"-\"&COUNTIF(E$1:E1057,E1057)","v":"火13-10"},"裏","火",13]
[null,null,null,null,"木13",{"$f":"E1058&\"-\"&COUNTIF(E$1:E1058,E1058)","v":"木13-5"},"鼓","木",13]
[null,null,null,null,"土13",{"$f":"E1059&\"-\"&COUNTIF(E$1:E1059,E1059)","v":"土13-3"},"爺","土",13]
[null,null,null,null,"金13",{"$f":"E1060&\"-\"&COUNTIF(E$1:E1060,E1060)","v":"金13-7"},"愈","金",13]
[null,null,null,null,"土13",{"$f":"E1061&\"-\"&COUNTIF(E$1:E1061,E1061)","v":"土13-4"},"圓","土",13]
[null,null,null,null,"金13",{"$f":"E1062&\"-\"&COUNTIF(E$1:E1062,E1062)","v":"金13-8"},"鼠","金",13]
[null,null,null,null,"金13",{"$f":"E1063&\"-\"&COUNTIF(E$1:E1063,E1063)","v":"金13-9"},"裝","金",13]
[null,null,null,null,"土13",{"$f":"E1064&\"-\"&COUNTIF(E$1:E1064,E1064)","v":"土13-5"},"裔","土",13]
[null,null,null,null,"火13",{"$f":"E1065&\"-\"&COUNTIF(E$1:E1065,E1065)","v":"火13-11"},"寗","火",13]
[null,null,null,null,"火13",{"$f":"E1066&\"-\"&COUNTIF(E$1:E1066,E1066)","v":"火13-12"},"煎","火",13]
[null,null,null,null,"木13",{"$f":"E1067&\"-\"&COUNTIF(E$1:E1067,E1067)","v":"木13-6"},"靴","木",13]
[null,null,null,null,"土13",{"$f":"E1068&\"-\"&COUNTIF(E$1:E1068,E1068)","v":"土13-6"},"愛","土",13]
[null,null,null,null,"火13",{"$f":"E1069&\"-\"&COUNTIF(E$1:E1069,E1069)","v":"火13-13"},"驰","火",13]
[null,null,null,null,"金13",{"$f":"E1070&\"-\"&COUNTIF(E$1:E1070,E1070)","v":"金13-10"},"署","金",13]
[null,null,null,null,"金13",{"$f":"E1071&\"-\"&COUNTIF(E$1:E1071,E1071)","v":"金13-11"},"嗣","金",13]
[null,null,null,null,"金13",{"$f":"E1072&\"-\"&COUNTIF(E$1:E1072,E1072)","v":"金13-12"},"靖","金",13]
[null,null,null,null,"金13",{"$f":"E1073&\"-\"&COUNTIF(E$1:E1073,E1073)","v":"金13-13"},"載","金",13]
[null,null,null,null,"水13",{"$f":"E1074&\"-\"&COUNTIF(E$1:E1074,E1074)","v":"水13-8"},"鳩","水",13]
[null,null,null,null,"水13",{"$f":"E1075&\"-\"&COUNTIF(E$1:E1075,E1075)","v":"水13-9"},"媽","水",13]
[null,null,null,null,"火13",{"$f":"E1076&\"-\"&COUNTIF(E$1:E1076,E1076)","v":"火13-14"},"虞","火",13]
[null,null,null,null,"金13",{"$f":"E1077&\"-\"&COUNTIF(E$1:E1077,E1077)","v":"金13-14"},"裟","金",13]
[null,null,null,null,"金13",{"$f":"E1078&\"-\"&COUNTIF(E$1:E1078,E1078)","v":"金13-15"},"蜃","金",13]
[null,null,null,null,"木13",{"$f":"E1079&\"-\"&COUNTIF(E$1:E1079,E1079)","v":"木13-7"},"幹","木",13]
[null,null,null,null,"金13",{"$f":"E1080&\"-\"&COUNTIF(E$1:E1080,E1080)","v":"金13-16"},"肆","金",13]
[null,null,null,null,"木13",{"$f":"E1081&\"-\"&COUNTIF(E$1:E1081,E1081)","v":"木13-8"},"禺","木",13]
[null,null,null,null,"金13",{"$f":"E1082&\"-\"&COUNTIF(E$1:E1082,E1082)","v":"金13-17"},"軾","金",13]
[null,null,null,null,"木13",{"$f":"E1083&\"-\"&COUNTIF(E$1:E1083,E1083)","v":"木13-9"},"頌","木",13]
[null,null,null,null,"金13",{"$f":"E1084&\"-\"&COUNTIF(E$1:E1084,E1084)","v":"金13-18"},"楚","金",13]
[null,null,null,null,"水13",{"$f":"E1085&\"-\"&COUNTIF(E$1:E1085,E1085)","v":"水13-10"},"微","水",13]
[null,null,null,null,"火13",{"$f":"E1086&\"-\"&COUNTIF(E$1:E1086,E1086)","v":"火13-15"},"電","火",13]
[null,null,null,null,"水13",{"$f":"E1087&\"-\"&COUNTIF(E$1:E1087,E1087)","v":"水13-11"},"蜂","水",13]
[null,null,null,null,"木13",{"$f":"E1088&\"-\"&COUNTIF(E$1:E1088,E1088)","v":"木13-10"},"窟","木",13]
[null,null,null,null,"水13",{"$f":"E1089&\"-\"&COUNTIF(E$1:E1089,E1089)","v":"水13-12"},"會","水",13]
[null,null,null,null,{"$f":"H1090&I1090","v":"火13"},{"$f":"E1090&\"-\"&COUNTIF(E$1:E1090,E1090)","v":"火13-16"},"退","火",13]
[null,null,null,null,"木13",{"$f":"E1091&\"-\"&COUNTIF(E$1:E1091,E1091)","v":"木13-11"},"郊","木",13]
[null,null,null,null,"木13",{"$f":"E1092&\"-\"&COUNTIF(E$1:E1092,E1092)","v":"木13-12"},"琨","木",13]
[null,null,null,null,"火13",{"$f":"E1093&\"-\"&COUNTIF(E$1:E1093,E1093)","v":"火13-17"},"琳","火",13]
[null,null,null,null,"土13",{"$f":"E1094&\"-\"&COUNTIF(E$1:E1094,E1094)","v":"土13-7"},"琰","土",13]
[null,null,null,null,"木13",{"$f":"E1095&\"-\"&COUNTIF(E$1:E1095,E1095)","v":"木13-13"},"琪","木",13]
[null,null,null,null,"木13",{"$f":"E1096&\"-\"&COUNTIF(E$1:E1096,E1096)","v":"木13-14"},"琦","木",13]
[null,null,null,null,"土13",{"$f":"E1097&\"-\"&COUNTIF(E$1:E1097,E1097)","v":"土13-8"},"琬","土",13]
[null,null,null,null,"金13",{"$f":"E1098&\"-\"&COUNTIF(E$1:E1098,E1098)","v":"金13-19"},"琖","金",13]
[null,null,null,null,"金13",{"$f":"E1099&\"-\"&COUNTIF(E$1:E1099,E1099)","v":"金13-20"},"琛","金",13]
[null,null,null,null,"水13",{"$f":"E1100&\"-\"&COUNTIF(E$1:E1100,E1100)","v":"水13-13"},"斑","水",13]
[null,null,null,null,"金13",{"$f":"E1101&\"-\"&COUNTIF(E$1:E1101,E1101)","v":"金13-21"},"琮","金",13]
[null,null,null,null,"火13",{"$f":"E1102&\"-\"&COUNTIF(E$1:E1102,E1102)","v":"火13-18"},"渭","火",13]
[null,null,null,null,"水13",{"$f":"E1103&\"-\"&COUNTIF(E$1:E1103,E1103)","v":"水13-14"},"湣","水",13]
[null,null,null,null,"水13",{"$f":"E1104&\"-\"&COUNTIF(E$1:E1104,E1104)","v":"水13-15"},"渾","水",13]
[null,null,null,null,"金13",{"$f":"E1105&\"-\"&COUNTIF(E$1:E1105,E1105)","v":"金13-22"},"湫","金",13]
[null,null,null,null,"火13",{"$f":"E1106&\"-\"&COUNTIF(E$1:E1106,E1106)","v":"火13-19"},"琢","火",13]
[null,null,null,null,"金13",{"$f":"E1107&\"-\"&COUNTIF(E$1:E1107,E1107)","v":"金13-23"},"溆","金",13]
[null,null,null,null,"金13",{"$f":"E1108&\"-\"&COUNTIF(E$1:E1108,E1108)","v":"金13-24"},"湘","金",13]
[null,null,null,null,"火13",{"$f":"E1109&\"-\"&COUNTIF(E$1:E1109,E1109)","v":"火13-20"},"湞","火",13]
[null,null,null,null,"木13",{"$f":"E1110&\"-\"&COUNTIF(E$1:E1110,E1110)","v":"木13-15"},"減","木",13]
[null,null,null,null,"木13",{"$f":"E1111&\"-\"&COUNTIF(E$1:E1111,E1111)","v":"木13-16"},"港","木",13]
[null,null,null,null,"金13",{"$f":"E1112&\"-\"&COUNTIF(E$1:E1112,E1112)","v":"金13-25"},"渝","金",13]
[null,null,null,null,"火13",{"$f":"E1113&\"-\"&COUNTIF(E$1:E1113,E1113)","v":"火13-21"},"渡","火",13]
[null,null,null,null,"土13",{"$f":"E1114&\"-\"&COUNTIF(E$1:E1114,E1114)","v":"土13-9"},"湖","土",13]
[null,null,null,null,"金13",{"$f":"E1115&\"-\"&COUNTIF(E$1:E1115,E1115)","v":"金13-26"},"測","金",13]
[null,null,null,null,"土13",{"$f":"E1116&\"-\"&COUNTIF(E$1:E1116,E1116)","v":"土13-10"},"游","土",13]
[null,null,null,null,"金13",{"$f":"E1117&\"-\"&COUNTIF(E$1:E1117,E1117)","v":"金13-27"},"湶","金",13]
[null,null,null,null,"火13",{"$f":"E1118&\"-\"&COUNTIF(E$1:E1118,E1118)","v":"火13-22"},"湯","火",13]
[null,null,null,null,"土13",{"$f":"E1119&\"-\"&COUNTIF(E$1:E1119,E1119)","v":"土13-11"},"淵","土",13]
[null,null,null,null,"水13",{"$f":"E1120&\"-\"&COUNTIF(E$1:E1120,E1120)","v":"水13-16"},"惶","水",13]
[null,null,null,null,"火13",{"$f":"E1121&\"-\"&COUNTIF(E$1:E1121,E1121)","v":"火13-23"},"莨","火",13]
[null,null,null,null,"火13",{"$f":"E1122&\"-\"&COUNTIF(E$1:E1122,E1122)","v":"火13-24"},"追","火",13]
[null,null,null,null,"水13",{"$f":"E1123&\"-\"&COUNTIF(E$1:E1123,E1123)","v":"水13-17"},"陂","水",13]
[null,null,null,null,"土13",{"$f":"E1124&\"-\"&COUNTIF(E$1:E1124,E1124)","v":"土13-12"},"附","土",13]
[null,null,null,null,"水13",{"$f":"E1125&\"-\"&COUNTIF(E$1:E1125,E1125)","v":"水13-18"},"郁","水",13]
[null,null,null,null,"火13",{"$f":"E1126&\"-\"&COUNTIF(E$1:E1126,E1126)","v":"火13-25"},"莉","火",13]
[null,null,null,null,"木13",{"$f":"E1127&\"-\"&COUNTIF(E$1:E1127,E1127)","v":"木13-17"},"筠","木",13]
[null,null,null,null,"金13",{"$f":"E1128&\"-\"&COUNTIF(E$1:E1128,E1128)","v":"金13-28"},"資","金",13]
[null,null,null,null,"水13",{"$f":"E1129&\"-\"&COUNTIF(E$1:E1129,E1129)","v":"水13-19"},"瓶","水",13]
[null,null,null,null,"水13",{"$f":"E1130&\"-\"&COUNTIF(E$1:E1130,E1130)","v":"水13-20"},"號","水",13]
[null,null,null,null,"木13",{"$f":"E1131&\"-\"&COUNTIF(E$1:E1131,E1131)","v":"木13-18"},"極","木",13]
[null,null,null,null,"火13",{"$f":"E1132&\"-\"&COUNTIF(E$1:E1132,E1132)","v":"火13-26"},"殿","火",13]
[null,null,null,null,"金13",{"$f":"E1133&\"-\"&COUNTIF(E$1:E1133,E1133)","v":"金13-29"},"斟","金",13]
[null,null,null,null,"木13",{"$f":"E1134&\"-\"&COUNTIF(E$1:E1134,E1134)","v":"木13-19"},"鼓","木",13]
[null,null,null,null,"土13",{"$f":"E1135&\"-\"&COUNTIF(E$1:E1135,E1135)","v":"土13-13"},"雍","土",13]
[null,null,null,null,"金13",{"$f":"E1136&\"-\"&COUNTIF(E$1:E1136,E1136)","v":"金13-30"},"想","金",13]
[null,null,null,null,"火13",{"$f":"E1137&\"-\"&COUNTIF(E$1:E1137,E1137)","v":"火13-27"},"雉","火",13]
[null,null,null,null,"木13",{"$f":"E1138&\"-\"&COUNTIF(E$1:E1138,E1138)","v":"木13-20"},"業","木",13]
[null,null,null,null,"木13",{"$f":"E1139&\"-\"&COUNTIF(E$1:E1139,E1139)","v":"木13-21"},"解","木",13]
[null,null,null,null,"木13",{"$f":"E1140&\"-\"&COUNTIF(E$1:E1140,E1140)","v":"木13-22"},"禁","木",13]
[null,null,null,null,"木13",{"$f":"E1141&\"-\"&COUNTIF(E$1:E1141,E1141)","v":"木13-23"},"咸","木",13]
[null,null,null,null,"火13",{"$f":"E1142&\"-\"&COUNTIF(E$1:E1142,E1142)","v":"火13-28"},"農","火",13]
[null,null,null,null,"火13",{"$f":"E1143&\"-\"&COUNTIF(E$1:E1143,E1143)","v":"火13-29"},"塔","火",13]
[null,null,null,null,"金13",{"$f":"E1144&\"-\"&COUNTIF(E$1:E1144,E1144)","v":"金13-31"},"蜀","金",13]
[null,null,null,null,"火13",{"$f":"E1145&\"-\"&COUNTIF(E$1:E1145,E1145)","v":"火13-30"},"督","火",13]
[null,null,null,null,"土13",{"$f":"E1146&\"-\"&COUNTIF(E$1:E1146,E1146)","v":"土13-14"},"奥","土",13]
[null,null,null,null,"木13",{"$f":"E1147&\"-\"&COUNTIF(E$1:E1147,E1147)","v":"木13-24"},"義","木",13]
[null,null,null,null,"木13",{"$f":"E1148&\"-\"&COUNTIF(E$1:E1148,E1148)","v":"木13-25"},"飭","木",13]
[null,null,null,null,"木13",{"$f":"E1149&\"-\"&COUNTIF(E$1:E1149,E1149)","v":"木13-26"},"跪","木",13]
[null,null,null,null,"木13",{"$f":"E1150&\"-\"&COUNTIF(E$1:E1150,E1150)","v":"木13-27"},"舅","木",13]
[null,null,null,null,"金13",{"$f":"E1151&\"-\"&COUNTIF(E$1:E1151,E1151)","v":"金13-32"},"歆","金",13]
[null,null,null,null,"土13",{"$f":"E1152&\"-\"&COUNTIF(E$1:E1152,E1152)","v":"土13-15"},"碗","土",13]
[null,null,null,null,"金13",{"$f":"E1153&\"-\"&COUNTIF(E$1:E1153,E1153)","v":"金13-33"},"歲","金",13]
[null,null,null,null,{"$f":"H1154&I1154","v":"火13"},{"$f":"E1154&\"-\"&COUNTIF(E$1:E1154,E1154)","v":"火13-31"},"塊","火",13]
[null,null,null,null,"土13",{"$f":"E1155&\"-\"&COUNTIF(E$1:E1155,E1155)","v":"土13-16"},"意","土",13]
[null,null,null,null,"火13",{"$f":"E1156&\"-\"&COUNTIF(E$1:E1156,E1156)","v":"火13-32"},"跡","火",13]
[null,null,null,null,"水13",{"$f":"E1157&\"-\"&COUNTIF(E$1:E1157,E1157)","v":"水13-21"},"頒","水",13]
[null,null,null,null,"火13",{"$f":"E1158&\"-\"&COUNTIF(E$1:E1158,E1158)","v":"火13-33"},"雷","火",13]
[null,null,null,null,"水13",{"$f":"E1159&\"-\"&COUNTIF(E$1:E1159,E1159)","v":"水13-22"},"聘","水",13]
[null,null,null,null,"土13",{"$f":"E1160&\"-\"&COUNTIF(E$1:E1160,E1160)","v":"土13-17"},"矮","土",13]
[null,null,null,null,"金13",{"$f":"E1161&\"-\"&COUNTIF(E$1:E1161,E1161)","v":"金13-34"},"勢","金",13]
[null,null,null,null,"木13",{"$f":"E1162&\"-\"&COUNTIF(E$1:E1162,E1162)","v":"木13-28"},"羣","木",13]
[null,null,null,null,"木13",{"$f":"E1163&\"-\"&COUNTIF(E$1:E1163,E1163)","v":"木13-29"},"献","木",13]
[null,null,null,null,"水13",{"$f":"E1164&\"-\"&COUNTIF(E$1:E1164,E1164)","v":"水13-23"},"琶","水",13]
[null,null,null,null,"木13",{"$f":"E1165&\"-\"&COUNTIF(E$1:E1165,E1165)","v":"木13-30"},"廉","木",13]
[null,null,null,null,"火13",{"$f":"E1166&\"-\"&COUNTIF(E$1:E1166,E1166)","v":"火13-34"},"鼎","火",13]
[null,null,null,null,"金13",{"$f":"E1167&\"-\"&COUNTIF(E$1:E1167,E1167)","v":"金13-35"},"聖","金",13]
[null,null,null,null,"金13",{"$f":"E1168&\"-\"&COUNTIF(E$1:E1168,E1168)","v":"金13-36"},"新","金",13]
[null,null,null,null,"金13",{"$f":"E1169&\"-\"&COUNTIF(E$1:E1169,E1169)","v":"金13-37"},"傷","金",13]
[null,null,null,null,"金13",{"$f":"E1170&\"-\"&COUNTIF(E$1:E1170,E1170)","v":"金13-38"},"馴","金",13]
[null,null,null,null,"木13",{"$f":"E1171&\"-\"&COUNTIF(E$1:E1171,E1171)","v":"木13-31"},"嫁","木",13]
[null,null,null,null,"火13",{"$f":"E1172&\"-\"&COUNTIF(E$1:E1172,E1172)","v":"火13-35"},"當","火",13]
[null,null,null,null,"土13",{"$f":"E1173&\"-\"&COUNTIF(E$1:E1173,E1173)","v":"土13-18"},"預","土",13]
[null,null,null,null,"土13",{"$f":"E1174&\"-\"&COUNTIF(E$1:E1174,E1174)","v":"土13-19"},"衙","土",13]
[null,null,null,null,"火13",{"$f":"E1175&\"-\"&COUNTIF(E$1:E1175,E1175)","v":"火13-36"},"煖","火",13]
[null,null,null,null,"水13",{"$f":"E1176&\"-\"&COUNTIF(E$1:E1176,E1176)","v":"水13-24"},"煢","水",13]
[null,null,null,null,"土13",{"$f":"E1177&\"-\"&COUNTIF(E$1:E1177,E1177)","v":"土13-20"},"嫈","土",13]
[null,null,null,null,"火13",{"$f":"E1178&\"-\"&COUNTIF(E$1:E1178,E1178)","v":"火13-37"},"脱","火",13]
[null,null,null,null,"水13",{"$f":"E1179&\"-\"&COUNTIF(E$1:E1179,E1179)","v":"水13-25"},"莆","水",13]
[null,null,null,null,"木13",{"$f":"E1180&\"-\"&COUNTIF(E$1:E1180,E1180)","v":"木13-32"},"莞","木",13]
[null,null,null,null,"金13",{"$f":"E1181&\"-\"&COUNTIF(E$1:E1181,E1181)","v":"金13-39"},"莊","金",13]
[null,null,null,null,"水13",{"$f":"E1182&\"-\"&COUNTIF(E$1:E1182,E1182)","v":"水13-26"},"湍","水",13]
[null,null,null,null,"火13",{"$f":"E1183&\"-\"&COUNTIF(E$1:E1183,E1183)","v":"火13-38"},"塗","火",13]
[null,null,null,null,"火13",{"$f":"E1184&\"-\"&COUNTIF(E$1:E1184,E1184)","v":"火13-39"},"煉","火",13]
[null,null,null,null,"土13",{"$f":"E1185&\"-\"&COUNTIF(E$1:E1185,E1185)","v":"土13-21"},"煒","土",13]
[null,null,null,null,"土13",{"$f":"E1186&\"-\"&COUNTIF(E$1:E1186,E1186)","v":"土13-22"},"煙","土",13]
[null,null,null,null,"火13",{"$f":"E1187&\"-\"&COUNTIF(E$1:E1187,E1187)","v":"火13-40"},"煜","火",13]
[null,null,null,null,"水13",{"$f":"E1188&\"-\"&COUNTIF(E$1:E1188,E1188)","v":"水13-27"},"煌","水",13]
[null,null,null,null,"水13",{"$f":"E1189&\"-\"&COUNTIF(E$1:E1189,E1189)","v":"水13-28"},"煇","水",13]
[null,null,null,null,"金13",{"$f":"E1190&\"-\"&COUNTIF(E$1:E1190,E1190)","v":"金13-40"},"煊","金",13]
[null,null,null,null,"水13",{"$f":"E1191&\"-\"&COUNTIF(E$1:E1191,E1191)","v":"水13-29"},"煤","水",13]
[null,null,null,null,"水13",{"$f":"E1192&\"-\"&COUNTIF(E$1:E1192,E1192)","v":"水13-30"},"煥","水",13]
[null,null,null,null,"木13",{"$f":"E1193&\"-\"&COUNTIF(E$1:E1193,E1193)","v":"木13-33"},"詰","木",13]
[null,null,null,null,"金13",{"$f":"E1194&\"-\"&COUNTIF(E$1:E1194,E1194)","v":"金13-41"},"試","金",13]
[null,null,null,null,"金13",{"$f":"E1195&\"-\"&COUNTIF(E$1:E1195,E1195)","v":"金13-42"},"詳","金",13]
[null,null,null,null,"木13",{"$f":"E1196&\"-\"&COUNTIF(E$1:E1196,E1196)","v":"木13-34"},"褀","木",13]
[null,null,null,null,"金13",{"$f":"E1197&\"-\"&COUNTIF(E$1:E1197,E1197)","v":"金13-43"},"裕","金",13]
[null,null,null,null,"木13",{"$f":"E1198&\"-\"&COUNTIF(E$1:E1198,E1198)","v":"木13-35"},"勤","木",13]
[null,null,null,null,"木13",{"$f":"E1199&\"-\"&COUNTIF(E$1:E1199,E1199)","v":"木13-36"},"誇","木",13]
[null,null,null,null,"土13",{"$f":"E1200&\"-\"&COUNTIF(E$1:E1200,E1200)","v":"土13-23"},"話","土",13]
[null,null,null,null,"金13",{"$f":"E1201&\"-\"&COUNTIF(E$1:E1201,E1201)","v":"金13-44"},"詢","金",13]
[null,null,null,null,"金13",{"$f":"E1202&\"-\"&COUNTIF(E$1:E1202,E1202)","v":"金13-45"},"詩","金",13]
[null,null,null,null,"火13",{"$f":"E1203&\"-\"&COUNTIF(E$1:E1203,E1203)","v":"火13-41"},"睦","火",13]
[null,null,null,null,"木13",{"$f":"E1204&\"-\"&COUNTIF(E$1:E1204,E1204)","v":"木13-37"},"暌","木",13]
[null,null,null,null,"水13",{"$f":"E1205&\"-\"&COUNTIF(E$1:E1205,E1205)","v":"水13-31"},"暉","水",13]
[null,null,null,null,"土13",{"$f":"E1206&\"-\"&COUNTIF(E$1:E1206,E1206)","v":"土13-24"},"暗","土",13]
[null,null,null,null,"金13",{"$f":"E1207&\"-\"&COUNTIF(E$1:E1207,E1207)","v":"金13-46"},"暄","金",13]
[null,null,null,null,"木13",{"$f":"E1208&\"-\"&COUNTIF(E$1:E1208,E1208)","v":"木13-38"},"暇","木",13]
[null,null,null,null,"土13",{"$f":"E1209&\"-\"&COUNTIF(E$1:E1209,E1209)","v":"土13-25"},"暘","土",13]
[null,null,null,null,"火13",{"$f":"E1210&\"-\"&COUNTIF(E$1:E1210,E1210)","v":"火13-42"},"暖","火",13]
[null,null,null,null,"土13",{"$f":"E1211&\"-\"&COUNTIF(E$1:E1211,E1211)","v":"土13-26"},"稚","土",13]
[null,null,null,null,"火13",{"$f":"E1212&\"-\"&COUNTIF(E$1:E1212,E1212)","v":"火13-43"},"稜","火",13]
[null,null,null,null,"火13",{"$f":"E1213&\"-\"&COUNTIF(E$1:E1213,E1213)","v":"火13-44"},"稔","火",13]
[null,null,null,null,"木13",{"$f":"E1214&\"-\"&COUNTIF(E$1:E1214,E1214)","v":"木13-39"},"揭","木",13]
[null,null,null,null,"火13",{"$f":"E1215&\"-\"&COUNTIF(E$1:E1215,E1215)","v":"火13-45"},"提","火",13]
[null,null,null,null,"土13",{"$f":"E1216&\"-\"&COUNTIF(E$1:E1216,E1216)","v":"土13-27"},"握","土",13]
[null,null,null,null,"水13",{"$f":"E1217&\"-\"&COUNTIF(E$1:E1217,E1217)","v":"水13-32"},"揮","水",13]
[null,null,null,null,{"$f":"H1218&I1218","v":"土13"},{"$f":"E1218&\"-\"&COUNTIF(E$1:E1218,E1218)","v":"土13-28"},"揚","土",13]
[null,null,null,null,"水13",{"$f":"E1219&\"-\"&COUNTIF(E$1:E1219,E1219)","v":"水13-33"},"換","水",13]
[null,null,null,null,"金13",{"$f":"E1220&\"-\"&COUNTIF(E$1:E1220,E1220)","v":"金13-47"},"捷","金",13]
[null,null,null,null,"土13",{"$f":"E1221&\"-\"&COUNTIF(E$1:E1221,E1221)","v":"土13-29"},"猶","土",13]
[null,null,null,null,"土13",{"$f":"E1222&\"-\"&COUNTIF(E$1:E1222,E1222)","v":"土13-30"},"阿","土",13]
[null,null,null,null,"木13",{"$f":"E1223&\"-\"&COUNTIF(E$1:E1223,E1223)","v":"木13-40"},"楷","木",13]
[null,null,null,null,"水13",{"$f":"E1224&\"-\"&COUNTIF(E$1:E1224,E1224)","v":"水13-34"},"楣","水",13]
[null,null,null,null,"金13",{"$f":"E1225&\"-\"&COUNTIF(E$1:E1225,E1225)","v":"金13-48"},"榆","金",13]
[null,null,null,null,"火13",{"$f":"E1226&\"-\"&COUNTIF(E$1:E1226,E1226)","v":"火13-46"},"廍","火",13]
[null,null,null,null,"火13",{"$f":"E1227&\"-\"&COUNTIF(E$1:E1227,E1227)","v":"火13-47"},"楠","火",13]
[null,null,null,null,"金13",{"$f":"E1228&\"-\"&COUNTIF(E$1:E1228,E1228)","v":"金13-49"},"羨","金",13]
[null,null,null,null,"水13",{"$f":"E1229&\"-\"&COUNTIF(E$1:E1229,E1229)","v":"水13-35"},"琵","水",13]
[null,null,null,null,"水13",{"$f":"E1230&\"-\"&COUNTIF(E$1:E1230,E1230)","v":"水13-36"},"楓","水",13]
[null,null,null,null,"土13",{"$f":"E1231&\"-\"&COUNTIF(E$1:E1231,E1231)","v":"土13-31"},"楊","土",13]
[null,null,null,null,"金13",{"$f":"E1232&\"-\"&COUNTIF(E$1:E1232,E1232)","v":"金13-50"},"楫","金",13]
[null,null,null,null,"土13",{"$f":"E1233&\"-\"&COUNTIF(E$1:E1233,E1233)","v":"土13-32"},"椰","土",13]
[null,null,null,null,"金13",{"$f":"E1234&\"-\"&COUNTIF(E$1:E1234,E1234)","v":"金13-51"},"椿","金",13]
[null,null,null,null,"土13",{"$f":"E1235&\"-\"&COUNTIF(E$1:E1235,E1235)","v":"土13-33"},"筱","土",13]
[null,null,null,null,"火13",{"$f":"E1236&\"-\"&COUNTIF(E$1:E1236,E1236)","v":"火13-48"},"傳","火",13]
[null,null,null,null,"土13",{"$f":"E1237&\"-\"&COUNTIF(E$1:E1237,E1237)","v":"土13-34"},"傭","土",13]
[null,null,null,null,"木13",{"$f":"E1238&\"-\"&COUNTIF(E$1:E1238,E1238)","v":"木13-41"},"傾","木",13]
[null,null,null,null,"金13",{"$f":"E1239&\"-\"&COUNTIF(E$1:E1239,E1239)","v":"金13-52"},"催","金",13]
[null,null,null,null,"金13",{"$f":"E1240&\"-\"&COUNTIF(E$1:E1240,E1240)","v":"金13-53"},"債","金",13]
[null,null,null,null,"木13",{"$f":"E1241&\"-\"&COUNTIF(E$1:E1241,E1241)","v":"木13-42"},"鈺","木",13]
[null,null,null,null,"火13",{"$f":"E1242&\"-\"&COUNTIF(E$1:E1242,E1242)","v":"火13-49"},"鈿","火",13]
[null,null,null,null,"水13",{"$f":"E1243&\"-\"&COUNTIF(E$1:E1243,E1243)","v":"水13-37"},"鉢","水",13]
[null,null,null,null,"土13",{"$f":"E1244&\"-\"&COUNTIF(E$1:E1244,E1244)","v":"土13-35"},"鉛","土",13]
[null,null,null,null,"水13",{"$f":"E1245&\"-\"&COUNTIF(E$1:E1245,E1245)","v":"水13-38"},"鈉","水",13]
[null,null,null,null,"金13",{"$f":"E1246&\"-\"&COUNTIF(E$1:E1246,E1246)","v":"金13-54"},"愉","金",13]
[null,null,null,null,"火13",{"$f":"E1247&\"-\"&COUNTIF(E$1:E1247,E1247)","v":"火13-50"},"鉦","火",13]
[null,null,null,null,"火13",{"$f":"E1248&\"-\"&COUNTIF(E$1:E1248,E1248)","v":"火13-51"},"鈴","火",13]
[null,null,null,null,"木13",{"$f":"E1249&\"-\"&COUNTIF(E$1:E1249,E1249)","v":"木13-43"},"鉅","木",13]
[null,null,null,null,"水13",{"$f":"E1250&\"-\"&COUNTIF(E$1:E1250,E1250)","v":"水13-39"},"粳","水",13]
[null,null,null,null,"火13",{"$f":"E1251&\"-\"&COUNTIF(E$1:E1251,E1251)","v":"火13-52"},"粮","火",13]
[null,null,null,null,"水13",{"$f":"E1252&\"-\"&COUNTIF(E$1:E1252,E1252)","v":"水13-40"},"綏","水",13]
[null,null,null,null,"金13",{"$f":"E1253&\"-\"&COUNTIF(E$1:E1253,E1253)","v":"金13-55"},"綉","金",13]
[null,null,null,null,"金13",{"$f":"E1254&\"-\"&COUNTIF(E$1:E1254,E1254)","v":"金13-56"},"莠","金",13]
[null,null,null,null,"金13",{"$f":"E1255&\"-\"&COUNTIF(E$1:E1255,E1255)","v":"金13-57"},"迺","金",13]
[null,null,null,null,"金13",{"$f":"E1256&\"-\"&COUNTIF(E$1:E1256,E1256)","v":"金13-58"},"送","金",13]
[null,null,null,null,"金13",{"$f":"E1257&\"-\"&COUNTIF(E$1:E1257,E1257)","v":"金13-59"},"莎","金",13]
[null,null,null,null,"木13",{"$f":"E1258&\"-\"&COUNTIF(E$1:E1258,E1258)","v":"木13-44"},"經","木",13]
[null,null,null,null,"木13",{"$f":"E1259&\"-\"&COUNTIF(E$1:E1259,E1259)","v":"木13-45"},"絹","木",13]
[null,null,null,null,"土13",{"$f":"E1260&\"-\"&COUNTIF(E$1:E1260,E1260)","v":"土13-36"},"筵","土",13]
[null,null,null,null,"金13",{"$f":"E1261&\"-\"&COUNTIF(E$1:E1261,E1261)","v":"金13-60"},"媵","金",13]
[null,null,null,null,"土13",{"$f":"E1262&\"-\"&COUNTIF(E$1:E1262,E1262)","v":"土13-37"},"煬","土",13]
[null,null,null,null,"水13",{"$f":"E1263&\"-\"&COUNTIF(E$1:E1263,E1263)","v":"水13-41"},"雹","水",13]
[null,null,null,null,"金13",{"$f":"E1264&\"-\"&COUNTIF(E$1:E1264,E1264)","v":"金13-61"},"辭","金",13]
[null,null,null,null,"金13",{"$f":"E1265&\"-\"&COUNTIF(E$1:E1265,E1265)","v":"金13-62"},"赩","金",13]
[null,null,null,null,"火13",{"$f":"E1266&\"-\"&COUNTIF(E$1:E1266,E1266)","v":"火13-53"},"裡","火",13]
[null,null,null,null,"木13",{"$f":"E1267&\"-\"&COUNTIF(E$1:E1267,E1267)","v":"木13-46"},"裙","木",13]
[null,null,null,null,"水13",{"$f":"E1268&\"-\"&COUNTIF(E$1:E1268,E1268)","v":"水13-42"},"補","水",13]
[null,null,null,null,"木13",{"$f":"E1269&\"-\"&COUNTIF(E$1:E1269,E1269)","v":"木13-47"},"琴","木",13]
[null,null,null,null,"水12",{"$f":"E1270&\"-\"&COUNTIF(E$1:E1270,E1270)","v":"水12-1"},"焱","水",12]
[null,null,null,null,"水12",{"$f":"E1271&\"-\"&COUNTIF(E$1:E1271,E1271)","v":"水12-2"},"雰","水",12]
[null,null,null,null,"水12",{"$f":"E1272&\"-\"&COUNTIF(E$1:E1272,E1272)","v":"水12-3"},"無","水",12]
[null,null,null,null,"水12",{"$f":"E1273&\"-\"&COUNTIF(E$1:E1273,E1273)","v":"水12-4"},"欻","水",12]
[null,null,null,null,"火12",{"$f":"E1274&\"-\"&COUNTIF(E$1:E1274,E1274)","v":"火12-1"},"媛","火",12]
[null,null,null,null,"水12",{"$f":"E1275&\"-\"&COUNTIF(E$1:E1275,E1275)","v":"水12-5"},"博","水",12]
[null,null,null,null,"金12",{"$f":"E1276&\"-\"&COUNTIF(E$1:E1276,E1276)","v":"金12-1"},"散","金",12]
[null,null,null,null,"火12",{"$f":"E1277&\"-\"&COUNTIF(E$1:E1277,E1277)","v":"火12-2"},"尋","火",12]
[null,null,null,null,"木12",{"$f":"E1278&\"-\"&COUNTIF(E$1:E1278,E1278)","v":"木12-1"},"硬","木",12]
[null,null,null,null,"火12",{"$f":"E1279&\"-\"&COUNTIF(E$1:E1279,E1279)","v":"火12-3"},"就","火",12]
[null,null,null,null,"土12",{"$f":"E1280&\"-\"&COUNTIF(E$1:E1280,E1280)","v":"土12-1"},"勛","土",12]
[null,null,null,null,"金12",{"$f":"E1281&\"-\"&COUNTIF(E$1:E1281,E1281)","v":"金12-2"},"情","金",12]
[null,null,null,null,{"$f":"H1282&I1282","v":"金12"},{"$f":"E1282&\"-\"&COUNTIF(E$1:E1282,E1282)","v":"金12-3"},"惜","金",12]
[null,null,null,null,"水12",{"$f":"E1283&\"-\"&COUNTIF(E$1:E1283,E1283)","v":"水12-6"},"惇","水",12]
[null,null,null,null,"土12",{"$f":"E1284&\"-\"&COUNTIF(E$1:E1284,E1284)","v":"土12-2"},"惟","土",12]
[null,null,null,null,"火12",{"$f":"E1285&\"-\"&COUNTIF(E$1:E1285,E1285)","v":"火12-4"},"迢","火",12]
[null,null,null,null,"水12",{"$f":"E1286&\"-\"&COUNTIF(E$1:E1286,E1286)","v":"水12-7"},"脈","水",12]
[null,null,null,null,"金12",{"$f":"E1287&\"-\"&COUNTIF(E$1:E1287,E1287)","v":"金12-4"},"脂","金",12]
[null,null,null,null,"火12",{"$f":"E1288&\"-\"&COUNTIF(E$1:E1288,E1288)","v":"火12-5"},"幅","火",12]
[null,null,null,null,"火12",{"$f":"E1289&\"-\"&COUNTIF(E$1:E1289,E1289)","v":"火12-6"},"循","火",12]
[null,null,null,null,"水12",{"$f":"E1290&\"-\"&COUNTIF(E$1:E1290,E1290)","v":"水12-8"},"傍","水",12]
[null,null,null,null,"土12",{"$f":"E1291&\"-\"&COUNTIF(E$1:E1291,E1291)","v":"土12-3"},"越","土",12]
[null,null,null,null,"水12",{"$f":"E1292&\"-\"&COUNTIF(E$1:E1292,E1292)","v":"水12-9"},"喚","水",12]
[null,null,null,null,"水12",{"$f":"E1293&\"-\"&COUNTIF(E$1:E1293,E1293)","v":"水12-10"},"悲","水",12]
[null,null,null,null,"木12",{"$f":"E1294&\"-\"&COUNTIF(E$1:E1294,E1294)","v":"木12-2"},"款","木",12]
[null,null,null,null,"木12",{"$f":"E1295&\"-\"&COUNTIF(E$1:E1295,E1295)","v":"木12-3"},"間","木",12]
[null,null,null,null,"火12",{"$f":"E1296&\"-\"&COUNTIF(E$1:E1296,E1296)","v":"火12-7"},"朝","火",12]
[null,null,null,null,"水12",{"$f":"E1297&\"-\"&COUNTIF(E$1:E1297,E1297)","v":"水12-11"},"扉","水",12]
[null,null,null,null,"木12",{"$f":"E1298&\"-\"&COUNTIF(E$1:E1298,E1298)","v":"木12-4"},"强","木",12]
[null,null,null,null,"木12",{"$f":"E1299&\"-\"&COUNTIF(E$1:E1299,E1299)","v":"木12-5"},"覘","木",12]
[null,null,null,null,"金12",{"$f":"E1300&\"-\"&COUNTIF(E$1:E1300,E1300)","v":"金12-5"},"梭","金",12]
[null,null,null,null,"水12",{"$f":"E1301&\"-\"&COUNTIF(E$1:E1301,E1301)","v":"水12-12"},"堡","水",12]
[null,null,null,null,"火12",{"$f":"E1302&\"-\"&COUNTIF(E$1:E1302,E1302)","v":"火12-8"},"轸","火",12]
[null,null,null,null,"火12",{"$f":"E1303&\"-\"&COUNTIF(E$1:E1303,E1303)","v":"火12-9"},"閏","火",12]
[null,null,null,null,"木12",{"$f":"E1304&\"-\"&COUNTIF(E$1:E1304,E1304)","v":"木12-6"},"街","木",12]
[null,null,null,null,"金12",{"$f":"E1305&\"-\"&COUNTIF(E$1:E1305,E1305)","v":"金12-6"},"盛","金",12]
[null,null,null,null,"火12",{"$f":"E1306&\"-\"&COUNTIF(E$1:E1306,E1306)","v":"火12-10"},"甯","火",12]
[null,null,null,null,"金12",{"$f":"E1307&\"-\"&COUNTIF(E$1:E1307,E1307)","v":"金12-7"},"剩","金",12]
[null,null,null,null,"木12",{"$f":"E1308&\"-\"&COUNTIF(E$1:E1308,E1308)","v":"木12-7"},"窘","木",12]
[null,null,null,null,"金12",{"$f":"E1309&\"-\"&COUNTIF(E$1:E1309,E1309)","v":"金12-8"},"舒","金",12]
[null,null,null,null,"火12",{"$f":"E1310&\"-\"&COUNTIF(E$1:E1310,E1310)","v":"火12-11"},"浚","火",12]
[null,null,null,null,"金12",{"$f":"E1311&\"-\"&COUNTIF(E$1:E1311,E1311)","v":"金12-9"},"順","金",12]
[null,null,null,null,"木12",{"$f":"E1312&\"-\"&COUNTIF(E$1:E1312,E1312)","v":"木12-8"},"喬","木",12]
[null,null,null,null,"火12",{"$f":"E1313&\"-\"&COUNTIF(E$1:E1313,E1313)","v":"火12-12"},"等","火",12]
[null,null,null,null,"木12",{"$f":"E1314&\"-\"&COUNTIF(E$1:E1314,E1314)","v":"木12-9"},"顸","木",12]
[null,null,null,null,"水12",{"$f":"E1315&\"-\"&COUNTIF(E$1:E1315,E1315)","v":"水12-13"},"番","水",12]
[null,null,null,null,"金12",{"$f":"E1316&\"-\"&COUNTIF(E$1:E1316,E1316)","v":"金12-10"},"桌","金",12]
[null,null,null,null,"水12",{"$f":"E1317&\"-\"&COUNTIF(E$1:E1317,E1317)","v":"水12-14"},"貿","水",12]
[null,null,null,null,"金12",{"$f":"E1318&\"-\"&COUNTIF(E$1:E1318,E1318)","v":"金12-11"},"喩","金",12]
[null,null,null,null,"火12",{"$f":"E1319&\"-\"&COUNTIF(E$1:E1319,E1319)","v":"火12-13"},"巽","火",12]
[null,null,null,null,"土12",{"$f":"E1320&\"-\"&COUNTIF(E$1:E1320,E1320)","v":"土12-4"},"堰","土",12]
[null,null,null,null,"水12",{"$f":"E1321&\"-\"&COUNTIF(E$1:E1321,E1321)","v":"水12-15"},"普","水",12]
[null,null,null,null,"金12",{"$f":"E1322&\"-\"&COUNTIF(E$1:E1322,E1322)","v":"金12-12"},"善","金",12]
[null,null,null,null,"火12",{"$f":"E1323&\"-\"&COUNTIF(E$1:E1323,E1323)","v":"火12-14"},"短","火",12]
[null,null,null,null,"火12",{"$f":"E1324&\"-\"&COUNTIF(E$1:E1324,E1324)","v":"火12-15"},"粧","火",12]
[null,null,null,null,"木12",{"$f":"E1325&\"-\"&COUNTIF(E$1:E1325,E1325)","v":"木12-10"},"筺","木",12]
[null,null,null,null,"土12",{"$f":"E1326&\"-\"&COUNTIF(E$1:E1326,E1326)","v":"土12-5"},"貽","土",12]
[null,null,null,null,"土12",{"$f":"E1327&\"-\"&COUNTIF(E$1:E1327,E1327)","v":"土12-6"},"壹","土",12]
[null,null,null,null,"木12",{"$f":"E1328&\"-\"&COUNTIF(E$1:E1328,E1328)","v":"木12-11"},"寓","木",12]
[null,null,null,null,"木12",{"$f":"E1329&\"-\"&COUNTIF(E$1:E1329,E1329)","v":"木12-12"},"割","木",12]
[null,null,null,null,"水12",{"$f":"E1330&\"-\"&COUNTIF(E$1:E1330,E1330)","v":"水12-16"},"賀","水",12]
[null,null,null,null,"金12",{"$f":"E1331&\"-\"&COUNTIF(E$1:E1331,E1331)","v":"金12-13"},"甥","金",12]
[null,null,null,null,"木12",{"$f":"E1332&\"-\"&COUNTIF(E$1:E1332,E1332)","v":"木12-13"},"雅","木",12]
[null,null,null,null,"木12",{"$f":"E1333&\"-\"&COUNTIF(E$1:E1333,E1333)","v":"木12-14"},"欺","木",12]
[null,null,null,null,"火12",{"$f":"E1334&\"-\"&COUNTIF(E$1:E1334,E1334)","v":"火12-16"},"貯","火",12]
[null,null,null,null,"水12",{"$f":"E1335&\"-\"&COUNTIF(E$1:E1335,E1335)","v":"水12-17"},"費","水",12]
[null,null,null,null,"火12",{"$f":"E1336&\"-\"&COUNTIF(E$1:E1336,E1336)","v":"火12-17"},"常","火",12]
[null,null,null,null,"水12",{"$f":"E1337&\"-\"&COUNTIF(E$1:E1337,E1337)","v":"水12-18"},"復","水",12]
[null,null,null,null,"火12",{"$f":"E1338&\"-\"&COUNTIF(E$1:E1338,E1338)","v":"火12-18"},"單","火",12]
[null,null,null,null,"火12",{"$f":"E1339&\"-\"&COUNTIF(E$1:E1339,E1339)","v":"火12-19"},"能","火",12]
[null,null,null,null,"金12",{"$f":"E1340&\"-\"&COUNTIF(E$1:E1340,E1340)","v":"金12-14"},"舜","金",12]
[null,null,null,null,"木12",{"$f":"E1341&\"-\"&COUNTIF(E$1:E1341,E1341)","v":"木12-15"},"凱","木",12]
[null,null,null,null,"土12",{"$f":"E1342&\"-\"&COUNTIF(E$1:E1342,E1342)","v":"土12-7"},"奠","土",12]
[null,null,null,null,"金12",{"$f":"E1343&\"-\"&COUNTIF(E$1:E1343,E1343)","v":"金12-15"},"項","金",12]
[null,null,null,null,"金12",{"$f":"E1344&\"-\"&COUNTIF(E$1:E1344,E1344)","v":"金12-16"},"最","金",12]
[null,null,null,null,"火12",{"$f":"E1345&\"-\"&COUNTIF(E$1:E1345,E1345)","v":"火12-20"},"筒","火",12]
[null,null,null,null,{"$f":"H1346&I1346","v":"金12"},{"$f":"E1346&\"-\"&COUNTIF(E$1:E1346,E1346)","v":"金12-17"},"貳","金",12]
[null,null,null,null,"水12",{"$f":"E1347&\"-\"&COUNTIF(E$1:E1347,E1347)","v":"水12-19"},"媒","水",12]
[null,null,null,null,"木12",{"$f":"E1348&\"-\"&COUNTIF(E$1:E1348,E1348)","v":"木12-16"},"貴","木",12]
[null,null,null,null,"水12",{"$f":"E1349&\"-\"&COUNTIF(E$1:E1349,E1349)","v":"水12-20"},"富","水",12]
[null,null,null,null,"水12",{"$f":"E1350&\"-\"&COUNTIF(E$1:E1350,E1350)","v":"水12-21"},"雲","水",12]
[null,null,null,null,"木12",{"$f":"E1351&\"-\"&COUNTIF(E$1:E1351,E1351)","v":"木12-17"},"嵌","木",12]
[null,null,null,null,"木12",{"$f":"E1352&\"-\"&COUNTIF(E$1:E1352,E1352)","v":"木12-18"},"幾","木",12]
[null,null,null,null,"水12",{"$f":"E1353&\"-\"&COUNTIF(E$1:E1353,E1353)","v":"水12-22"},"寒","水",12]
[null,null,null,null,"水12",{"$f":"E1354&\"-\"&COUNTIF(E$1:E1354,E1354)","v":"水12-23"},"雄","水",12]
[null,null,null,null,"金12",{"$f":"E1355&\"-\"&COUNTIF(E$1:E1355,E1355)","v":"金12-18"},"晶","金",12]
[null,null,null,null,"水12",{"$f":"E1356&\"-\"&COUNTIF(E$1:E1356,E1356)","v":"水12-24"},"買","水",12]
[null,null,null,null,"金12",{"$f":"E1357&\"-\"&COUNTIF(E$1:E1357,E1357)","v":"金12-19"},"眾","金",12]
[null,null,null,null,"金12",{"$f":"E1358&\"-\"&COUNTIF(E$1:E1358,E1358)","v":"金12-20"},"掌","金",12]
[null,null,null,null,"金12",{"$f":"E1359&\"-\"&COUNTIF(E$1:E1359,E1359)","v":"金12-21"},"甦","金",12]
[null,null,null,null,"金12",{"$f":"E1360&\"-\"&COUNTIF(E$1:E1360,E1360)","v":"金12-22"},"茱","金",12]
[null,null,null,null,"金12",{"$f":"E1361&\"-\"&COUNTIF(E$1:E1361,E1361)","v":"金12-23"},"淂","金",12]
[null,null,null,null,"火12",{"$f":"E1362&\"-\"&COUNTIF(E$1:E1362,E1362)","v":"火12-21"},"茶","火",12]
[null,null,null,null,"火12",{"$f":"E1363&\"-\"&COUNTIF(E$1:E1363,E1363)","v":"火12-22"},"量","火",12]
[null,null,null,null,"水12",{"$f":"E1364&\"-\"&COUNTIF(E$1:E1364,E1364)","v":"水12-25"},"荒","水",12]
[null,null,null,null,"金12",{"$f":"E1365&\"-\"&COUNTIF(E$1:E1365,E1365)","v":"金12-24"},"茌","金",12]
[null,null,null,null,"火12",{"$f":"E1366&\"-\"&COUNTIF(E$1:E1366,E1366)","v":"火12-23"},"剴","火",12]
[null,null,null,null,"金12",{"$f":"E1367&\"-\"&COUNTIF(E$1:E1367,E1367)","v":"金12-25"},"晴","金",12]
[null,null,null,null,"水12",{"$f":"E1368&\"-\"&COUNTIF(E$1:E1368,E1368)","v":"水12-26"},"蛤","水",12]
[null,null,null,null,"金12",{"$f":"E1369&\"-\"&COUNTIF(E$1:E1369,E1369)","v":"金12-26"},"殖","金",12]
[null,null,null,null,"金12",{"$f":"E1370&\"-\"&COUNTIF(E$1:E1370,E1370)","v":"金12-27"},"曾","金",12]
[null,null,null,null,"木12",{"$f":"E1371&\"-\"&COUNTIF(E$1:E1371,E1371)","v":"木12-19"},"硯","木",12]
[null,null,null,null,"火12",{"$f":"E1372&\"-\"&COUNTIF(E$1:E1372,E1372)","v":"火12-24"},"勞","火",12]
[null,null,null,null,"木12",{"$f":"E1373&\"-\"&COUNTIF(E$1:E1373,E1373)","v":"木12-20"},"傑","木",12]
[null,null,null,null,"水12",{"$f":"E1374&\"-\"&COUNTIF(E$1:E1374,E1374)","v":"水12-27"},"備","水",12]
[null,null,null,null,"余12",{"$f":"E1375&\"-\"&COUNTIF(E$1:E1375,E1375)","v":"余12-1"},"然","余",12]
[null,null,null,null,"十12",{"$f":"E1376&\"-\"&COUNTIF(E$1:E1376,E1376)","v":"十12-1"},"黑","十",12]
[null,null,null,null,"水12",{"$f":"E1377&\"-\"&COUNTIF(E$1:E1377,E1377)","v":"水12-28"},"筏","水",12]
[null,null,null,null,"木12",{"$f":"E1378&\"-\"&COUNTIF(E$1:E1378,E1378)","v":"木12-21"},"敢","木",12]
[null,null,null,null,"水12",{"$f":"E1379&\"-\"&COUNTIF(E$1:E1379,E1379)","v":"水12-29"},"報","水",12]
[null,null,null,null,"水12",{"$f":"E1380&\"-\"&COUNTIF(E$1:E1380,E1380)","v":"水12-30"},"帽","水",12]
[null,null,null,null,"火12",{"$f":"E1381&\"-\"&COUNTIF(E$1:E1381,E1381)","v":"火12-25"},"痛","火",12]
[null,null,null,null,"金12",{"$f":"E1382&\"-\"&COUNTIF(E$1:E1382,E1382)","v":"金12-28"},"超","金",12]
[null,null,null,null,"木12",{"$f":"E1383&\"-\"&COUNTIF(E$1:E1383,E1383)","v":"木12-22"},"蛟","木",12]
[null,null,null,null,"水12",{"$f":"E1384&\"-\"&COUNTIF(E$1:E1384,E1384)","v":"水12-31"},"閔","水",12]
[null,null,null,null,"火12",{"$f":"E1385&\"-\"&COUNTIF(E$1:E1385,E1385)","v":"火12-26"},"答","火",12]
[null,null,null,null,"金12",{"$f":"E1386&\"-\"&COUNTIF(E$1:E1386,E1386)","v":"金12-29"},"視","金",12]
[null,null,null,null,"金12",{"$f":"E1387&\"-\"&COUNTIF(E$1:E1387,E1387)","v":"金12-30"},"斯","金",12]
[null,null,null,null,"水12",{"$f":"E1388&\"-\"&COUNTIF(E$1:E1388,E1388)","v":"水12-32"},"閒","水",12]
[null,null,null,null,"火12",{"$f":"E1389&\"-\"&COUNTIF(E$1:E1389,E1389)","v":"火12-27"},"軸","火",12]
[null,null,null,null,"水12",{"$f":"E1390&\"-\"&COUNTIF(E$1:E1390,E1390)","v":"水12-33"},"斐","水",12]
[null,null,null,null,"火12",{"$f":"E1391&\"-\"&COUNTIF(E$1:E1391,E1391)","v":"火12-28"},"智","火",12]
[null,null,null,null,"金12",{"$f":"E1392&\"-\"&COUNTIF(E$1:E1392,E1392)","v":"金12-31"},"裁","金",12]
[null,null,null,null,"十12",{"$f":"E1393&\"-\"&COUNTIF(E$1:E1393,E1393)","v":"十12-2"},"畫","十",12]
[null,null,null,null,"金12",{"$f":"E1394&\"-\"&COUNTIF(E$1:E1394,E1394)","v":"金12-32"},"象","金",12]
[null,null,null,null,"水12",{"$f":"E1395&\"-\"&COUNTIF(E$1:E1395,E1395)","v":"水12-34"},"焙","水",12]
[null,null,null,null,"金12",{"$f":"E1396&\"-\"&COUNTIF(E$1:E1396,E1396)","v":"金12-33"},"黍","金",12]
[null,null,null,null,"十12",{"$f":"E1397&\"-\"&COUNTIF(E$1:E1397,E1397)","v":"十12-3"},"蛙","十",12]
[null,null,null,null,"水12",{"$f":"E1398&\"-\"&COUNTIF(E$1:E1398,E1398)","v":"水12-35"},"嵐","水",12]
[null,null,null,null,"火12",{"$f":"E1399&\"-\"&COUNTIF(E$1:E1399,E1399)","v":"火12-29"},"登","火",12]
[null,null,null,null,"水12",{"$f":"E1400&\"-\"&COUNTIF(E$1:E1400,E1400)","v":"水12-36"},"惠","水",12]
[null,null,null,null,"土12",{"$f":"E1401&\"-\"&COUNTIF(E$1:E1401,E1401)","v":"土12-8"},"翕","土",12]
[null,null,null,null,"金12",{"$f":"E1402&\"-\"&COUNTIF(E$1:E1402,E1402)","v":"金12-34"},"茲","金",12]
[null,null,null,null,"木12",{"$f":"E1403&\"-\"&COUNTIF(E$1:E1403,E1403)","v":"木12-23"},"雁","木",12]
[null,null,null,null,"火12",{"$f":"E1404&\"-\"&COUNTIF(E$1:E1404,E1404)","v":"火12-30"},"貼","火",12]
[null,null,null,null,"木12",{"$f":"E1405&\"-\"&COUNTIF(E$1:E1405,E1405)","v":"木12-24"},"堯","木",12]
[null,null,null,null,"火12",{"$f":"E1406&\"-\"&COUNTIF(E$1:E1406,E1406)","v":"火12-31"},"軼","火",12]
[null,null,null,null,"水12",{"$f":"E1407&\"-\"&COUNTIF(E$1:E1407,E1407)","v":"水12-37"},"喜","水",12]
[null,null,null,null,"木12",{"$f":"E1408&\"-\"&COUNTIF(E$1:E1408,E1408)","v":"木12-25"},"皓","木",12]
[null,null,null,null,"金12",{"$f":"E1409&\"-\"&COUNTIF(E$1:E1409,E1409)","v":"金12-35"},"勝","金",12]
[null,null,null,null,{"$f":"H1410&I1410","v":"火12"},{"$f":"E1410&\"-\"&COUNTIF(E$1:E1410,E1410)","v":"火12-32"},"童","火",12]
[null,null,null,null,"水12",{"$f":"E1411&\"-\"&COUNTIF(E$1:E1411,E1411)","v":"水12-38"},"徨","水",12]
[null,null,null,null,"木12",{"$f":"E1412&\"-\"&COUNTIF(E$1:E1412,E1412)","v":"木12-26"},"開","木",12]
[null,null,null,null,"金12",{"$f":"E1413&\"-\"&COUNTIF(E$1:E1413,E1413)","v":"金12-36"},"策","金",12]
[null,null,null,null,"金12",{"$f":"E1414&\"-\"&COUNTIF(E$1:E1414,E1414)","v":"金12-37"},"窗","金",12]
[null,null,null,null,"土12",{"$f":"E1415&\"-\"&COUNTIF(E$1:E1415,E1415)","v":"土12-9"},"翔","土",12]
[null,null,null,null,"火12",{"$f":"E1416&\"-\"&COUNTIF(E$1:E1416,E1416)","v":"火12-33"},"粟","火",12]
[null,null,null,null,"金12",{"$f":"E1417&\"-\"&COUNTIF(E$1:E1417,E1417)","v":"金12-38"},"尊","金",12]
[null,null,null,null,"火12",{"$f":"E1418&\"-\"&COUNTIF(E$1:E1418,E1418)","v":"火12-34"},"婷","火",12]
[null,null,null,null,"火12",{"$f":"E1419&\"-\"&COUNTIF(E$1:E1419,E1419)","v":"火12-35"},"敦","火",12]
[null,null,null,null,"金12",{"$f":"E1420&\"-\"&COUNTIF(E$1:E1420,E1420)","v":"金12-39"},"替","金",12]
[null,null,null,null,"金12",{"$f":"E1421&\"-\"&COUNTIF(E$1:E1421,E1421)","v":"金12-40"},"殘","金",12]
[null,null,null,null,"水12",{"$f":"E1422&\"-\"&COUNTIF(E$1:E1422,E1422)","v":"水12-39"},"賁","水",12]
[null,null,null,null,"木12",{"$f":"E1423&\"-\"&COUNTIF(E$1:E1423,E1423)","v":"木12-27"},"黃","木",12]
[null,null,null,null,"水12",{"$f":"E1424&\"-\"&COUNTIF(E$1:E1424,E1424)","v":"水12-40"},"弼","水",12]
[null,null,null,null,"水12",{"$f":"E1425&\"-\"&COUNTIF(E$1:E1425,E1425)","v":"水12-41"},"粥","水",12]
[null,null,null,null,"木12",{"$f":"E1426&\"-\"&COUNTIF(E$1:E1426,E1426)","v":"木12-28"},"景","木",12]
[null,null,null,null,"木12",{"$f":"E1427&\"-\"&COUNTIF(E$1:E1427,E1427)","v":"木12-29"},"期","木",12]
[null,null,null,null,"金12",{"$f":"E1428&\"-\"&COUNTIF(E$1:E1428,E1428)","v":"金12-41"},"絮","金",12]
[null,null,null,null,"水12",{"$f":"E1429&\"-\"&COUNTIF(E$1:E1429,E1429)","v":"水12-42"},"發","水",12]
[null,null,null,null,"金12",{"$f":"E1430&\"-\"&COUNTIF(E$1:E1430,E1430)","v":"金12-42"},"筍","金",12]
[null,null,null,null,"水12",{"$f":"E1431&\"-\"&COUNTIF(E$1:E1431,E1431)","v":"水12-43"},"媚","水",12]
[null,null,null,null,"金12",{"$f":"E1432&\"-\"&COUNTIF(E$1:E1432,E1432)","v":"金12-43"},"須","金",12]
[null,null,null,null,"金12",{"$f":"E1433&\"-\"&COUNTIF(E$1:E1433,E1433)","v":"金12-44"},"創","金",12]
[null,null,null,null,"金12",{"$f":"E1434&\"-\"&COUNTIF(E$1:E1434,E1434)","v":"金12-45"},"竦","金",12]
[null,null,null,null,"土12",{"$f":"E1435&\"-\"&COUNTIF(E$1:E1435,E1435)","v":"土12-10"},"爲","土",12]
[null,null,null,null,"木12",{"$f":"E1436&\"-\"&COUNTIF(E$1:E1436,E1436)","v":"木12-30"},"稀","木",12]
[null,null,null,null,"金12",{"$f":"E1437&\"-\"&COUNTIF(E$1:E1437,E1437)","v":"金12-46"},"稍","金",12]
[null,null,null,null,"金12",{"$f":"E1438&\"-\"&COUNTIF(E$1:E1438,E1438)","v":"金12-47"},"税","金",12]
[null,null,null,null,"土12",{"$f":"E1439&\"-\"&COUNTIF(E$1:E1439,E1439)","v":"土12-11"},"圍","土",12]
[null,null,null,null,"火12",{"$f":"E1440&\"-\"&COUNTIF(E$1:E1440,E1440)","v":"火12-36"},"程","火",12]
[null,null,null,null,"水12",{"$f":"E1441&\"-\"&COUNTIF(E$1:E1441,E1441)","v":"水12-44"},"棼","水",12]
[null,null,null,null,"火12",{"$f":"E1442&\"-\"&COUNTIF(E$1:E1442,E1442)","v":"火12-37"},"淘","火",12]
[null,null,null,null,"十12",{"$f":"E1443&\"-\"&COUNTIF(E$1:E1443,E1443)","v":"十12-4"},"涴","十",12]
[null,null,null,null,"木12",{"$f":"E1444&\"-\"&COUNTIF(E$1:E1444,E1444)","v":"木12-31"},"混","木",12]
[null,null,null,null,"木12",{"$f":"E1445&\"-\"&COUNTIF(E$1:E1445,E1445)","v":"木12-32"},"淦","木",12]
[null,null,null,null,"金12",{"$f":"E1446&\"-\"&COUNTIF(E$1:E1446,E1446)","v":"金12-48"},"淞","金",12]
[null,null,null,null,"木12",{"$f":"E1447&\"-\"&COUNTIF(E$1:E1447,E1447)","v":"木12-33"},"涯","木",12]
[null,null,null,null,"土12",{"$f":"E1448&\"-\"&COUNTIF(E$1:E1448,E1448)","v":"土12-12"},"液","土",12]
[null,null,null,null,"火12",{"$f":"E1449&\"-\"&COUNTIF(E$1:E1449,E1449)","v":"火12-38"},"涼","火",12]
[null,null,null,null,"火12",{"$f":"E1450&\"-\"&COUNTIF(E$1:E1450,E1450)","v":"火12-39"},"淡","火",12]
[null,null,null,null,"火12",{"$f":"E1451&\"-\"&COUNTIF(E$1:E1451,E1451)","v":"火12-40"},"添","火",12]
[null,null,null,null,"金12",{"$f":"E1452&\"-\"&COUNTIF(E$1:E1452,E1452)","v":"金12-49"},"淨","金",12]
[null,null,null,null,"金12",{"$f":"E1453&\"-\"&COUNTIF(E$1:E1453,E1453)","v":"金12-50"},"深","金",12]
[null,null,null,null,"土12",{"$f":"E1454&\"-\"&COUNTIF(E$1:E1454,E1454)","v":"土12-13"},"淹","土",12]
[null,null,null,null,"水12",{"$f":"E1455&\"-\"&COUNTIF(E$1:E1455,E1455)","v":"水12-45"},"淳","水",12]
[null,null,null,null,"木12",{"$f":"E1456&\"-\"&COUNTIF(E$1:E1456,E1456)","v":"木12-34"},"淇","木",12]
[null,null,null,null,"金12",{"$f":"E1457&\"-\"&COUNTIF(E$1:E1457,E1457)","v":"金12-51"},"清","金",12]
[null,null,null,null,"金12",{"$f":"E1458&\"-\"&COUNTIF(E$1:E1458,E1458)","v":"金12-52"},"淑","金",12]
[null,null,null,null,"火12",{"$f":"E1459&\"-\"&COUNTIF(E$1:E1459,E1459)","v":"火12-41"},"淋","火",12]
[null,null,null,null,"木12",{"$f":"E1460&\"-\"&COUNTIF(E$1:E1460,E1460)","v":"木12-35"},"捲","木",12]
[null,null,null,null,"水12",{"$f":"E1461&\"-\"&COUNTIF(E$1:E1461,E1461)","v":"水12-46"},"猛","水",12]
[null,null,null,null,"木12",{"$f":"E1462&\"-\"&COUNTIF(E$1:E1462,E1462)","v":"木12-36"},"皖","木",12]
[null,null,null,null,"木12",{"$f":"E1463&\"-\"&COUNTIF(E$1:E1463,E1463)","v":"木12-37"},"荃","木",12]
[null,null,null,null,"水12",{"$f":"E1464&\"-\"&COUNTIF(E$1:E1464,E1464)","v":"水12-47"},"防","水",12]
[null,null,null,null,"金12",{"$f":"E1465&\"-\"&COUNTIF(E$1:E1465,E1465)","v":"金12-53"},"琇","金",12]
[null,null,null,null,"火12",{"$f":"E1466&\"-\"&COUNTIF(E$1:E1466,E1466)","v":"火12-42"},"現","火",12]
[null,null,null,null,"木12",{"$f":"E1467&\"-\"&COUNTIF(E$1:E1467,E1467)","v":"木12-38"},"球","木",12]
[null,null,null,null,"火12",{"$f":"E1468&\"-\"&COUNTIF(E$1:E1468,E1468)","v":"火12-43"},"琅","火",12]
[null,null,null,null,"火12",{"$f":"E1469&\"-\"&COUNTIF(E$1:E1469,E1469)","v":"火12-44"},"理","火",12]
[null,null,null,null,"火12",{"$f":"E1470&\"-\"&COUNTIF(E$1:E1470,E1470)","v":"火12-45"},"探","火",12]
[null,null,null,null,"水12",{"$f":"E1471&\"-\"&COUNTIF(E$1:E1471,E1471)","v":"水12-48"},"虛","水",12]
[null,null,null,null,"土12",{"$f":"E1472&\"-\"&COUNTIF(E$1:E1472,E1472)","v":"土12-14"},"惡","土",12]
[null,null,null,null,"火12",{"$f":"E1473&\"-\"&COUNTIF(E$1:E1473,E1473)","v":"火12-46"},"捷","火",12]
[null,null,null,null,{"$f":"H1474&I1474","v":"木12"},{"$f":"E1474&\"-\"&COUNTIF(E$1:E1474,E1474)","v":"木12-39"},"掛","木",12]
[null,null,null,null,"木12",{"$f":"E1475&\"-\"&COUNTIF(E$1:E1475,E1475)","v":"木12-40"},"掘","木",12]
[null,null,null,null,"金12",{"$f":"E1476&\"-\"&COUNTIF(E$1:E1476,E1476)","v":"金12-54"},"推","金",12]
[null,null,null,null,"火12",{"$f":"E1477&\"-\"&COUNTIF(E$1:E1477,E1477)","v":"火12-47"},"接","火",12]
[null,null,null,null,"金12",{"$f":"E1478&\"-\"&COUNTIF(E$1:E1478,E1478)","v":"金12-55"},"措","金",12]
[null,null,null,null,"金12",{"$f":"E1479&\"-\"&COUNTIF(E$1:E1479,E1479)","v":"金12-56"},"授","金",12]
[null,null,null,null,"水12",{"$f":"E1480&\"-\"&COUNTIF(E$1:E1480,E1480)","v":"水12-49"},"排","水",12]
[null,null,null,null,"火12",{"$f":"E1481&\"-\"&COUNTIF(E$1:E1481,E1481)","v":"火12-48"},"琉","火",12]
[null,null,null,null,"金12",{"$f":"E1482&\"-\"&COUNTIF(E$1:E1482,E1482)","v":"金12-57"},"茸","金",12]
[null,null,null,null,"木12",{"$f":"E1483&\"-\"&COUNTIF(E$1:E1483,E1483)","v":"木12-41"},"迭","木",12]
[null,null,null,null,"水12",{"$f":"E1484&\"-\"&COUNTIF(E$1:E1484,E1484)","v":"水12-50"},"迫","水",12]
[null,null,null,null,"金12",{"$f":"E1485&\"-\"&COUNTIF(E$1:E1485,E1485)","v":"金12-58"},"茜","金",12]
[null,null,null,null,"火12",{"$f":"E1486&\"-\"&COUNTIF(E$1:E1486,E1486)","v":"火12-49"},"場","火",12]
[null,null,null,null,"木12",{"$f":"E1487&\"-\"&COUNTIF(E$1:E1487,E1487)","v":"木12-42"},"堦","木",12]
[null,null,null,null,"火12",{"$f":"E1488&\"-\"&COUNTIF(E$1:E1488,E1488)","v":"火12-50"},"堤","火",12]
[null,null,null,null,"金12",{"$f":"E1489&\"-\"&COUNTIF(E$1:E1489,E1489)","v":"金12-59"},"堪","金",12]
[null,null,null,null,"水12",{"$f":"E1490&\"-\"&COUNTIF(E$1:E1490,E1490)","v":"水12-51"},"棓","水",12]
[null,null,null,null,"金12",{"$f":"E1491&\"-\"&COUNTIF(E$1:E1491,E1491)","v":"金12-60"},"森","金",12]
[null,null,null,null,"火12",{"$f":"E1492&\"-\"&COUNTIF(E$1:E1492,E1492)","v":"火12-51"},"植","火",12]
[null,null,null,null,"火12",{"$f":"E1493&\"-\"&COUNTIF(E$1:E1493,E1493)","v":"火12-52"},"楝","火",12]
[null,null,null,null,"水12",{"$f":"E1494&\"-\"&COUNTIF(E$1:E1494,E1494)","v":"水12-52"},"棉","水",12]
[null,null,null,null,"金12",{"$f":"E1495&\"-\"&COUNTIF(E$1:E1495,E1495)","v":"金12-61"},"棧","金",12]
[null,null,null,null,"木12",{"$f":"E1496&\"-\"&COUNTIF(E$1:E1496,E1496)","v":"木12-43"},"棍","木",12]
[null,null,null,null,"水12",{"$f":"E1497&\"-\"&COUNTIF(E$1:E1497,E1497)","v":"水12-53"},"棒","水",12]
[null,null,null,null,"水12",{"$f":"E1498&\"-\"&COUNTIF(E$1:E1498,E1498)","v":"水12-54"},"棚","水",12]
[null,null,null,null,"木12",{"$f":"E1499&\"-\"&COUNTIF(E$1:E1499,E1499)","v":"木12-44"},"椅","木",12]
[null,null,null,null,"木12",{"$f":"E1500&\"-\"&COUNTIF(E$1:E1500,E1500)","v":"木12-45"},"棋","木",12]
[null,null,null,null,"火12",{"$f":"E1501&\"-\"&COUNTIF(E$1:E1501,E1501)","v":"火12-53"},"毓","火",12]
[null,null,null,null,"木12",{"$f":"E1502&\"-\"&COUNTIF(E$1:E1502,E1502)","v":"木12-46"},"琹","木",12]
[null,null,null,null,"土12",{"$f":"E1503&\"-\"&COUNTIF(E$1:E1503,E1503)","v":"土12-15"},"壺","土",12]
[null,null,null,null,"木12",{"$f":"E1504&\"-\"&COUNTIF(E$1:E1504,E1504)","v":"木12-47"},"草","木",12]
[null,null,null,null,"金12",{"$f":"E1505&\"-\"&COUNTIF(E$1:E1505,E1505)","v":"金12-62"},"詐","金",12]
[null,null,null,null,"金12",{"$f":"E1506&\"-\"&COUNTIF(E$1:E1506,E1506)","v":"金12-63"},"訴","金",12]
[null,null,null,null,"金12",{"$f":"E1507&\"-\"&COUNTIF(E$1:E1507,E1507)","v":"金12-64"},"詔","金",12]
[null,null,null,null,"火12",{"$f":"E1508&\"-\"&COUNTIF(E$1:E1508,E1508)","v":"火12-54"},"証","火",12]
[null,null,null,null,"火12",{"$f":"E1509&\"-\"&COUNTIF(E$1:E1509,E1509)","v":"火12-55"},"診","火",12]
[null,null,null,null,"金12",{"$f":"E1510&\"-\"&COUNTIF(E$1:E1510,E1510)","v":"金12-65"},"詞","金",12]
[null,null,null,null,"土12",{"$f":"E1511&\"-\"&COUNTIF(E$1:E1511,E1511)","v":"土12-16"},"詠","土",12]
[null,null,null,null,"金12",{"$f":"E1512&\"-\"&COUNTIF(E$1:E1512,E1512)","v":"金12-66"},"註","金",12]
[null,null,null,null,"水12",{"$f":"E1513&\"-\"&COUNTIF(E$1:E1513,E1513)","v":"水12-55"},"評","水",12]
[null,null,null,null,"水12",{"$f":"E1514&\"-\"&COUNTIF(E$1:E1514,E1514)","v":"水12-56"},"馮","水",12]
[null,null,null,null,"火12",{"$f":"E1515&\"-\"&COUNTIF(E$1:E1515,E1515)","v":"火12-56"},"盜","火",12]
[null,null,null,null,"金12",{"$f":"E1516&\"-\"&COUNTIF(E$1:E1516,E1516)","v":"金12-67"},"絢","金",12]
[null,null,null,null,"火12",{"$f":"E1517&\"-\"&COUNTIF(E$1:E1517,E1517)","v":"火12-57"},"鈉","火",12]
[null,null,null,null,"火12",{"$f":"E1518&\"-\"&COUNTIF(E$1:E1518,E1518)","v":"火12-58"},"鈍","火",12]
[null,null,null,null,"金12",{"$f":"E1519&\"-\"&COUNTIF(E$1:E1519,E1519)","v":"金12-68"},"鈔","金",12]
[null,null,null,null,"木12",{"$f":"E1520&\"-\"&COUNTIF(E$1:E1520,E1520)","v":"木12-48"},"欽","木",12]
[null,null,null,null,"火12",{"$f":"E1521&\"-\"&COUNTIF(E$1:E1521,E1521)","v":"火12-59"},"鈕","火",12]
[null,null,null,null,"ft12",{"$f":"E1522&\"-\"&COUNTIF(E$1:E1522,E1522)","v":"ft12-1"},"鈞","ft",12]
[null,null,null,null,"木12",{"$f":"E1523&\"-\"&COUNTIF(E$1:E1523,E1523)","v":"木12-49"},"絡","木",12]
[null,null,null,null,"木12",{"$f":"E1524&\"-\"&COUNTIF(E$1:E1524,E1524)","v":"木12-50"},"結","木",12]
[null,null,null,null,"金12",{"$f":"E1525&\"-\"&COUNTIF(E$1:E1525,E1525)","v":"金12-69"},"絲","金",12]
[null,null,null,null,"木12",{"$f":"E1526&\"-\"&COUNTIF(E$1:E1526,E1526)","v":"木12-51"},"絞","木",12]
[null,null,null,null,"木12",{"$f":"E1527&\"-\"&COUNTIF(E$1:E1527,E1527)","v":"木12-52"},"給","木",12]
[null,null,null,null,"金12",{"$f":"E1528&\"-\"&COUNTIF(E$1:E1528,E1528)","v":"金12-70"},"絶","金",12]
[null,null,null,null,"木12",{"$f":"E1529&\"-\"&COUNTIF(E$1:E1529,E1529)","v":"木12-53"},"絖","木",12]
[null,null,null,null,"火12",{"$f":"E1530&\"-\"&COUNTIF(E$1:E1530,E1530)","v":"火12-60"},"統","火",12]
[null,null,null,null,"水12",{"$f":"E1531&\"-\"&COUNTIF(E$1:E1531,E1531)","v":"水12-57"},"悶","水",12]
[null,null,null,null,"木11",{"$f":"E1532&\"-\"&COUNTIF(E$1:E1532,E1532)","v":"木11-1"},"圈","木",11]
[null,null,null,null,"水11",{"$f":"E1533&\"-\"&COUNTIF(E$1:E1533,E1533)","v":"水11-1"},"釩","水",11]
[null,null,null,null,"木11",{"$f":"E1534&\"-\"&COUNTIF(E$1:E1534,E1534)","v":"木11-2"},"寇","木",11]
[null,null,null,null,"水11",{"$f":"E1535&\"-\"&COUNTIF(E$1:E1535,E1535)","v":"水11-2"},"班","水",11]
[null,null,null,null,"火11",{"$f":"E1536&\"-\"&COUNTIF(E$1:E1536,E1536)","v":"火11-1"},"帳","火",11]
[null,null,null,null,"水11",{"$f":"E1537&\"-\"&COUNTIF(E$1:E1537,E1537)","v":"水11-3"},"票","水",11]
[null,null,null,null,{"$f":"H1538&I1538","v":"水11"},{"$f":"E1538&\"-\"&COUNTIF(E$1:E1538,E1538)","v":"水11-4"},"麻","水",11]
[null,null,null,null,"金11",{"$f":"E1539&\"-\"&COUNTIF(E$1:E1539,E1539)","v":"金11-1"},"紮","金",11]
[null,null,null,null,"水11",{"$f":"E1540&\"-\"&COUNTIF(E$1:E1540,E1540)","v":"水11-5"},"訛","水",11]
[null,null,null,null,"金11",{"$f":"E1541&\"-\"&COUNTIF(E$1:E1541,E1541)","v":"金11-2"},"訟","金",11]
[null,null,null,null,"土11",{"$f":"E1542&\"-\"&COUNTIF(E$1:E1542,E1542)","v":"土11-1"},"異","土",11]
[null,null,null,null,"火11",{"$f":"E1543&\"-\"&COUNTIF(E$1:E1543,E1543)","v":"火11-2"},"羚","火",11]
[null,null,null,null,"火11",{"$f":"E1544&\"-\"&COUNTIF(E$1:E1544,E1544)","v":"火11-3"},"聆","火",11]
[null,null,null,null,"火11",{"$f":"E1545&\"-\"&COUNTIF(E$1:E1545,E1545)","v":"火11-4"},"軟","火",11]
[null,null,null,null,"水11",{"$f":"E1546&\"-\"&COUNTIF(E$1:E1546,E1546)","v":"水11-6"},"被","水",11]
[null,null,null,null,"金11",{"$f":"E1547&\"-\"&COUNTIF(E$1:E1547,E1547)","v":"金11-3"},"雀","金",11]
[null,null,null,null,"土11",{"$f":"E1548&\"-\"&COUNTIF(E$1:E1548,E1548)","v":"土11-2"},"野","土",11]
[null,null,null,null,"金11",{"$f":"E1549&\"-\"&COUNTIF(E$1:E1549,E1549)","v":"金11-4"},"赦","金",11]
[null,null,null,null,"金11",{"$f":"E1550&\"-\"&COUNTIF(E$1:E1550,E1550)","v":"金11-5"},"馗","金",11]
[null,null,null,null,"金11",{"$f":"E1551&\"-\"&COUNTIF(E$1:E1551,E1551)","v":"金11-6"},"責","金",11]
[null,null,null,null,"水11",{"$f":"E1552&\"-\"&COUNTIF(E$1:E1552,E1552)","v":"水11-7"},"販","水",11]
[null,null,null,null,"火11",{"$f":"E1553&\"-\"&COUNTIF(E$1:E1553,E1553)","v":"火11-5"},"狷","火",11]
[null,null,null,null,"水11",{"$f":"E1554&\"-\"&COUNTIF(E$1:E1554,E1554)","v":"水11-8"},"邦","水",11]
[null,null,null,null,"水11",{"$f":"E1555&\"-\"&COUNTIF(E$1:E1555,E1555)","v":"水11-9"},"曼","水",11]
[null,null,null,null,"火11",{"$f":"E1556&\"-\"&COUNTIF(E$1:E1556,E1556)","v":"火11-6"},"袋","火",11]
[null,null,null,null,"金11",{"$f":"E1557&\"-\"&COUNTIF(E$1:E1557,E1557)","v":"金11-7"},"釵","金",11]
[null,null,null,null,"水11",{"$f":"E1558&\"-\"&COUNTIF(E$1:E1558,E1558)","v":"水11-10"},"訪","水",11]
[null,null,null,null,"金11",{"$f":"E1559&\"-\"&COUNTIF(E$1:E1559,E1559)","v":"金11-8"},"船","金",11]
[null,null,null,null,"金11",{"$f":"E1560&\"-\"&COUNTIF(E$1:E1560,E1560)","v":"金11-9"},"設","金",11]
[null,null,null,null,"木11",{"$f":"E1561&\"-\"&COUNTIF(E$1:E1561,E1561)","v":"木11-3"},"袈","木",11]
[null,null,null,null,"土11",{"$f":"E1562&\"-\"&COUNTIF(E$1:E1562,E1562)","v":"土11-3"},"翌","土",11]
[null,null,null,null,"金11",{"$f":"E1563&\"-\"&COUNTIF(E$1:E1563,E1563)","v":"金11-10"},"羞","金",11]
[null,null,null,null,"火11",{"$f":"E1564&\"-\"&COUNTIF(E$1:E1564,E1564)","v":"火11-7"},"硫","火",11]
[null,null,null,null,"火11",{"$f":"E1565&\"-\"&COUNTIF(E$1:E1565,E1565)","v":"火11-8"},"豚","火",11]
[null,null,null,null,"金11",{"$f":"E1566&\"-\"&COUNTIF(E$1:E1566,E1566)","v":"金11-11"},"粗","金",11]
[null,null,null,null,"木11",{"$f":"E1567&\"-\"&COUNTIF(E$1:E1567,E1567)","v":"木11-4"},"匏","木",11]
[null,null,null,null,"水11",{"$f":"E1568&\"-\"&COUNTIF(E$1:E1568,E1568)","v":"水11-11"},"符","水",11]
[null,null,null,null,"火11",{"$f":"E1569&\"-\"&COUNTIF(E$1:E1569,E1569)","v":"火11-9"},"聊","火",11]
[null,null,null,null,"木11",{"$f":"E1570&\"-\"&COUNTIF(E$1:E1570,E1570)","v":"木11-5"},"翊","木",11]
[null,null,null,null,"火11",{"$f":"E1571&\"-\"&COUNTIF(E$1:E1571,E1571)","v":"火11-10"},"粒","火",11]
[null,null,null,null,"火11",{"$f":"E1572&\"-\"&COUNTIF(E$1:E1572,E1572)","v":"火11-11"},"笛","火",11]
[null,null,null,null,"水11",{"$f":"E1573&\"-\"&COUNTIF(E$1:E1573,E1573)","v":"水11-12"},"粕","水",11]
[null,null,null,null,"火11",{"$f":"E1574&\"-\"&COUNTIF(E$1:E1574,E1574)","v":"火11-12"},"笠","火",11]
[null,null,null,null,"火11",{"$f":"E1575&\"-\"&COUNTIF(E$1:E1575,E1575)","v":"火11-13"},"笞","火",11]
[null,null,null,null,"金11",{"$f":"E1576&\"-\"&COUNTIF(E$1:E1576,E1576)","v":"金11-12"},"窓","金",11]
[null,null,null,null,"金11",{"$f":"E1577&\"-\"&COUNTIF(E$1:E1577,E1577)","v":"金11-13"},"祭","金",11]
[null,null,null,null,"土11",{"$f":"E1578&\"-\"&COUNTIF(E$1:E1578,E1578)","v":"土11-4"},"眺","土",11]
[null,null,null,null,"火11",{"$f":"E1579&\"-\"&COUNTIF(E$1:E1579,E1579)","v":"火11-14"},"釣","火",11]
[null,null,null,null,"木11",{"$f":"E1580&\"-\"&COUNTIF(E$1:E1580,E1580)","v":"木11-6"},"竟","木",11]
[null,null,null,null,"金11",{"$f":"E1581&\"-\"&COUNTIF(E$1:E1581,E1581)","v":"金11-14"},"笥","金",11]
[null,null,null,null,"木11",{"$f":"E1582&\"-\"&COUNTIF(E$1:E1582,E1582)","v":"木11-7"},"研","木",11]
[null,null,null,null,"木11",{"$f":"E1583&\"-\"&COUNTIF(E$1:E1583,E1583)","v":"木11-8"},"眷","木",11]
[null,null,null,null,"木11",{"$f":"E1584&\"-\"&COUNTIF(E$1:E1584,E1584)","v":"木11-9"},"皎","木",11]
[null,null,null,null,"金11",{"$f":"E1585&\"-\"&COUNTIF(E$1:E1585,E1585)","v":"金11-15"},"產","金",11]
[null,null,null,null,"木11",{"$f":"E1586&\"-\"&COUNTIF(E$1:E1586,E1586)","v":"木11-10"},"毬","木",11]
[null,null,null,null,"金11",{"$f":"E1587&\"-\"&COUNTIF(E$1:E1587,E1587)","v":"金11-16"},"笙","金",11]
[null,null,null,null,"土11",{"$f":"E1588&\"-\"&COUNTIF(E$1:E1588,E1588)","v":"土11-5"},"宨","土",11]
[null,null,null,null,"木11",{"$f":"E1589&\"-\"&COUNTIF(E$1:E1589,E1589)","v":"木11-11"},"眼","木",11]
[null,null,null,null,"火11",{"$f":"E1590&\"-\"&COUNTIF(E$1:E1590,E1590)","v":"火11-15"},"略","火",11]
[null,null,null,null,"金11",{"$f":"E1591&\"-\"&COUNTIF(E$1:E1591,E1591)","v":"金11-17"},"晟","金",11]
[null,null,null,null,"金11",{"$f":"E1592&\"-\"&COUNTIF(E$1:E1592,E1592)","v":"金11-18"},"率","金",11]
[null,null,null,null,"水11",{"$f":"E1593&\"-\"&COUNTIF(E$1:E1593,E1593)","v":"水11-13"},"珮","水",11]
[null,null,null,null,"金11",{"$f":"E1594&\"-\"&COUNTIF(E$1:E1594,E1594)","v":"金11-19"},"悦","金",11]
[null,null,null,null,"木11",{"$f":"E1595&\"-\"&COUNTIF(E$1:E1595,E1595)","v":"木11-12"},"琰","木",11]
[null,null,null,null,"金11",{"$f":"E1596&\"-\"&COUNTIF(E$1:E1596,E1596)","v":"金11-20"},"珣","金",11]
[null,null,null,null,"金11",{"$f":"E1597&\"-\"&COUNTIF(E$1:E1597,E1597)","v":"金11-21"},"珠","金",11]
[null,null,null,null,"水11",{"$f":"E1598&\"-\"&COUNTIF(E$1:E1598,E1598)","v":"水11-14"},"晚","水",11]
[null,null,null,null,"木11",{"$f":"E1599&\"-\"&COUNTIF(E$1:E1599,E1599)","v":"木11-13"},"貫","木",11]
[null,null,null,null,"木11",{"$f":"E1600&\"-\"&COUNTIF(E$1:E1600,E1600)","v":"木11-14"},"胤","木",11]
[null,null,null,null,"水11",{"$f":"E1601&\"-\"&COUNTIF(E$1:E1601,E1601)","v":"水11-15"},"捕","水",11]
[null,null,null,null,{"$f":"H1602&I1602","v":"火11"},{"$f":"E1602&\"-\"&COUNTIF(E$1:E1602,E1602)","v":"火11-16"},"悌","火",11]
[null,null,null,null,"土11",{"$f":"E1603&\"-\"&COUNTIF(E$1:E1603,E1603)","v":"土11-6"},"苑","土",11]
[null,null,null,null,"木11",{"$f":"E1604&\"-\"&COUNTIF(E$1:E1604,E1604)","v":"木11-15"},"近","木",11]
[null,null,null,null,"土11",{"$f":"E1605&\"-\"&COUNTIF(E$1:E1605,E1605)","v":"土11-7"},"迎","土",11]
[null,null,null,null,"金11",{"$f":"E1606&\"-\"&COUNTIF(E$1:E1606,E1606)","v":"金11-22"},"爽","金",11]
[null,null,null,null,"木11",{"$f":"E1607&\"-\"&COUNTIF(E$1:E1607,E1607)","v":"木11-16"},"烽","木",11]
[null,null,null,null,"土11",{"$f":"E1608&\"-\"&COUNTIF(E$1:E1608,E1608)","v":"土11-8"},"欲","土",11]
[null,null,null,null,"火11",{"$f":"E1609&\"-\"&COUNTIF(E$1:E1609,E1609)","v":"火11-17"},"梁","火",11]
[null,null,null,null,"水11",{"$f":"E1610&\"-\"&COUNTIF(E$1:E1610,E1610)","v":"水11-16"},"毫","水",11]
[null,null,null,null,"火11",{"$f":"E1611&\"-\"&COUNTIF(E$1:E1611,E1611)","v":"火11-18"},"鹿","火",11]
[null,null,null,null,"火11",{"$f":"E1612&\"-\"&COUNTIF(E$1:E1612,E1612)","v":"火11-19"},"頂","火",11]
[null,null,null,null,"水11",{"$f":"E1613&\"-\"&COUNTIF(E$1:E1613,E1613)","v":"水11-17"},"崩","水",11]
[null,null,null,null,"木11",{"$f":"E1614&\"-\"&COUNTIF(E$1:E1614,E1614)","v":"木11-17"},"欵","木",11]
[null,null,null,null,"土11",{"$f":"E1615&\"-\"&COUNTIF(E$1:E1615,E1615)","v":"土11-9"},"晝","土",11]
[null,null,null,null,"水11",{"$f":"E1616&\"-\"&COUNTIF(E$1:E1616,E1616)","v":"水11-18"},"晦","水",11]
[null,null,null,null,"金11",{"$f":"E1617&\"-\"&COUNTIF(E$1:E1617,E1617)","v":"金11-23"},"斜","金",11]
[null,null,null,null,"金11",{"$f":"E1618&\"-\"&COUNTIF(E$1:E1618,E1618)","v":"金11-24"},"敍","金",11]
[null,null,null,null,"金11",{"$f":"E1619&\"-\"&COUNTIF(E$1:E1619,E1619)","v":"金11-25"},"戚","金",11]
[null,null,null,null,"金11",{"$f":"E1620&\"-\"&COUNTIF(E$1:E1620,E1620)","v":"金11-26"},"旋","金",11]
[null,null,null,null,"火11",{"$f":"E1621&\"-\"&COUNTIF(E$1:E1621,E1621)","v":"火11-20"},"斛","火",11]
[null,null,null,null,"水11",{"$f":"E1622&\"-\"&COUNTIF(E$1:E1622,E1622)","v":"水11-19"},"敗","水",11]
[null,null,null,null,"木11",{"$f":"E1623&\"-\"&COUNTIF(E$1:E1623,E1623)","v":"木11-18"},"晤","木",11]
[null,null,null,null,"火11",{"$f":"E1624&\"-\"&COUNTIF(E$1:E1624,E1624)","v":"火11-21"},"敕","火",11]
[null,null,null,null,"金11",{"$f":"E1625&\"-\"&COUNTIF(E$1:E1625,E1625)","v":"金11-27"},"悉","金",11]
[null,null,null,null,"木11",{"$f":"E1626&\"-\"&COUNTIF(E$1:E1626,E1626)","v":"木11-19"},"崔","木",11]
[null,null,null,null,"土11",{"$f":"E1627&\"-\"&COUNTIF(E$1:E1627,E1627)","v":"土11-10"},"尉","土",11]
[null,null,null,null,"金11",{"$f":"E1628&\"-\"&COUNTIF(E$1:E1628,E1628)","v":"金11-28"},"宿","金",11]
[null,null,null,null,"水11",{"$f":"E1629&\"-\"&COUNTIF(E$1:E1629,E1629)","v":"水11-20"},"彪","水",11]
[null,null,null,null,"土11",{"$f":"E1630&\"-\"&COUNTIF(E$1:E1630,E1630)","v":"土11-11"},"庵","土",11]
[null,null,null,null,"金11",{"$f":"E1631&\"-\"&COUNTIF(E$1:E1631,E1631)","v":"金11-29"},"巢","金",11]
[null,null,null,null,"金11",{"$f":"E1632&\"-\"&COUNTIF(E$1:E1632,E1632)","v":"金11-30"},"旌","金",11]
[null,null,null,null,"水11",{"$f":"E1633&\"-\"&COUNTIF(E$1:E1633,E1633)","v":"水11-21"},"密","水",11]
[null,null,null,null,"木11",{"$f":"E1634&\"-\"&COUNTIF(E$1:E1634,E1634)","v":"木11-20"},"寄","木",11]
[null,null,null,null,"金11",{"$f":"E1635&\"-\"&COUNTIF(E$1:E1635,E1635)","v":"金11-31"},"彫","金",11]
[null,null,null,null,"火11",{"$f":"E1636&\"-\"&COUNTIF(E$1:E1636,E1636)","v":"火11-22"},"張","火",11]
[null,null,null,null,"金11",{"$f":"E1637&\"-\"&COUNTIF(E$1:E1637,E1637)","v":"金11-32"},"庶","金",11]
[null,null,null,null,"木11",{"$f":"E1638&\"-\"&COUNTIF(E$1:E1638,E1638)","v":"木11-21"},"崎","木",11]
[null,null,null,null,"火11",{"$f":"E1639&\"-\"&COUNTIF(E$1:E1639,E1639)","v":"火11-23"},"犁","火",11]
[null,null,null,null,"金11",{"$f":"E1640&\"-\"&COUNTIF(E$1:E1640,E1640)","v":"金11-33"},"寂","金",11]
[null,null,null,null,"金11",{"$f":"E1641&\"-\"&COUNTIF(E$1:E1641,E1641)","v":"金11-34"},"問","金",11]
[null,null,null,null,"金11",{"$f":"E1642&\"-\"&COUNTIF(E$1:E1642,E1642)","v":"金11-35"},"商","金",11]
[null,null,null,null,"水11",{"$f":"E1643&\"-\"&COUNTIF(E$1:E1643,E1643)","v":"水11-22"},"務","水",11]
[null,null,null,null,"水11",{"$f":"E1644&\"-\"&COUNTIF(E$1:E1644,E1644)","v":"水11-23"},"婆","水",11]
[null,null,null,null,"火11",{"$f":"E1645&\"-\"&COUNTIF(E$1:E1645,E1645)","v":"火11-24"},"執","火",11]
[null,null,null,null,"火11",{"$f":"E1646&\"-\"&COUNTIF(E$1:E1646,E1646)","v":"火11-25"},"動","火",11]
[null,null,null,null,"木11",{"$f":"E1647&\"-\"&COUNTIF(E$1:E1647,E1647)","v":"木11-22"},"珪","木",11]
[null,null,null,null,"火11",{"$f":"E1648&\"-\"&COUNTIF(E$1:E1648,E1648)","v":"火11-26"},"胎","火",11]
[null,null,null,null,"水11",{"$f":"E1649&\"-\"&COUNTIF(E$1:E1649,E1649)","v":"水11-24"},"苗","水",11]
[null,null,null,null,"木11",{"$f":"E1650&\"-\"&COUNTIF(E$1:E1650,E1650)","v":"木11-23"},"苦","木",11]
[null,null,null,null,"火11",{"$f":"E1651&\"-\"&COUNTIF(E$1:E1651,E1651)","v":"火11-27"},"那","火",11]
[null,null,null,null,"金11",{"$f":"E1652&\"-\"&COUNTIF(E$1:E1652,E1652)","v":"金11-36"},"阡","金",11]
[null,null,null,null,"木11",{"$f":"E1653&\"-\"&COUNTIF(E$1:E1653,E1653)","v":"木11-24"},"堅","木",11]
[null,null,null,null,"金11",{"$f":"E1654&\"-\"&COUNTIF(E$1:E1654,E1654)","v":"金11-37"},"勘","金",11]
[null,null,null,null,"水11",{"$f":"E1655&\"-\"&COUNTIF(E$1:E1655,E1655)","v":"水11-25"},"凰","水",11]
[null,null,null,null,"金11",{"$f":"E1656&\"-\"&COUNTIF(E$1:E1656,E1656)","v":"金11-38"},"唱","金",11]
[null,null,null,null,"土11",{"$f":"E1657&\"-\"&COUNTIF(E$1:E1657,E1657)","v":"土11-12"},"唯","土",11]
[null,null,null,null,"木11",{"$f":"E1658&\"-\"&COUNTIF(E$1:E1658,E1658)","v":"木11-25"},"區","木",11]
[null,null,null,null,"木11",{"$f":"E1659&\"-\"&COUNTIF(E$1:E1659,E1659)","v":"木11-26"},"勗","木",11]
[null,null,null,null,"水11",{"$f":"E1660&\"-\"&COUNTIF(E$1:E1660,E1660)","v":"水11-26"},"副","水",11]
[null,null,null,null,"木11",{"$f":"E1661&\"-\"&COUNTIF(E$1:E1661,E1661)","v":"木11-27"},"乾","木",11]
[null,null,null,null,"金11",{"$f":"E1662&\"-\"&COUNTIF(E$1:E1662,E1662)","v":"金11-39"},"釧","金",11]
[null,null,null,null,"火11",{"$f":"E1663&\"-\"&COUNTIF(E$1:E1663,E1663)","v":"火11-28"},"帶","火",11]
[null,null,null,null,"金11",{"$f":"E1664&\"-\"&COUNTIF(E$1:E1664,E1664)","v":"金11-40"},"彩","金",11]
[null,null,null,null,"火11",{"$f":"E1665&\"-\"&COUNTIF(E$1:E1665,E1665)","v":"火11-29"},"梨","火",11]
[null,null,null,null,{"$f":"H1666&I1666","v":"金11"},{"$f":"E1666&\"-\"&COUNTIF(E$1:E1666,E1666)","v":"金11-41"},"趾","金",11]
[null,null,null,null,"木11",{"$f":"E1667&\"-\"&COUNTIF(E$1:E1667,E1667)","v":"木11-28"},"啟","木",11]
[null,null,null,null,"金11",{"$f":"E1668&\"-\"&COUNTIF(E$1:E1668,E1668)","v":"金11-42"},"崇","金",11]
[null,null,null,null,"土11",{"$f":"E1669&\"-\"&COUNTIF(E$1:E1669,E1669)","v":"土11-13"},"寅","土",11]
[null,null,null,null,"金11",{"$f":"E1670&\"-\"&COUNTIF(E$1:E1670,E1670)","v":"金11-43"},"崧","金",11]
[null,null,null,null,"金11",{"$f":"E1671&\"-\"&COUNTIF(E$1:E1671,E1671)","v":"金11-44"},"曹","金",11]
[null,null,null,null,"水11",{"$f":"E1672&\"-\"&COUNTIF(E$1:E1672,E1672)","v":"水11-27"},"敏","水",11]
[null,null,null,null,"金11",{"$f":"E1673&\"-\"&COUNTIF(E$1:E1673,E1673)","v":"金11-45"},"常","金",11]
[null,null,null,null,"金11",{"$f":"E1674&\"-\"&COUNTIF(E$1:E1674,E1674)","v":"金11-46"},"船","金",11]
[null,null,null,null,"木11",{"$f":"E1675&\"-\"&COUNTIF(E$1:E1675,E1675)","v":"木11-29"},"崑","木",11]
[null,null,null,null,"水11",{"$f":"E1676&\"-\"&COUNTIF(E$1:E1676,E1676)","v":"水11-28"},"望","水",11]
[null,null,null,null,"金11",{"$f":"E1677&\"-\"&COUNTIF(E$1:E1677,E1677)","v":"金11-47"},"祥","金",11]
[null,null,null,null,"水11",{"$f":"E1678&\"-\"&COUNTIF(E$1:E1678,E1678)","v":"水11-29"},"匾","水",11]
[null,null,null,null,"水11",{"$f":"E1679&\"-\"&COUNTIF(E$1:E1679,E1679)","v":"水11-30"},"閈","水",11]
[null,null,null,null,"木11",{"$f":"E1680&\"-\"&COUNTIF(E$1:E1680,E1680)","v":"木11-30"},"基","木",11]
[null,null,null,null,"火11",{"$f":"E1681&\"-\"&COUNTIF(E$1:E1681,E1681)","v":"火11-30"},"堂","火",11]
[null,null,null,null,"金11",{"$f":"E1682&\"-\"&COUNTIF(E$1:E1682,E1682)","v":"金11-48"},"晨","金",11]
[null,null,null,null,"木11",{"$f":"E1683&\"-\"&COUNTIF(E$1:E1683,E1683)","v":"木11-31"},"敎","木",11]
[null,null,null,null,"水11",{"$f":"E1684&\"-\"&COUNTIF(E$1:E1684,E1684)","v":"水11-31"},"魚","水",11]
[null,null,null,null,"金11",{"$f":"E1685&\"-\"&COUNTIF(E$1:E1685,E1685)","v":"金11-49"},"專","金",11]
[null,null,null,null,"木11",{"$f":"E1686&\"-\"&COUNTIF(E$1:E1686,E1686)","v":"木11-32"},"國","木",11]
[null,null,null,null,"金11",{"$f":"E1687&\"-\"&COUNTIF(E$1:E1687,E1687)","v":"金11-50"},"雪","金",11]
[null,null,null,null,"水11",{"$f":"E1688&\"-\"&COUNTIF(E$1:E1688,E1688)","v":"水11-32"},"習","水",11]
[null,null,null,null,"金11",{"$f":"E1689&\"-\"&COUNTIF(E$1:E1689,E1689)","v":"金11-51"},"許","金",11]
[null,null,null,null,"火11",{"$f":"E1690&\"-\"&COUNTIF(E$1:E1690,E1690)","v":"火11-31"},"翎","火",11]
[null,null,null,null,"七11",{"$f":"E1691&\"-\"&COUNTIF(E$1:E1691,E1691)","v":"七11-1"},"庸","七",11]
[null,null,null,null,"火11",{"$f":"E1692&\"-\"&COUNTIF(E$1:E1692,E1692)","v":"火11-32"},"章","火",11]
[null,null,null,null,"火11",{"$f":"E1693&\"-\"&COUNTIF(E$1:E1693,E1693)","v":"火11-33"},"將","火",11]
[null,null,null,null,"水11",{"$f":"E1694&\"-\"&COUNTIF(E$1:E1694,E1694)","v":"水11-33"},"背","水",11]
[null,null,null,null,"水11",{"$f":"E1695&\"-\"&COUNTIF(E$1:E1695,E1695)","v":"水11-34"},"麥","水",11]
[null,null,null,null,"土11",{"$f":"E1696&\"-\"&COUNTIF(E$1:E1696,E1696)","v":"土11-14"},"胡","土",11]
[null,null,null,null,"土11",{"$f":"E1697&\"-\"&COUNTIF(E$1:E1697,E1697)","v":"土11-15"},"英","土",11]
[null,null,null,null,"水11",{"$f":"E1698&\"-\"&COUNTIF(E$1:E1698,E1698)","v":"水11-35"},"茂","水",11]
[null,null,null,null,"水11",{"$f":"E1699&\"-\"&COUNTIF(E$1:E1699,E1699)","v":"水11-36"},"胖","水",11]
[null,null,null,null,"火11",{"$f":"E1700&\"-\"&COUNTIF(E$1:E1700,E1700)","v":"火11-34"},"苕","火",11]
[null,null,null,null,"火11",{"$f":"E1701&\"-\"&COUNTIF(E$1:E1701,E1701)","v":"火11-35"},"累","火",11]
[null,null,null,null,"木11",{"$f":"E1702&\"-\"&COUNTIF(E$1:E1702,E1702)","v":"木11-33"},"康","木",11]
[null,null,null,null,"金11",{"$f":"E1703&\"-\"&COUNTIF(E$1:E1703,E1703)","v":"金11-52"},"紫","金",11]
[null,null,null,null,"金11",{"$f":"E1704&\"-\"&COUNTIF(E$1:E1704,E1704)","v":"金11-53"},"參","金",11]
[null,null,null,null,"木11",{"$f":"E1705&\"-\"&COUNTIF(E$1:E1705,E1705)","v":"木11-34"},"烷","木",11]
[null,null,null,null,"金11",{"$f":"E1706&\"-\"&COUNTIF(E$1:E1706,E1706)","v":"金11-54"},"焌","金",11]
[null,null,null,null,"土11",{"$f":"E1707&\"-\"&COUNTIF(E$1:E1707,E1707)","v":"土11-16"},"婉","土",11]
[null,null,null,null,"水11",{"$f":"E1708&\"-\"&COUNTIF(E$1:E1708,E1708)","v":"水11-37"},"嫜","水",11]
[null,null,null,null,"水11",{"$f":"E1709&\"-\"&COUNTIF(E$1:E1709,E1709)","v":"水11-38"},"斌","水",11]
[null,null,null,null,"水11",{"$f":"E1710&\"-\"&COUNTIF(E$1:E1710,E1710)","v":"水11-39"},"婦","水",11]
[null,null,null,null,"水11",{"$f":"E1711&\"-\"&COUNTIF(E$1:E1711,E1711)","v":"水11-40"},"婚","水",11]
[null,null,null,null,"金11",{"$f":"E1712&\"-\"&COUNTIF(E$1:E1712,E1712)","v":"金11-55"},"處","金",11]
[null,null,null,null,"金11",{"$f":"E1713&\"-\"&COUNTIF(E$1:E1713,E1713)","v":"金11-56"},"匙","金",11]
[null,null,null,null,"木11",{"$f":"E1714&\"-\"&COUNTIF(E$1:E1714,E1714)","v":"木11-35"},"悟","木",11]
[null,null,null,null,"土11",{"$f":"E1715&\"-\"&COUNTIF(E$1:E1715,E1715)","v":"土11-17"},"苡","土",11]
[null,null,null,null,"金11",{"$f":"E1716&\"-\"&COUNTIF(E$1:E1716,E1716)","v":"金11-57"},"若","金",11]
[null,null,null,null,"木11",{"$f":"E1717&\"-\"&COUNTIF(E$1:E1717,E1717)","v":"木11-36"},"悍","木",11]
[null,null,null,null,"火11",{"$f":"E1718&\"-\"&COUNTIF(E$1:E1718,E1718)","v":"火11-36"},"梯","火",11]
[null,null,null,null,"火11",{"$f":"E1719&\"-\"&COUNTIF(E$1:E1719,E1719)","v":"火11-37"},"埜","火",11]
[null,null,null,null,"土11",{"$f":"E1720&\"-\"&COUNTIF(E$1:E1720,E1720)","v":"土11-18"},"移","土",11]
[null,null,null,null,"木11",{"$f":"E1721&\"-\"&COUNTIF(E$1:E1721,E1721)","v":"木11-37"},"梧","木",11]
[null,null,null,null,"金11",{"$f":"E1722&\"-\"&COUNTIF(E$1:E1722,E1722)","v":"金11-58"},"桶","金",11]
[null,null,null,null,"水11",{"$f":"E1723&\"-\"&COUNTIF(E$1:E1723,E1723)","v":"水11-41"},"梅","水",11]
[null,null,null,null,"金11",{"$f":"E1724&\"-\"&COUNTIF(E$1:E1724,E1724)","v":"金11-59"},"梢","金",11]
[null,null,null,null,"水11",{"$f":"E1725&\"-\"&COUNTIF(E$1:E1725,E1725)","v":"水11-42"},"梗","水",11]
[null,null,null,null,"金11",{"$f":"E1726&\"-\"&COUNTIF(E$1:E1726,E1726)","v":"金11-60"},"梓","金",11]
[null,null,null,null,"木11",{"$f":"E1727&\"-\"&COUNTIF(E$1:E1727,E1727)","v":"木11-38"},"械","木",11]
[null,null,null,null,"水11",{"$f":"E1728&\"-\"&COUNTIF(E$1:E1728,E1728)","v":"水11-43"},"捤","水",11]
[null,null,null,null,"金11",{"$f":"E1729&\"-\"&COUNTIF(E$1:E1729,E1729)","v":"金11-61"},"彬","金",11]
[null,null,null,null,{"$f":"H1730&I1730","v":"土11"},{"$f":"E1730&\"-\"&COUNTIF(E$1:E1730,E1730)","v":"土11-19"},"攸","土",11]
[null,null,null,null,"水11",{"$f":"E1731&\"-\"&COUNTIF(E$1:E1731,E1731)","v":"水11-44"},"貨","水",11]
[null,null,null,null,"土11",{"$f":"E1732&\"-\"&COUNTIF(E$1:E1732,E1732)","v":"土11-20"},"偉","土",11]
[null,null,null,null,"土11",{"$f":"E1733&\"-\"&COUNTIF(E$1:E1733,E1733)","v":"土11-21"},"偃","土",11]
[null,null,null,null,"木11",{"$f":"E1734&\"-\"&COUNTIF(E$1:E1734,E1734)","v":"木11-39"},"御","木",11]
[null,null,null,null,"火11",{"$f":"E1735&\"-\"&COUNTIF(E$1:E1735,E1735)","v":"火11-38"},"從","火",11]
[null,null,null,null,"水11",{"$f":"E1736&\"-\"&COUNTIF(E$1:E1736,E1736)","v":"水11-45"},"徘","水",11]
[null,null,null,null,"金11",{"$f":"E1737&\"-\"&COUNTIF(E$1:E1737,E1737)","v":"金11-62"},"得","金",11]
[null,null,null,null,"水11",{"$f":"E1738&\"-\"&COUNTIF(E$1:E1738,E1738)","v":"水11-46"},"偏","水",11]
[null,null,null,null,"火11",{"$f":"E1739&\"-\"&COUNTIF(E$1:E1739,E1739)","v":"火11-39"},"條","火",11]
[null,null,null,null,"火11",{"$f":"E1740&\"-\"&COUNTIF(E$1:E1740,E1740)","v":"火11-40"},"偵","火",11]
[null,null,null,null,"木11",{"$f":"E1741&\"-\"&COUNTIF(E$1:E1741,E1741)","v":"木11-40"},"偕","木",11]
[null,null,null,null,"火11",{"$f":"E1742&\"-\"&COUNTIF(E$1:E1742,E1742)","v":"火11-41"},"停","火",11]
[null,null,null,null,"木11",{"$f":"E1743&\"-\"&COUNTIF(E$1:E1743,E1743)","v":"木11-41"},"偶","木",11]
[null,null,null,null,"金11",{"$f":"E1744&\"-\"&COUNTIF(E$1:E1744,E1744)","v":"金11-63"},"側","金",11]
[null,null,null,null,"木11",{"$f":"E1745&\"-\"&COUNTIF(E$1:E1745,E1745)","v":"木11-42"},"健","木",11]
[null,null,null,null,"木11",{"$f":"E1746&\"-\"&COUNTIF(E$1:E1746,E1746)","v":"木11-43"},"頃","木",11]
[null,null,null,null,"木11",{"$f":"E1747&\"-\"&COUNTIF(E$1:E1747,E1747)","v":"木11-44"},"堀","木",11]
[null,null,null,null,"水11",{"$f":"E1748&\"-\"&COUNTIF(E$1:E1748,E1748)","v":"水11-47"},"培","水",11]
[null,null,null,null,"木11",{"$f":"E1749&\"-\"&COUNTIF(E$1:E1749,E1749)","v":"木11-45"},"域","木",11]
[null,null,null,null,"火11",{"$f":"E1750&\"-\"&COUNTIF(E$1:E1750,E1750)","v":"火11-42"},"朗","火",11]
[null,null,null,null,"金11",{"$f":"E1751&\"-\"&COUNTIF(E$1:E1751,E1751)","v":"金11-64"},"細","金",11]
[null,null,null,null,"水11",{"$f":"E1752&\"-\"&COUNTIF(E$1:E1752,E1752)","v":"水11-48"},"絆","水",11]
[null,null,null,null,"金11",{"$f":"E1753&\"-\"&COUNTIF(E$1:E1753,E1753)","v":"金11-65"},"終","金",11]
[null,null,null,null,"金11",{"$f":"E1754&\"-\"&COUNTIF(E$1:E1754,E1754)","v":"金11-66"},"紹","金",11]
[null,null,null,null,"金11",{"$f":"E1755&\"-\"&COUNTIF(E$1:E1755,E1755)","v":"金11-67"},"組","金",11]
[null,null,null,null,"金11",{"$f":"E1756&\"-\"&COUNTIF(E$1:E1756,E1756)","v":"金11-68"},"紳","金",11]
[null,null,null,null,"土11",{"$f":"E1757&\"-\"&COUNTIF(E$1:E1757,E1757)","v":"土11-22"},"紬","土",11]
[null,null,null,null,"土11",{"$f":"E1758&\"-\"&COUNTIF(E$1:E1758,E1758)","v":"土11-23"},"胃","土",11]
[null,null,null,null,"木11",{"$f":"E1759&\"-\"&COUNTIF(E$1:E1759,E1759)","v":"木11-46"},"赺","木",11]
[null,null,null,null,"木11",{"$f":"E1760&\"-\"&COUNTIF(E$1:E1760,E1760)","v":"木11-47"},"規","木",11]
[null,null,null,null,"木11",{"$f":"E1761&\"-\"&COUNTIF(E$1:E1761,E1761)","v":"木11-48"},"救","木",11]
[null,null,null,null,"木11",{"$f":"E1762&\"-\"&COUNTIF(E$1:E1762,E1762)","v":"木11-49"},"倏","木",11]
[null,null,null,null,"火11",{"$f":"E1763&\"-\"&COUNTIF(E$1:E1763,E1763)","v":"火11-43"},"崙","火",11]
[null,null,null,null,"水11",{"$f":"E1764&\"-\"&COUNTIF(E$1:E1764,E1764)","v":"水11-49"},"斌","水",11]
[null,null,null,null,"金11",{"$f":"E1765&\"-\"&COUNTIF(E$1:E1765,E1765)","v":"金11-69"},"袖","金",11]
[null,null,null,null,"火11",{"$f":"E1766&\"-\"&COUNTIF(E$1:E1766,E1766)","v":"火11-44"},"振","火",11]
[null,null,null,null,"火11",{"$f":"E1767&\"-\"&COUNTIF(E$1:E1767,E1767)","v":"火11-45"},"涕","火",11]
[null,null,null,null,"木11",{"$f":"E1768&\"-\"&COUNTIF(E$1:E1768,E1768)","v":"木11-50"},"涓","木",11]
[null,null,null,null,"土11",{"$f":"E1769&\"-\"&COUNTIF(E$1:E1769,E1769)","v":"土11-24"},"涎","土",11]
[null,null,null,null,"金11",{"$f":"E1770&\"-\"&COUNTIF(E$1:E1770,E1770)","v":"金11-70"},"浙","金",11]
[null,null,null,null,"木11",{"$f":"E1771&\"-\"&COUNTIF(E$1:E1771,E1771)","v":"木11-51"},"卿","木",11]
[null,null,null,null,"水11",{"$f":"E1772&\"-\"&COUNTIF(E$1:E1772,E1772)","v":"水11-50"},"浮","水",11]
[null,null,null,null,"金11",{"$f":"E1773&\"-\"&COUNTIF(E$1:E1773,E1773)","v":"金11-71"},"浸","金",11]
[null,null,null,null,"金11",{"$f":"E1774&\"-\"&COUNTIF(E$1:E1774,E1774)","v":"金11-72"},"消","金",11]
[null,null,null,null,"火11",{"$f":"E1775&\"-\"&COUNTIF(E$1:E1775,E1775)","v":"火11-46"},"浪","火",11]
[null,null,null,null,"土11",{"$f":"E1776&\"-\"&COUNTIF(E$1:E1776,E1776)","v":"土11-25"},"浴","土",11]
[null,null,null,null,"金11",{"$f":"E1777&\"-\"&COUNTIF(E$1:E1777,E1777)","v":"金11-73"},"浚","金",11]
[null,null,null,null,"水11",{"$f":"E1778&\"-\"&COUNTIF(E$1:E1778,E1778)","v":"水11-51"},"海","水",11]
[null,null,null,null,"水11",{"$f":"E1779&\"-\"&COUNTIF(E$1:E1779,E1779)","v":"水11-52"},"浲","水",11]
[null,null,null,null,"水11",{"$f":"E1780&\"-\"&COUNTIF(E$1:E1780,E1780)","v":"水11-53"},"浦","水",11]
[null,null,null,null,"木11",{"$f":"E1781&\"-\"&COUNTIF(E$1:E1781,E1781)","v":"木11-52"},"浩","木",11]
[null,null,null,null,"水11",{"$f":"E1782&\"-\"&COUNTIF(E$1:E1782,E1782)","v":"水11-54"},"胞","水",11]
[null,null,null,null,"火11",{"$f":"E1783&\"-\"&COUNTIF(E$1:E1783,E1783)","v":"火11-47"},"胎","火",11]
[null,null,null,null,"水11",{"$f":"E1784&\"-\"&COUNTIF(E$1:E1784,E1784)","v":"水11-55"},"袜","水",11]
[null,null,null,null,"水11",{"$f":"E1785&\"-\"&COUNTIF(E$1:E1785,E1785)","v":"水11-56"},"袍","水",11]
[null,null,null,null,"水10",{"$f":"E1786&\"-\"&COUNTIF(E$1:E1786,E1786)","v":"水10-1"},"耗","水",10]
[null,null,null,null,"水10",{"$f":"E1787&\"-\"&COUNTIF(E$1:E1787,E1787)","v":"水10-2"},"耘","水",10]
[null,null,null,null,"木10",{"$f":"E1788&\"-\"&COUNTIF(E$1:E1788,E1788)","v":"木10-1"},"耕","木",10]
[null,null,null,null,"火10",{"$f":"E1789&\"-\"&COUNTIF(E$1:E1789,E1789)","v":"火10-1"},"流","火",10]
[null,null,null,null,"金10",{"$f":"E1790&\"-\"&COUNTIF(E$1:E1790,E1790)","v":"金10-1"},"桌","金",10]
[null,null,null,null,"金10",{"$f":"E1791&\"-\"&COUNTIF(E$1:E1791,E1791)","v":"金10-2"},"烝","金",10]
[null,null,null,null,"木10",{"$f":"E1792&\"-\"&COUNTIF(E$1:E1792,E1792)","v":"木10-2"},"晃","木",10]
[null,null,null,null,"木10",{"$f":"E1793&\"-\"&COUNTIF(E$1:E1793,E1793)","v":"木10-3"},"高","木",10]
[null,null,null,null,{"$f":"H1794&I1794","v":"火10"},{"$f":"E1794&\"-\"&COUNTIF(E$1:E1794,E1794)","v":"火10-2"},"诈","火",10]
[null,null,null,null,"水10",{"$f":"E1795&\"-\"&COUNTIF(E$1:E1795,E1795)","v":"水10-3"},"疲","水",10]
[null,null,null,null,"水10",{"$f":"E1796&\"-\"&COUNTIF(E$1:E1796,E1796)","v":"水10-4"},"病","水",10]
[null,null,null,null,"水10",{"$f":"E1797&\"-\"&COUNTIF(E$1:E1797,E1797)","v":"水10-5"},"眠","水",10]
[null,null,null,null,"火10",{"$f":"E1798&\"-\"&COUNTIF(E$1:E1798,E1798)","v":"火10-3"},"疾","火",10]
[null,null,null,null,"土10",{"$f":"E1799&\"-\"&COUNTIF(E$1:E1799,E1799)","v":"土10-1"},"盎","土",10]
[null,null,null,null,"金10",{"$f":"E1800&\"-\"&COUNTIF(E$1:E1800,E1800)","v":"金10-3"},"索","金",10]
[null,null,null,null,"土10",{"$f":"E1801&\"-\"&COUNTIF(E$1:E1801,E1801)","v":"土10-2"},"烟","土",10]
[null,null,null,null,"火10",{"$f":"E1802&\"-\"&COUNTIF(E$1:E1802,E1802)","v":"火10-4"},"恥","火",10]
[null,null,null,null,"火10",{"$f":"E1803&\"-\"&COUNTIF(E$1:E1803,E1803)","v":"火10-5"},"留","火",10]
[null,null,null,null,"金10",{"$f":"E1804&\"-\"&COUNTIF(E$1:E1804,E1804)","v":"金10-4"},"秦","金",10]
[null,null,null,null,"水10",{"$f":"E1805&\"-\"&COUNTIF(E$1:E1805,E1805)","v":"水10-6"},"害","水",10]
[null,null,null,null,"水10",{"$f":"E1806&\"-\"&COUNTIF(E$1:E1806,E1806)","v":"水10-7"},"航","水",10]
[null,null,null,null,"水10",{"$f":"E1807&\"-\"&COUNTIF(E$1:E1807,E1807)","v":"水10-8"},"峰","水",10]
[null,null,null,null,"水10",{"$f":"E1808&\"-\"&COUNTIF(E$1:E1808,E1808)","v":"水10-9"},"勉","水",10]
[null,null,null,null,"金10",{"$f":"E1809&\"-\"&COUNTIF(E$1:E1809,E1809)","v":"金10-5"},"隼","金",10]
[null,null,null,null,"火10",{"$f":"E1810&\"-\"&COUNTIF(E$1:E1810,E1810)","v":"火10-6"},"釘","火",10]
[null,null,null,null,"金10",{"$f":"E1811&\"-\"&COUNTIF(E$1:E1811,E1811)","v":"金10-6"},"酌","金",10]
[null,null,null,null,"木10",{"$f":"E1812&\"-\"&COUNTIF(E$1:E1812,E1812)","v":"木10-4"},"骨","木",10]
[null,null,null,null,"金10",{"$f":"E1813&\"-\"&COUNTIF(E$1:E1813,E1813)","v":"金10-7"},"閃","金",10]
[null,null,null,null,"木10",{"$f":"E1814&\"-\"&COUNTIF(E$1:E1814,E1814)","v":"木10-5"},"恢","木",10]
[null,null,null,null,"金10",{"$f":"E1815&\"-\"&COUNTIF(E$1:E1815,E1815)","v":"金10-8"},"針","金",10]
[null,null,null,null,"木10",{"$f":"E1816&\"-\"&COUNTIF(E$1:E1816,E1816)","v":"木10-6"},"鬼","木",10]
[null,null,null,null,"水10",{"$f":"E1817&\"-\"&COUNTIF(E$1:E1817,E1817)","v":"水10-10"},"馬","水",10]
[null,null,null,null,"水10",{"$f":"E1818&\"-\"&COUNTIF(E$1:E1818,E1818)","v":"水10-11"},"釜","水",10]
[null,null,null,null,"水10",{"$f":"E1819&\"-\"&COUNTIF(E$1:E1819,E1819)","v":"水10-12"},"配","水",10]
[null,null,null,null,"木10",{"$f":"E1820&\"-\"&COUNTIF(E$1:E1820,E1820)","v":"木10-7"},"貢","木",10]
[null,null,null,null,"水10",{"$f":"E1821&\"-\"&COUNTIF(E$1:E1821,E1821)","v":"水10-13"},"豹","水",10]
[null,null,null,null,"木10",{"$f":"E1822&\"-\"&COUNTIF(E$1:E1822,E1822)","v":"木10-8"},"衾","木",10]
[null,null,null,null,"水10",{"$f":"E1823&\"-\"&COUNTIF(E$1:E1823,E1823)","v":"水10-14"},"蚊","水",10]
[null,null,null,null,"木10",{"$f":"E1824&\"-\"&COUNTIF(E$1:E1824,E1824)","v":"木10-9"},"虔","木",10]
[null,null,null,null,"金10",{"$f":"E1825&\"-\"&COUNTIF(E$1:E1825,E1825)","v":"金10-9"},"訕","金",10]
[null,null,null,null,"水10",{"$f":"E1826&\"-\"&COUNTIF(E$1:E1826,E1826)","v":"水10-15"},"臭","水",10]
[null,null,null,null,"火10",{"$f":"E1827&\"-\"&COUNTIF(E$1:E1827,E1827)","v":"火10-7"},"討","火",10]
[null,null,null,null,"土10",{"$f":"E1828&\"-\"&COUNTIF(E$1:E1828,E1828)","v":"土10-3"},"袁","土",10]
[null,null,null,null,"土10",{"$f":"E1829&\"-\"&COUNTIF(E$1:E1829,E1829)","v":"土10-4"},"翁","土",10]
[null,null,null,null,"金10",{"$f":"E1830&\"-\"&COUNTIF(E$1:E1830,E1830)","v":"金10-10"},"笑","金",10]
[null,null,null,null,"火10",{"$f":"E1831&\"-\"&COUNTIF(E$1:E1831,E1831)","v":"火10-8"},"耄","火",10]
[null,null,null,null,"木10",{"$f":"E1832&\"-\"&COUNTIF(E$1:E1832,E1832)","v":"木10-10"},"缺","木",10]
[null,null,null,null,"木10",{"$f":"E1833&\"-\"&COUNTIF(E$1:E1833,E1833)","v":"木10-11"},"罡","木",10]
[null,null,null,null,"水10",{"$f":"E1834&\"-\"&COUNTIF(E$1:E1834,E1834)","v":"水10-16"},"笏","水",10]
[null,null,null,null,"金10",{"$f":"E1835&\"-\"&COUNTIF(E$1:E1835,E1835)","v":"金10-11"},"神","金",10]
[null,null,null,null,"金10",{"$f":"E1836&\"-\"&COUNTIF(E$1:E1836,E1836)","v":"金10-12"},"眞","金",10]
[null,null,null,null,"水10",{"$f":"E1837&\"-\"&COUNTIF(E$1:E1837,E1837)","v":"水10-17"},"砲","水",10]
[null,null,null,null,"金10",{"$f":"E1838&\"-\"&COUNTIF(E$1:E1838,E1838)","v":"金10-13"},"栽","金",10]
[null,null,null,null,"木10",{"$f":"E1839&\"-\"&COUNTIF(E$1:E1839,E1839)","v":"木10-12"},"氣","木",10]
[null,null,null,null,"火10",{"$f":"E1840&\"-\"&COUNTIF(E$1:E1840,E1840)","v":"火10-9"},"畜","火",10]
[null,null,null,null,"金10",{"$f":"E1841&\"-\"&COUNTIF(E$1:E1841,E1841)","v":"金10-14"},"殊","金",10]
[null,null,null,null,"金10",{"$f":"E1842&\"-\"&COUNTIF(E$1:E1842,E1842)","v":"金10-15"},"息","金",10]
[null,null,null,null,"金10",{"$f":"E1843&\"-\"&COUNTIF(E$1:E1843,E1843)","v":"金10-16"},"座","金",10]
[null,null,null,null,"木10",{"$f":"E1844&\"-\"&COUNTIF(E$1:E1844,E1844)","v":"木10-13"},"峨","木",10]
[null,null,null,null,"金10",{"$f":"E1845&\"-\"&COUNTIF(E$1:E1845,E1845)","v":"金10-17"},"祠","金",10]
[null,null,null,null,"金10",{"$f":"E1846&\"-\"&COUNTIF(E$1:E1846,E1846)","v":"金10-18"},"栗","金",10]
[null,null,null,null,"水10",{"$f":"E1847&\"-\"&COUNTIF(E$1:E1847,E1847)","v":"水10-18"},"破","水",10]
[null,null,null,null,"火10",{"$f":"E1848&\"-\"&COUNTIF(E$1:E1848,E1848)","v":"火10-10"},"特","火",10]
[null,null,null,null,"水10",{"$f":"E1849&\"-\"&COUNTIF(E$1:E1849,E1849)","v":"水10-19"},"併","水",10]
[null,null,null,null,"水10",{"$f":"E1850&\"-\"&COUNTIF(E$1:E1850,E1850)","v":"水10-20"},"烘","水",10]
[null,null,null,null,"水10",{"$f":"E1851&\"-\"&COUNTIF(E$1:E1851,E1851)","v":"水10-21"},"冥","水",10]
[null,null,null,null,"金10",{"$f":"E1852&\"-\"&COUNTIF(E$1:E1852,E1852)","v":"金10-19"},"殉","金",10]
[null,null,null,null,"水10",{"$f":"E1853&\"-\"&COUNTIF(E$1:E1853,E1853)","v":"水10-22"},"旁","水",10]
[null,null,null,null,"木10",{"$f":"E1854&\"-\"&COUNTIF(E$1:E1854,E1854)","v":"木10-14"},"峽","木",10]
[null,null,null,null,"水10",{"$f":"E1855&\"-\"&COUNTIF(E$1:E1855,E1855)","v":"水10-23"},"埋","水",10]
[null,null,null,null,"水10",{"$f":"E1856&\"-\"&COUNTIF(E$1:E1856,E1856)","v":"水10-24"},"畔","水",10]
[null,null,null,null,"土10",{"$f":"E1857&\"-\"&COUNTIF(E$1:E1857,E1857)","v":"土10-5"},"案","土",10]
[null,null,null,null,{"$f":"H1858&I1858","v":"水10"},{"$f":"E1858&\"-\"&COUNTIF(E$1:E1858,E1858)","v":"水10-25"},"效","水",10]
[null,null,null,null,"金10",{"$f":"E1859&\"-\"&COUNTIF(E$1:E1859,E1859)","v":"金10-20"},"席","金",10]
[null,null,null,null,"金10",{"$f":"E1860&\"-\"&COUNTIF(E$1:E1860,E1860)","v":"金10-21"},"射","金",10]
[null,null,null,null,"金10",{"$f":"E1861&\"-\"&COUNTIF(E$1:E1861,E1861)","v":"金10-22"},"乘","金",10]
[null,null,null,null,"金10",{"$f":"E1862&\"-\"&COUNTIF(E$1:E1862,E1862)","v":"金10-23"},"租","金",10]
[null,null,null,null,"金10",{"$f":"E1863&\"-\"&COUNTIF(E$1:E1863,E1863)","v":"金10-24"},"蚩","金",10]
[null,null,null,null,"木10",{"$f":"E1864&\"-\"&COUNTIF(E$1:E1864,E1864)","v":"木10-15"},"躬","木",10]
[null,null,null,null,"火10",{"$f":"E1865&\"-\"&COUNTIF(E$1:E1865,E1865)","v":"火10-11"},"島","火",10]
[null,null,null,null,"金10",{"$f":"E1866&\"-\"&COUNTIF(E$1:E1866,E1866)","v":"金10-25"},"素","金",10]
[null,null,null,null,"金10",{"$f":"E1867&\"-\"&COUNTIF(E$1:E1867,E1867)","v":"金10-26"},"弱","金",10]
[null,null,null,null,"火10",{"$f":"E1868&\"-\"&COUNTIF(E$1:E1868,E1868)","v":"火10-12"},"旃","火",10]
[null,null,null,null,"木10",{"$f":"E1869&\"-\"&COUNTIF(E$1:E1869,E1869)","v":"木10-16"},"拳","木",10]
[null,null,null,null,"水10",{"$f":"E1870&\"-\"&COUNTIF(E$1:E1870,E1870)","v":"水10-26"},"故","水",10]
[null,null,null,null,"火10",{"$f":"E1871&\"-\"&COUNTIF(E$1:E1871,E1871)","v":"火10-13"},"料","火",10]
[null,null,null,null,"火10",{"$f":"E1872&\"-\"&COUNTIF(E$1:E1872,E1872)","v":"火10-14"},"恕","火",10]
[null,null,null,null,"木10",{"$f":"E1873&\"-\"&COUNTIF(E$1:E1873,E1873)","v":"木10-17"},"哥","木",10]
[null,null,null,null,"火10",{"$f":"E1874&\"-\"&COUNTIF(E$1:E1874,E1874)","v":"火10-15"},"砧","火",10]
[null,null,null,null,"火10",{"$f":"E1875&\"-\"&COUNTIF(E$1:E1875,E1875)","v":"火10-16"},"晉","火",10]
[null,null,null,null,"水10",{"$f":"E1876&\"-\"&COUNTIF(E$1:E1876,E1876)","v":"水10-27"},"剖","水",10]
[null,null,null,null,"金10",{"$f":"E1877&\"-\"&COUNTIF(E$1:E1877,E1877)","v":"金10-27"},"桑","金",10]
[null,null,null,null,"土10",{"$f":"E1878&\"-\"&COUNTIF(E$1:E1878,E1878)","v":"土10-6"},"宴","土",10]
[null,null,null,null,"火10",{"$f":"E1879&\"-\"&COUNTIF(E$1:E1879,E1879)","v":"火10-17"},"展","火",10]
[null,null,null,null,"火10",{"$f":"E1880&\"-\"&COUNTIF(E$1:E1880,E1880)","v":"火10-18"},"晁","火",10]
[null,null,null,null,"金10",{"$f":"E1881&\"-\"&COUNTIF(E$1:E1881,E1881)","v":"金10-28"},"酒","金",10]
[null,null,null,null,"火10",{"$f":"E1882&\"-\"&COUNTIF(E$1:E1882,E1882)","v":"火10-19"},"託","火",10]
[null,null,null,null,"火10",{"$f":"E1883&\"-\"&COUNTIF(E$1:E1883,E1883)","v":"火10-20"},"朕","火",10]
[null,null,null,null,"木10",{"$f":"E1884&\"-\"&COUNTIF(E$1:E1884,E1884)","v":"木10-18"},"豈","木",10]
[null,null,null,null,"土10",{"$f":"E1885&\"-\"&COUNTIF(E$1:E1885,E1885)","v":"土10-7"},"殷","土",10]
[null,null,null,null,"木10",{"$f":"E1886&\"-\"&COUNTIF(E$1:E1886,E1886)","v":"木10-19"},"原","木",10]
[null,null,null,null,"土10",{"$f":"E1887&\"-\"&COUNTIF(E$1:E1887,E1887)","v":"土10-8"},"恩","土",10]
[null,null,null,null,"水10",{"$f":"E1888&\"-\"&COUNTIF(E$1:E1888,E1888)","v":"水10-28"},"峰","水",10]
[null,null,null,null,"水10",{"$f":"E1889&\"-\"&COUNTIF(E$1:E1889,E1889)","v":"水10-29"},"訓","水",10]
[null,null,null,null,"木10",{"$f":"E1890&\"-\"&COUNTIF(E$1:E1890,E1890)","v":"木10-20"},"宮","木",10]
[null,null,null,null,"木10",{"$f":"E1891&\"-\"&COUNTIF(E$1:E1891,E1891)","v":"木10-21"},"庫","木",10]
[null,null,null,null,"水10",{"$f":"E1892&\"-\"&COUNTIF(E$1:E1892,E1892)","v":"水10-30"},"圃","水",10]
[null,null,null,null,"水10",{"$f":"E1893&\"-\"&COUNTIF(E$1:E1893,E1893)","v":"水10-31"},"烜","水",10]
[null,null,null,null,"木10",{"$f":"E1894&\"-\"&COUNTIF(E$1:E1894,E1894)","v":"木10-22"},"恭","木",10]
[null,null,null,null,"金10",{"$f":"E1895&\"-\"&COUNTIF(E$1:E1895,E1895)","v":"金10-29"},"釗","金",10]
[null,null,null,null,"金10",{"$f":"E1896&\"-\"&COUNTIF(E$1:E1896,E1896)","v":"金10-30"},"倉","金",10]
[null,null,null,null,"木10",{"$f":"E1897&\"-\"&COUNTIF(E$1:E1897,E1897)","v":"木10-23"},"尅","木",10]
[null,null,null,null,"水10",{"$f":"E1898&\"-\"&COUNTIF(E$1:E1898,E1898)","v":"水10-32"},"夏","水",10]
[null,null,null,null,"金10",{"$f":"E1899&\"-\"&COUNTIF(E$1:E1899,E1899)","v":"金10-31"},"師","金",10]
[null,null,null,null,"水10",{"$f":"E1900&\"-\"&COUNTIF(E$1:E1900,E1900)","v":"水10-33"},"恒","水",10]
[null,null,null,null,"木10",{"$f":"E1901&\"-\"&COUNTIF(E$1:E1901,E1901)","v":"木10-24"},"括","木",10]
[null,null,null,null,"水10",{"$f":"E1902&\"-\"&COUNTIF(E$1:E1902,E1902)","v":"水10-34"},"花","水",10]
[null,null,null,null,"木10",{"$f":"E1903&\"-\"&COUNTIF(E$1:E1903,E1903)","v":"木10-25"},"珈","木",10]
[null,null,null,null,"火10",{"$f":"E1904&\"-\"&COUNTIF(E$1:E1904,E1904)","v":"火10-21"},"玳","火",10]
[null,null,null,null,"金10",{"$f":"E1905&\"-\"&COUNTIF(E$1:E1905,E1905)","v":"金10-32"},"珊","金",10]
[null,null,null,null,"金10",{"$f":"E1906&\"-\"&COUNTIF(E$1:E1906,E1906)","v":"金10-33"},"指","金",10]
[null,null,null,null,"水10",{"$f":"E1907&\"-\"&COUNTIF(E$1:E1907,E1907)","v":"水10-35"},"珀","水",10]
[null,null,null,null,"金10",{"$f":"E1908&\"-\"&COUNTIF(E$1:E1908,E1908)","v":"金10-34"},"狩","金",10]
[null,null,null,null,"金10",{"$f":"E1909&\"-\"&COUNTIF(E$1:E1909,E1909)","v":"金10-35"},"城","金",10]
[null,null,null,null,"火10",{"$f":"E1910&\"-\"&COUNTIF(E$1:E1910,E1910)","v":"火10-22"},"玲","火",10]
[null,null,null,null,"金10",{"$f":"E1911&\"-\"&COUNTIF(E$1:E1911,E1911)","v":"金10-36"},"拾","金",10]
[null,null,null,null,"水10",{"$f":"E1912&\"-\"&COUNTIF(E$1:E1912,E1912)","v":"水10-36"},"芳","水",10]
[null,null,null,null,"火10",{"$f":"E1913&\"-\"&COUNTIF(E$1:E1913,E1913)","v":"火10-23"},"凌","火",10]
[null,null,null,null,"水10",{"$f":"E1914&\"-\"&COUNTIF(E$1:E1914,E1914)","v":"水10-37"},"恨","水",10]
[null,null,null,null,"土10",{"$f":"E1915&\"-\"&COUNTIF(E$1:E1915,E1915)","v":"土10-9"},"肴","土",10]
[null,null,null,null,"火10",{"$f":"E1916&\"-\"&COUNTIF(E$1:E1916,E1916)","v":"火10-24"},"洛","火",10]
[null,null,null,null,"水10",{"$f":"E1917&\"-\"&COUNTIF(E$1:E1917,E1917)","v":"水10-38"},"肪","水",10]
[null,null,null,null,"水10",{"$f":"E1918&\"-\"&COUNTIF(E$1:E1918,E1918)","v":"水10-39"},"芽","水",10]
[null,null,null,null,"金10",{"$f":"E1919&\"-\"&COUNTIF(E$1:E1919,E1919)","v":"金10-37"},"芯","金",10]
[null,null,null,null,"木10",{"$f":"E1920&\"-\"&COUNTIF(E$1:E1920,E1920)","v":"木10-26"},"衿","木",10]
[null,null,null,null,"火10",{"$f":"E1921&\"-\"&COUNTIF(E$1:E1921,E1921)","v":"火10-25"},"珍","火",10]
[null,null,null,null,{"$f":"H1922&I1922","v":"水10"},{"$f":"E1922&\"-\"&COUNTIF(E$1:E1922,E1922)","v":"水10-40"},"肥","水",10]
[null,null,null,null,"木10",{"$f":"E1923&\"-\"&COUNTIF(E$1:E1923,E1923)","v":"木10-27"},"芸","木",10]
[null,null,null,null,"水10",{"$f":"E1924&\"-\"&COUNTIF(E$1:E1924,E1924)","v":"水10-41"},"芙","水",10]
[null,null,null,null,"水10",{"$f":"E1925&\"-\"&COUNTIF(E$1:E1925,E1925)","v":"水10-42"},"芬","水",10]
[null,null,null,null,"木10",{"$f":"E1926&\"-\"&COUNTIF(E$1:E1926,E1926)","v":"木10-28"},"洨","木",10]
[null,null,null,null,"金10",{"$f":"E1927&\"-\"&COUNTIF(E$1:E1927,E1927)","v":"金10-38"},"洒","金",10]
[null,null,null,null,"水10",{"$f":"E1928&\"-\"&COUNTIF(E$1:E1928,E1928)","v":"水10-43"},"洽","水",10]
[null,null,null,null,"火10",{"$f":"E1929&\"-\"&COUNTIF(E$1:E1929,E1929)","v":"火10-26"},"洞","火",10]
[null,null,null,null,"水10",{"$f":"E1930&\"-\"&COUNTIF(E$1:E1930,E1930)","v":"水10-44"},"派","水",10]
[null,null,null,null,"土10",{"$f":"E1931&\"-\"&COUNTIF(E$1:E1931,E1931)","v":"土10-10"},"活","土",10]
[null,null,null,null,"金10",{"$f":"E1932&\"-\"&COUNTIF(E$1:E1932,E1932)","v":"金10-39"},"津","金",10]
[null,null,null,null,"火10",{"$f":"E1933&\"-\"&COUNTIF(E$1:E1933,E1933)","v":"火10-27"},"洲","火",10]
[null,null,null,null,"土10",{"$f":"E1934&\"-\"&COUNTIF(E$1:E1934,E1934)","v":"土10-11"},"洋","土",10]
[null,null,null,null,"金10",{"$f":"E1935&\"-\"&COUNTIF(E$1:E1935,E1935)","v":"金10-40"},"洗","金",10]
[null,null,null,null,"木10",{"$f":"E1936&\"-\"&COUNTIF(E$1:E1936,E1936)","v":"木10-29"},"洸","木",10]
[null,null,null,null,"土10",{"$f":"E1937&\"-\"&COUNTIF(E$1:E1937,E1937)","v":"土10-12"},"洪","土",10]
[null,null,null,null,"金10",{"$f":"E1938&\"-\"&COUNTIF(E$1:E1938,E1938)","v":"金10-41"},"軒","金",10]
[null,null,null,null,"土10",{"$f":"E1939&\"-\"&COUNTIF(E$1:E1939,E1939)","v":"土10-13"},"益","土",10]
[null,null,null,null,"金10",{"$f":"E1940&\"-\"&COUNTIF(E$1:E1940,E1940)","v":"金10-42"},"財","金",10]
[null,null,null,null,"金10",{"$f":"E1941&\"-\"&COUNTIF(E$1:E1941,E1941)","v":"金10-43"},"宸","金",10]
[null,null,null,null,"金10",{"$f":"E1942&\"-\"&COUNTIF(E$1:E1942,E1942)","v":"金10-44"},"峻","金",10]
[null,null,null,null,"火10",{"$f":"E1943&\"-\"&COUNTIF(E$1:E1943,E1943)","v":"火10-28"},"庭","火",10]
[null,null,null,null,"土10",{"$f":"E1944&\"-\"&COUNTIF(E$1:E1944,E1944)","v":"土10-14"},"晏","土",10]
[null,null,null,null,"木10",{"$f":"E1945&\"-\"&COUNTIF(E$1:E1945,E1945)","v":"木10-30"},"剛","木",10]
[null,null,null,null,"火10",{"$f":"E1946&\"-\"&COUNTIF(E$1:E1946,E1946)","v":"火10-29"},"哲","火",10]
[null,null,null,null,"金10",{"$f":"E1947&\"-\"&COUNTIF(E$1:E1947,E1947)","v":"金10-45"},"差","金",10]
[null,null,null,null,"木10",{"$f":"E1948&\"-\"&COUNTIF(E$1:E1948,E1948)","v":"木10-31"},"肩","木",10]
[null,null,null,null,"金10",{"$f":"E1949&\"-\"&COUNTIF(E$1:E1949,E1949)","v":"金10-46"},"孫","金",10]
[null,null,null,null,"火10",{"$f":"E1950&\"-\"&COUNTIF(E$1:E1950,E1950)","v":"火10-30"},"列","火",10]
[null,null,null,null,"金10",{"$f":"E1951&\"-\"&COUNTIF(E$1:E1951,E1951)","v":"金10-47"},"宰","金",10]
[null,null,null,null,"火10",{"$f":"E1952&\"-\"&COUNTIF(E$1:E1952,E1952)","v":"火10-31"},"朔","火",10]
[null,null,null,null,"木10",{"$f":"E1953&\"-\"&COUNTIF(E$1:E1953,E1953)","v":"木10-32"},"祜","木",10]
[null,null,null,null,"金10",{"$f":"E1954&\"-\"&COUNTIF(E$1:E1954,E1954)","v":"金10-48"},"時","金",10]
[null,null,null,null,"火10",{"$f":"E1955&\"-\"&COUNTIF(E$1:E1955,E1955)","v":"火10-32"},"唐","火",10]
[null,null,null,null,"土10",{"$f":"E1956&\"-\"&COUNTIF(E$1:E1956,E1956)","v":"土10-15"},"祐","土",10]
[null,null,null,null,"土10",{"$f":"E1957&\"-\"&COUNTIF(E$1:E1957,E1957)","v":"土10-16"},"員","土",10]
[null,null,null,null,"木10",{"$f":"E1958&\"-\"&COUNTIF(E$1:E1958,E1958)","v":"木10-33"},"記","木",10]
[null,null,null,null,"木10",{"$f":"E1959&\"-\"&COUNTIF(E$1:E1959,E1959)","v":"木10-34"},"起","木",10]
[null,null,null,null,"木10",{"$f":"E1960&\"-\"&COUNTIF(E$1:E1960,E1960)","v":"木10-35"},"家","木",10]
[null,null,null,null,"火10",{"$f":"E1961&\"-\"&COUNTIF(E$1:E1961,E1961)","v":"火10-33"},"芷","火",10]
[null,null,null,null,"木10",{"$f":"E1962&\"-\"&COUNTIF(E$1:E1962,E1962)","v":"木10-36"},"粉","木",10]
[null,null,null,null,"木10",{"$f":"E1963&\"-\"&COUNTIF(E$1:E1963,E1963)","v":"木10-37"},"耿","木",10]
[null,null,null,null,"土10",{"$f":"E1964&\"-\"&COUNTIF(E$1:E1964,E1964)","v":"土10-17"},"容","土",10]
[null,null,null,null,"火10",{"$f":"E1965&\"-\"&COUNTIF(E$1:E1965,E1965)","v":"火10-34"},"娌","火",10]
[null,null,null,null,"火10",{"$f":"E1966&\"-\"&COUNTIF(E$1:E1966,E1966)","v":"火10-35"},"祖","火",10]
[null,null,null,null,"木10",{"$f":"E1967&\"-\"&COUNTIF(E$1:E1967,E1967)","v":"木10-38"},"娟","木",10]
[null,null,null,null,"火10",{"$f":"E1968&\"-\"&COUNTIF(E$1:E1968,E1968)","v":"火10-36"},"娘","火",10]
[null,null,null,null,"木10",{"$f":"E1969&\"-\"&COUNTIF(E$1:E1969,E1969)","v":"木10-39"},"娛","木",10]
[null,null,null,null,"火10",{"$f":"E1970&\"-\"&COUNTIF(E$1:E1970,E1970)","v":"火10-37"},"娜","火",10]
[null,null,null,null,"水10",{"$f":"E1971&\"-\"&COUNTIF(E$1:E1971,E1971)","v":"水10-45"},"娥","水",10]
[null,null,null,null,"火10",{"$f":"E1972&\"-\"&COUNTIF(E$1:E1972,E1972)","v":"火10-38"},"娣","火",10]
[null,null,null,null,"木10",{"$f":"E1973&\"-\"&COUNTIF(E$1:E1973,E1973)","v":"木10-40"},"姣","木",10]
[null,null,null,null,"金10",{"$f":"E1974&\"-\"&COUNTIF(E$1:E1974,E1974)","v":"金10-49"},"娠","金",10]
[null,null,null,null,"水10",{"$f":"E1975&\"-\"&COUNTIF(E$1:E1975,E1975)","v":"水10-46"},"秤","水",10]
[null,null,null,null,"水10",{"$f":"E1976&\"-\"&COUNTIF(E$1:E1976,E1976)","v":"水10-47"},"秘","水",10]
[null,null,null,null,"火10",{"$f":"E1977&\"-\"&COUNTIF(E$1:E1977,E1977)","v":"火10-39"},"秩","火",10]
[null,null,null,null,"木10",{"$f":"E1978&\"-\"&COUNTIF(E$1:E1978,E1978)","v":"木10-41"},"栓","木",10]
[null,null,null,null,"木10",{"$f":"E1979&\"-\"&COUNTIF(E$1:E1979,E1979)","v":"木10-42"},"恤","木",10]
[null,null,null,null,"金10",{"$f":"E1980&\"-\"&COUNTIF(E$1:E1980,E1980)","v":"金10-50"},"持","金",10]
[null,null,null,null,"火10",{"$f":"E1981&\"-\"&COUNTIF(E$1:E1981,E1981)","v":"火10-40"},"株","火",10]
[null,null,null,null,"火10",{"$f":"E1982&\"-\"&COUNTIF(E$1:E1982,E1982)","v":"火10-41"},"桐","火",10]
[null,null,null,null,"水10",{"$f":"E1983&\"-\"&COUNTIF(E$1:E1983,E1983)","v":"水10-48"},"校","水",10]
[null,null,null,null,"水10",{"$f":"E1984&\"-\"&COUNTIF(E$1:E1984,E1984)","v":"水10-49"},"桓","水",10]
[null,null,null,null,"火10",{"$f":"E1985&\"-\"&COUNTIF(E$1:E1985,E1985)","v":"火10-42"},"桃","火",10]
[null,null,null,null,{"$f":"H1986&I1986","v":"木10"},{"$f":"E1986&\"-\"&COUNTIF(E$1:E1986,E1986)","v":"木10-43"},"根","木",10]
[null,null,null,null,"金10",{"$f":"E1987&\"-\"&COUNTIF(E$1:E1987,E1987)","v":"金10-51"},"栖","金",10]
[null,null,null,null,"木10",{"$f":"E1988&\"-\"&COUNTIF(E$1:E1988,E1988)","v":"木10-44"},"格","木",10]
[null,null,null,null,"水10",{"$f":"E1989&\"-\"&COUNTIF(E$1:E1989,E1989)","v":"水10-50"},"核","水",10]
[null,null,null,null,"木10",{"$f":"E1990&\"-\"&COUNTIF(E$1:E1990,E1990)","v":"木10-45"},"屐","木",10]
[null,null,null,null,"火10",{"$f":"E1991&\"-\"&COUNTIF(E$1:E1991,E1991)","v":"火10-43"},"徒","火",10]
[null,null,null,null,"木10",{"$f":"E1992&\"-\"&COUNTIF(E$1:E1992,E1992)","v":"木10-46"},"徑","木",10]
[null,null,null,null,"金10",{"$f":"E1993&\"-\"&COUNTIF(E$1:E1993,E1993)","v":"金10-52"},"徐","金",10]
[null,null,null,null,"火10",{"$f":"E1994&\"-\"&COUNTIF(E$1:E1994,E1994)","v":"火10-44"},"值","火",10]
[null,null,null,null,"水10",{"$f":"E1995&\"-\"&COUNTIF(E$1:E1995,E1995)","v":"水10-51"},"倣","水",10]
[null,null,null,null,"木10",{"$f":"E1996&\"-\"&COUNTIF(E$1:E1996,E1996)","v":"木10-47"},"個","木",10]
[null,null,null,null,"水10",{"$f":"E1997&\"-\"&COUNTIF(E$1:E1997,E1997)","v":"水10-52"},"俯","水",10]
[null,null,null,null,"火10",{"$f":"E1998&\"-\"&COUNTIF(E$1:E1998,E1998)","v":"火10-45"},"倬","火",10]
[null,null,null,null,"水10",{"$f":"E1999&\"-\"&COUNTIF(E$1:E1999,E1999)","v":"水10-53"},"俸","水",10]
[null,null,null,null,"水10",{"$f":"E2000&\"-\"&COUNTIF(E$1:E2000,E2000)","v":"水10-54"},"俵","水",10]
[null,null,null,null,"金10",{"$f":"E2001&\"-\"&COUNTIF(E$1:E2001,E2001)","v":"金10-53"},"借","金",10]
[null,null,null,null,"火10",{"$f":"E2002&\"-\"&COUNTIF(E$1:E2002,E2002)","v":"火10-46"},"倒","火",10]
[null,null,null,null,"水10",{"$f":"E2003&\"-\"&COUNTIF(E$1:E2003,E2003)","v":"水10-55"},"候","水",10]
[null,null,null,null,"水10",{"$f":"E2004&\"-\"&COUNTIF(E$1:E2004,E2004)","v":"水10-56"},"倖","水",10]
[null,null,null,null,"木10",{"$f":"E2005&\"-\"&COUNTIF(E$1:E2005,E2005)","v":"木10-48"},"倚","木",10]
[null,null,null,null,"水10",{"$f":"E2006&\"-\"&COUNTIF(E$1:E2006,E2006)","v":"水10-57"},"倍","水",10]
[null,null,null,null,"金10",{"$f":"E2007&\"-\"&COUNTIF(E$1:E2007,E2007)","v":"金10-54"},"倩","金",10]
[null,null,null,null,"火10",{"$f":"E2008&\"-\"&COUNTIF(E$1:E2008,E2008)","v":"火10-47"},"倫","火",10]
[null,null,null,null,"木10",{"$f":"E2009&\"-\"&COUNTIF(E$1:E2009,E2009)","v":"木10-49"},"倪","木",10]
[null,null,null,null,"金10",{"$f":"E2010&\"-\"&COUNTIF(E$1:E2010,E2010)","v":"金10-55"},"修","金",10]
[null,null,null,null,"金10",{"$f":"E2011&\"-\"&COUNTIF(E$1:E2011,E2011)","v":"金10-56"},"紙","金",10]
[null,null,null,null,"木10",{"$f":"E2012&\"-\"&COUNTIF(E$1:E2012,E2012)","v":"木10-50"},"矩","木",10]
[null,null,null,null,"火10",{"$f":"E2013&\"-\"&COUNTIF(E$1:E2013,E2013)","v":"火10-48"},"芝","火",10]
[null,null,null,null,"水10",{"$f":"E2014&\"-\"&COUNTIF(E$1:E2014,E2014)","v":"水10-58"},"紛","水",10]
[null,null,null,null,"火10",{"$f":"E2015&\"-\"&COUNTIF(E$1:E2015,E2015)","v":"火10-49"},"納","火",10]
[null,null,null,null,"水10",{"$f":"E2016&\"-\"&COUNTIF(E$1:E2016,E2016)","v":"水10-59"},"紡","水",10]
[null,null,null,null,"金10",{"$f":"E2017&\"-\"&COUNTIF(E$1:E2017,E2017)","v":"金10-57"},"紗","金",10]
[null,null,null,null,"木10",{"$f":"E2018&\"-\"&COUNTIF(E$1:E2018,E2018)","v":"木10-51"},"紜","木",10]
[null,null,null,null,"火10",{"$f":"E2019&\"-\"&COUNTIF(E$1:E2019,E2019)","v":"火10-50"},"紐","火",10]
[null,null,null,null,"水10",{"$f":"E2020&\"-\"&COUNTIF(E$1:E2020,E2020)","v":"水10-60"},"紋","水",10]
[null,null,null,null,"金10",{"$f":"E2021&\"-\"&COUNTIF(E$1:E2021,E2021)","v":"金10-58"},"純","金",10]
[null,null,null,null,"土10",{"$f":"E2022&\"-\"&COUNTIF(E$1:E2022,E2022)","v":"土10-18"},"准","土",10]
[null,null,null,null,"火10",{"$f":"E2023&\"-\"&COUNTIF(E$1:E2023,E2023)","v":"火10-51"},"凍","火",10]
[null,null,null,null,"金10",{"$f":"E2024&\"-\"&COUNTIF(E$1:E2024,E2024)","v":"金10-59"},"恣","金",10]
[null,null,null,null,"水10",{"$f":"E2025&\"-\"&COUNTIF(E$1:E2025,E2025)","v":"水10-61"},"娑","水",10]
[null,null,null,null,"木10",{"$f":"E2026&\"-\"&COUNTIF(E$1:E2026,E2026)","v":"木10-52"},"俱","木",10]
[null,null,null,null,"火10",{"$f":"E2027&\"-\"&COUNTIF(E$1:E2027,E2027)","v":"火10-52"},"衲","火",10]
[null,null,null,null,"木10",{"$f":"E2028&\"-\"&COUNTIF(E$1:E2028,E2028)","v":"木10-53"},"兼","木",10]
[null,null,null,null,"火10",{"$f":"E2029&\"-\"&COUNTIF(E$1:E2029,E2029)","v":"火10-53"},"恬","火",10]
[null,null,null,null,"水9",{"$f":"E2030&\"-\"&COUNTIF(E$1:E2030,E2030)","v":"水9-1"},"甭","水",9]
[null,null,null,null,"木9",{"$f":"E2031&\"-\"&COUNTIF(E$1:E2031,E2031)","v":"木9-1"},"姬","木",9]
[null,null,null,null,"水9",{"$f":"E2032&\"-\"&COUNTIF(E$1:E2032,E2032)","v":"水9-2"},"毗","水",9]
[null,null,null,null,"水9",{"$f":"E2033&\"-\"&COUNTIF(E$1:E2033,E2033)","v":"水9-3"},"玫","水",9]
[null,null,null,null,"火9",{"$f":"E2034&\"-\"&COUNTIF(E$1:E2034,E2034)","v":"火9-1"},"怨","火",9]
[null,null,null,null,"火9",{"$f":"E2035&\"-\"&COUNTIF(E$1:E2035,E2035)","v":"火9-2"},"柬","火",9]
[null,null,null,null,"水9",{"$f":"E2036&\"-\"&COUNTIF(E$1:E2036,E2036)","v":"水9-4"},"扁","水",9]
[null,null,null,null,"火9",{"$f":"E2037&\"-\"&COUNTIF(E$1:E2037,E2037)","v":"火9-3"},"昱","火",9]
[null,null,null,null,"火9",{"$f":"E2038&\"-\"&COUNTIF(E$1:E2038,E2038)","v":"火9-4"},"赴","火",9]
[null,null,null,null,"水9",{"$f":"E2039&\"-\"&COUNTIF(E$1:E2039,E2039)","v":"水9-5"},"某","水",9]
[null,null,null,null,"水9",{"$f":"E2040&\"-\"&COUNTIF(E$1:E2040,E2040)","v":"水9-6"},"負","水",9]
[null,null,null,null,"金9",{"$f":"E2041&\"-\"&COUNTIF(E$1:E2041,E2041)","v":"金9-1"},"牲","金",9]
[null,null,null,null,"水9",{"$f":"E2042&\"-\"&COUNTIF(E$1:E2042,E2042)","v":"水9-7"},"封","水",9]
[null,null,null,null,"土9",{"$f":"E2043&\"-\"&COUNTIF(E$1:E2043,E2043)","v":"土9-1"},"幽","土",9]
[null,null,null,null,"土9",{"$f":"E2044&\"-\"&COUNTIF(E$1:E2044,E2044)","v":"土9-2"},"育","土",9]
[null,null,null,null,"土9",{"$f":"E2045&\"-\"&COUNTIF(E$1:E2045,E2045)","v":"土9-3"},"哀","土",9]
[null,null,null,null,"火9",{"$f":"E2046&\"-\"&COUNTIF(E$1:E2046,E2046)","v":"火9-5"},"怒","火",9]
[null,null,null,null,"火9",{"$f":"E2047&\"-\"&COUNTIF(E$1:E2047,E2047)","v":"火9-6"},"怠","火",9]
[null,null,null,null,"金9",{"$f":"E2048&\"-\"&COUNTIF(E$1:E2048,E2048)","v":"金9-2"},"呈","金",9]
[null,null,null,null,"土9",{"$f":"E2049&\"-\"&COUNTIF(E$1:E2049,E2049)","v":"土9-4"},"昶","土",9]
[null,null,null,null,{"$f":"H2050&I2050","v":"土9"},{"$f":"E2050&\"-\"&COUNTIF(E$1:E2050,E2050)","v":"土9-5"},"歪","土",9]
[null,null,null,null,"水9",{"$f":"E2051&\"-\"&COUNTIF(E$1:E2051,E2051)","v":"水9-8"},"表","水",9]
[null,null,null,null,"木9",{"$f":"E2052&\"-\"&COUNTIF(E$1:E2052,E2052)","v":"木9-2"},"虹","木",9]
[null,null,null,null,"木9",{"$f":"E2053&\"-\"&COUNTIF(E$1:E2053,E2053)","v":"木9-3"},"姣","木",9]
[null,null,null,null,"水9",{"$f":"E2054&\"-\"&COUNTIF(E$1:E2054,E2054)","v":"水9-9"},"面","水",9]
[null,null,null,null,"火9",{"$f":"E2055&\"-\"&COUNTIF(E$1:E2055,E2055)","v":"火9-7"},"訂","火",9]
[null,null,null,null,"金9",{"$f":"E2056&\"-\"&COUNTIF(E$1:E2056,E2056)","v":"金9-3"},"籾","金",9]
[null,null,null,null,"火9",{"$f":"E2057&\"-\"&COUNTIF(E$1:E2057,E2057)","v":"火9-8"},"突","火",9]
[null,null,null,null,"水9",{"$f":"E2058&\"-\"&COUNTIF(E$1:E2058,E2058)","v":"水9-10"},"皇","水",9]
[null,null,null,null,"土9",{"$f":"E2059&\"-\"&COUNTIF(E$1:E2059,E2059)","v":"土9-6"},"姻","土",9]
[null,null,null,null,"水9",{"$f":"E2060&\"-\"&COUNTIF(E$1:E2060,E2060)","v":"水9-11"},"昧","水",9]
[null,null,null,null,"金9",{"$f":"E2061&\"-\"&COUNTIF(E$1:E2061,E2061)","v":"金9-4"},"崎","金",9]
[null,null,null,null,"金9",{"$f":"E2062&\"-\"&COUNTIF(E$1:E2062,E2062)","v":"金9-5"},"甚","金",9]
[null,null,null,null,"水9",{"$f":"E2063&\"-\"&COUNTIF(E$1:E2063,E2063)","v":"水9-12"},"炫","水",9]
[null,null,null,null,"金9",{"$f":"E2064&\"-\"&COUNTIF(E$1:E2064,E2064)","v":"金9-6"},"昨","金",9]
[null,null,null,null,"水9",{"$f":"E2065&\"-\"&COUNTIF(E$1:E2065,E2065)","v":"水9-13"},"眉","水",9]
[null,null,null,null,"木9",{"$f":"E2066&\"-\"&COUNTIF(E$1:E2066,E2066)","v":"木9-4"},"急","木",9]
[null,null,null,null,"金9",{"$f":"E2067&\"-\"&COUNTIF(E$1:E2067,E2067)","v":"金9-7"},"室","金",9]
[null,null,null,null,"金9",{"$f":"E2068&\"-\"&COUNTIF(E$1:E2068,E2068)","v":"金9-8"},"姿","金",9]
[null,null,null,null,"木9",{"$f":"E2069&\"-\"&COUNTIF(E$1:E2069,E2069)","v":"木9-5"},"奎","木",9]
[null,null,null,null,"木9",{"$f":"E2070&\"-\"&COUNTIF(E$1:E2070,E2070)","v":"木9-6"},"故","木",9]
[null,null,null,null,"木9",{"$f":"E2071&\"-\"&COUNTIF(E$1:E2071,E2071)","v":"木9-7"},"竿","木",9]
[null,null,null,null,"木9",{"$f":"E2072&\"-\"&COUNTIF(E$1:E2072,E2072)","v":"木9-8"},"看","木",9]
[null,null,null,null,"火9",{"$f":"E2073&\"-\"&COUNTIF(E$1:E2073,E2073)","v":"火9-9"},"致","火",9]
[null,null,null,null,"木9",{"$f":"E2074&\"-\"&COUNTIF(E$1:E2074,E2074)","v":"木9-9"},"剋","木",9]
[null,null,null,null,"金9",{"$f":"E2075&\"-\"&COUNTIF(E$1:E2075,E2075)","v":"金9-9"},"施","金",9]
[null,null,null,null,"金9",{"$f":"E2076&\"-\"&COUNTIF(E$1:E2076,E2076)","v":"金9-10"},"柔","金",9]
[null,null,null,null,"火9",{"$f":"E2077&\"-\"&COUNTIF(E$1:E2077,E2077)","v":"火9-10"},"炭","火",9]
[null,null,null,null,"水9",{"$f":"E2078&\"-\"&COUNTIF(E$1:E2078,E2078)","v":"水9-14"},"眇","水",9]
[null,null,null,null,"土9",{"$f":"E2079&\"-\"&COUNTIF(E$1:E2079,E2079)","v":"土9-7"},"畏","土",9]
[null,null,null,null,"水9",{"$f":"E2080&\"-\"&COUNTIF(E$1:E2080,E2080)","v":"水9-15"},"咸","水",9]
[null,null,null,null,"火9",{"$f":"E2081&\"-\"&COUNTIF(E$1:E2081,E2081)","v":"火9-11"},"姹","火",9]
[null,null,null,null,"水9",{"$f":"E2082&\"-\"&COUNTIF(E$1:E2082,E2082)","v":"水9-16"},"勃","水",9]
[null,null,null,null,"金9",{"$f":"E2083&\"-\"&COUNTIF(E$1:E2083,E2083)","v":"金9-11"},"查","金",9]
[null,null,null,null,"火9",{"$f":"E2084&\"-\"&COUNTIF(E$1:E2084,E2084)","v":"火9-12"},"度","火",9]
[null,null,null,null,"水9",{"$f":"E2085&\"-\"&COUNTIF(E$1:E2085,E2085)","v":"水9-17"},"盃","水",9]
[null,null,null,null,"木9",{"$f":"E2086&\"-\"&COUNTIF(E$1:E2086,E2086)","v":"木9-10"},"姜","木",9]
[null,null,null,null,"木9",{"$f":"E2087&\"-\"&COUNTIF(E$1:E2087,E2087)","v":"木9-11"},"勁","木",9]
[null,null,null,null,"木9",{"$f":"E2088&\"-\"&COUNTIF(E$1:E2088,E2088)","v":"木9-12"},"界","木",9]
[null,null,null,null,"水9",{"$f":"E2089&\"-\"&COUNTIF(E$1:E2089,E2089)","v":"水9-18"},"盼","水",9]
[null,null,null,null,"木9",{"$f":"E2090&\"-\"&COUNTIF(E$1:E2090,E2090)","v":"木9-13"},"架","木",9]
[null,null,null,null,"水9",{"$f":"E2091&\"-\"&COUNTIF(E$1:E2091,E2091)","v":"水9-19"},"巷","水",9]
[null,null,null,null,"木9",{"$f":"E2092&\"-\"&COUNTIF(E$1:E2092,E2092)","v":"木9-14"},"哄","木",9]
[null,null,null,null,"金9",{"$f":"E2093&\"-\"&COUNTIF(E$1:E2093,E2093)","v":"金9-12"},"削","金",9]
[null,null,null,null,"金9",{"$f":"E2094&\"-\"&COUNTIF(E$1:E2094,E2094)","v":"金9-13"},"砂","金",9]
[null,null,null,null,"土9",{"$f":"E2095&\"-\"&COUNTIF(E$1:E2095,E2095)","v":"土9-8"},"宥","土",9]
[null,null,null,null,"土9",{"$f":"E2096&\"-\"&COUNTIF(E$1:E2096,E2096)","v":"土9-9"},"屋","土",9]
[null,null,null,null,"火9",{"$f":"E2097&\"-\"&COUNTIF(E$1:E2097,E2097)","v":"火9-13"},"姝","火",9]
[null,null,null,null,"金9",{"$f":"E2098&\"-\"&COUNTIF(E$1:E2098,E2098)","v":"金9-14"},"性","金",9]
[null,null,null,null,"木9",{"$f":"E2099&\"-\"&COUNTIF(E$1:E2099,E2099)","v":"木9-15"},"肝","木",9]
[null,null,null,null,"木9",{"$f":"E2100&\"-\"&COUNTIF(E$1:E2100,E2100)","v":"木9-16"},"玩","木",9]
[null,null,null,null,"木9",{"$f":"E2101&\"-\"&COUNTIF(E$1:E2101,E2101)","v":"木9-17"},"怪","木",9]
[null,null,null,null,"火9",{"$f":"E2102&\"-\"&COUNTIF(E$1:E2102,E2102)","v":"火9-14"},"奏","火",9]
[null,null,null,null,"火9",{"$f":"E2103&\"-\"&COUNTIF(E$1:E2103,E2103)","v":"火9-15"},"泰","火",9]
[null,null,null,null,"水9",{"$f":"E2104&\"-\"&COUNTIF(E$1:E2104,E2104)","v":"水9-20"},"盆","水",9]
[null,null,null,null,"木9",{"$f":"E2105&\"-\"&COUNTIF(E$1:E2105,E2105)","v":"木9-18"},"炬","木",9]
[null,null,null,null,"火9",{"$f":"E2106&\"-\"&COUNTIF(E$1:E2106,E2106)","v":"火9-16"},"段","火",9]
[null,null,null,null,"火9",{"$f":"E2107&\"-\"&COUNTIF(E$1:E2107,E2107)","v":"火9-17"},"拜","火",9]
[null,null,null,null,"木9",{"$f":"E2108&\"-\"&COUNTIF(E$1:E2108,E2108)","v":"木9-19"},"客","木",9]
[null,null,null,null,"水9",{"$f":"E2109&\"-\"&COUNTIF(E$1:E2109,E2109)","v":"水9-21"},"型","水",9]
[null,null,null,null,"土9",{"$f":"E2110&\"-\"&COUNTIF(E$1:E2110,E2110)","v":"土9-10"},"囿","土",9]
[null,null,null,null,"火9",{"$f":"E2111&\"-\"&COUNTIF(E$1:E2111,E2111)","v":"火9-18"},"垣","火",9]
[null,null,null,null,"木9",{"$f":"E2112&\"-\"&COUNTIF(E$1:E2112,E2112)","v":"木9-20"},"冠","木",9]
[null,null,null,null,"金9",{"$f":"E2113&\"-\"&COUNTIF(E$1:E2113,E2113)","v":"金9-15"},"食","金",9]
[null,null,null,null,{"$f":"H2114&I2114","v":"木9"},{"$f":"E2114&\"-\"&COUNTIF(E$1:E2114,E2114)","v":"木9-21"},"癸","木",9]
[null,null,null,null,"水9",{"$f":"E2115&\"-\"&COUNTIF(E$1:E2115,E2115)","v":"水9-22"},"盈","水",9]
[null,null,null,null,"火9",{"$f":"E2116&\"-\"&COUNTIF(E$1:E2116,E2116)","v":"火9-19"},"盾","火",9]
[null,null,null,null,"木9",{"$f":"E2117&\"-\"&COUNTIF(E$1:E2117,E2117)","v":"木9-22"},"建","木",9]
[null,null,null,null,"水9",{"$f":"E2118&\"-\"&COUNTIF(E$1:E2118,E2118)","v":"水9-23"},"品","水",9]
[null,null,null,null,"火9",{"$f":"E2119&\"-\"&COUNTIF(E$1:E2119,E2119)","v":"火9-20"},"亭","火",9]
[null,null,null,null,"木9",{"$f":"E2120&\"-\"&COUNTIF(E$1:E2120,E2120)","v":"木9-23"},"軌","木",9]
[null,null,null,null,"金9",{"$f":"E2121&\"-\"&COUNTIF(E$1:E2121,E2121)","v":"金9-16"},"星","金",9]
[null,null,null,null,"木9",{"$f":"E2122&\"-\"&COUNTIF(E$1:E2122,E2122)","v":"木9-24"},"禺","木",9]
[null,null,null,null,"木9",{"$f":"E2123&\"-\"&COUNTIF(E$1:E2123,E2123)","v":"木9-25"},"計","木",9]
[null,null,null,null,"火9",{"$f":"E2124&\"-\"&COUNTIF(E$1:E2124,E2124)","v":"火9-21"},"南","火",9]
[null,null,null,null,"金9",{"$f":"E2125&\"-\"&COUNTIF(E$1:E2125,E2125)","v":"金9-17"},"春","金",9]
[null,null,null,null,"金9",{"$f":"E2126&\"-\"&COUNTIF(E$1:E2126,E2126)","v":"金9-18"},"俞","金",9]
[null,null,null,null,"木9",{"$f":"E2127&\"-\"&COUNTIF(E$1:E2127,E2127)","v":"木9-26"},"羿","木",9]
[null,null,null,null,"土9",{"$f":"E2128&\"-\"&COUNTIF(E$1:E2128,E2128)","v":"土9-11"},"要","土",9]
[null,null,null,null,"金9",{"$f":"E2129&\"-\"&COUNTIF(E$1:E2129,E2129)","v":"金9-19"},"頁","金",9]
[null,null,null,null,"金9",{"$f":"E2130&\"-\"&COUNTIF(E$1:E2130,E2130)","v":"金9-20"},"叙","金",9]
[null,null,null,null,"金9",{"$f":"E2131&\"-\"&COUNTIF(E$1:E2131,E2131)","v":"金9-21"},"宣","金",9]
[null,null,null,null,"金9",{"$f":"E2132&\"-\"&COUNTIF(E$1:E2132,E2132)","v":"金9-22"},"帥","金",9]
[null,null,null,null,"土9",{"$f":"E2133&\"-\"&COUNTIF(E$1:E2133,E2133)","v":"土9-12"},"音","土",9]
[null,null,null,null,"水9",{"$f":"E2134&\"-\"&COUNTIF(E$1:E2134,E2134)","v":"水9-24"},"風","水",9]
[null,null,null,null,"水9",{"$f":"E2135&\"-\"&COUNTIF(E$1:E2135,E2135)","v":"水9-25"},"美","水",9]
[null,null,null,null,"水9",{"$f":"E2136&\"-\"&COUNTIF(E$1:E2136,E2136)","v":"水9-26"},"香","水",9]
[null,null,null,null,"金9",{"$f":"E2137&\"-\"&COUNTIF(E$1:E2137,E2137)","v":"金9-23"},"恩","金",9]
[null,null,null,null,"木9",{"$f":"E2138&\"-\"&COUNTIF(E$1:E2138,E2138)","v":"木9-27"},"契","木",9]
[null,null,null,null,"木9",{"$f":"E2139&\"-\"&COUNTIF(E$1:E2139,E2139)","v":"木9-28"},"妍","木",9]
[null,null,null,null,"水9",{"$f":"E2140&\"-\"&COUNTIF(E$1:E2140,E2140)","v":"水9-27"},"屏","水",9]
[null,null,null,null,"金9",{"$f":"E2141&\"-\"&COUNTIF(E$1:E2141,E2141)","v":"金9-24"},"省","金",9]
[null,null,null,null,"木9",{"$f":"E2142&\"-\"&COUNTIF(E$1:E2142,E2142)","v":"木9-29"},"彥","木",9]
[null,null,null,null,"木9",{"$f":"E2143&\"-\"&COUNTIF(E$1:E2143,E2143)","v":"木9-30"},"軍","木",9]
[null,null,null,null,"土9",{"$f":"E2144&\"-\"&COUNTIF(E$1:E2144,E2144)","v":"土9-13"},"窃","土",9]
[null,null,null,null,"火9",{"$f":"E2145&\"-\"&COUNTIF(E$1:E2145,E2145)","v":"火9-22"},"帝","火",9]
[null,null,null,null,"土9",{"$f":"E2146&\"-\"&COUNTIF(E$1:E2146,E2146)","v":"土9-14"},"勇","土",9]
[null,null,null,null,"火9",{"$f":"E2147&\"-\"&COUNTIF(E$1:E2147,E2147)","v":"火9-23"},"耐","火",9]
[null,null,null,null,"火9",{"$f":"E2148&\"-\"&COUNTIF(E$1:E2148,E2148)","v":"火9-24"},"亮","火",9]
[null,null,null,null,"水9",{"$f":"E2149&\"-\"&COUNTIF(E$1:E2149,E2149)","v":"水9-28"},"厚","水",9]
[null,null,null,null,"金9",{"$f":"E2150&\"-\"&COUNTIF(E$1:E2150,E2150)","v":"金9-25"},"前","金",9]
[null,null,null,null,"火9",{"$f":"E2151&\"-\"&COUNTIF(E$1:E2151,E2151)","v":"火9-25"},"昭","火",9]
[null,null,null,null,"火9",{"$f":"E2152&\"-\"&COUNTIF(E$1:E2152,E2152)","v":"火9-26"},"勅","火",9]
[null,null,null,null,"金9",{"$f":"E2153&\"-\"&COUNTIF(E$1:E2153,E2153)","v":"金9-26"},"泉","金",9]
[null,null,null,null,"金9",{"$f":"E2154&\"-\"&COUNTIF(E$1:E2154,E2154)","v":"金9-27"},"哉","金",9]
[null,null,null,null,"水9",{"$f":"E2155&\"-\"&COUNTIF(E$1:E2155,E2155)","v":"水9-29"},"飛","水",9]
[null,null,null,null,"火9",{"$f":"E2156&\"-\"&COUNTIF(E$1:E2156,E2156)","v":"火9-27"},"炤","火",9]
[null,null,null,null,"土9",{"$f":"E2157&\"-\"&COUNTIF(E$1:E2157,E2157)","v":"土9-15"},"威","土",9]
[null,null,null,null,"金9",{"$f":"E2158&\"-\"&COUNTIF(E$1:E2158,E2158)","v":"金9-28"},"則","金",9]
[null,null,null,null,"火9",{"$f":"E2159&\"-\"&COUNTIF(E$1:E2159,E2159)","v":"火9-28"},"貞","火",9]
[null,null,null,null,"土9",{"$f":"E2160&\"-\"&COUNTIF(E$1:E2160,E2160)","v":"土9-16"},"怡","土",9]
[null,null,null,null,"金9",{"$f":"E2161&\"-\"&COUNTIF(E$1:E2161,E2161)","v":"金9-29"},"首","金",9]
[null,null,null,null,"土9",{"$f":"E2162&\"-\"&COUNTIF(E$1:E2162,E2162)","v":"土9-17"},"映","土",9]
[null,null,null,null,"火9",{"$f":"E2163&\"-\"&COUNTIF(E$1:E2163,E2163)","v":"火9-29"},"重","火",9]
[null,null,null,null,"木9",{"$f":"E2164&\"-\"&COUNTIF(E$1:E2164,E2164)","v":"木9-31"},"皆","木",9]
[null,null,null,null,"金9",{"$f":"E2165&\"-\"&COUNTIF(E$1:E2165,E2165)","v":"金9-30"},"是","金",9]
[null,null,null,null,"木9",{"$f":"E2166&\"-\"&COUNTIF(E$1:E2166,E2166)","v":"木9-32"},"斫","木",9]
[null,null,null,null,"火9",{"$f":"E2167&\"-\"&COUNTIF(E$1:E2167,E2167)","v":"火9-30"},"社","火",9]
[null,null,null,null,"木9",{"$f":"E2168&\"-\"&COUNTIF(E$1:E2168,E2168)","v":"木9-33"},"祈","木",9]
[null,null,null,null,"土9",{"$f":"E2169&\"-\"&COUNTIF(E$1:E2169,E2169)","v":"土9-18"},"約","土",9]
[null,null,null,null,"水9",{"$f":"E2170&\"-\"&COUNTIF(E$1:E2170,E2170)","v":"水9-30"},"紅","水",9]
[null,null,null,null,"火9",{"$f":"E2171&\"-\"&COUNTIF(E$1:E2171,E2171)","v":"火9-31"},"付","火",9]
[null,null,null,null,"木9",{"$f":"E2172&\"-\"&COUNTIF(E$1:E2172,E2172)","v":"木9-34"},"紀","木",9]
[null,null,null,null,"木9",{"$f":"E2173&\"-\"&COUNTIF(E$1:E2173,E2173)","v":"木9-35"},"科","木",9]
[null,null,null,null,"水9",{"$f":"E2174&\"-\"&COUNTIF(E$1:E2174,E2174)","v":"水9-31"},"秒","水",9]
[null,null,null,null,"金9",{"$f":"E2175&\"-\"&COUNTIF(E$1:E2175,E2175)","v":"金9-31"},"秋","金",9]
[null,null,null,null,"火9",{"$f":"E2176&\"-\"&COUNTIF(E$1:E2176,E2176)","v":"火9-32"},"柚","火",9]
[null,null,null,null,"木9",{"$f":"E2177&\"-\"&COUNTIF(E$1:E2177,E2177)","v":"木9-36"},"枯","木",9]
[null,null,null,null,{"$f":"H2178&I2178","v":"火9"},{"$f":"E2178&\"-\"&COUNTIF(E$1:E2178,E2178)","v":"火9-33"},"柳","火",9]
[null,null,null,null,"金9",{"$f":"E2179&\"-\"&COUNTIF(E$1:E2179,E2179)","v":"金9-32"},"相","金",9]
[null,null,null,null,"金9",{"$f":"E2180&\"-\"&COUNTIF(E$1:E2180,E2180)","v":"金9-33"},"柿","金",9]
[null,null,null,null,"水9",{"$f":"E2181&\"-\"&COUNTIF(E$1:E2181,E2181)","v":"水9-32"},"柏","水",9]
[null,null,null,null,"木9",{"$f":"E2182&\"-\"&COUNTIF(E$1:E2182,E2182)","v":"木9-37"},"柯","木",9]
[null,null,null,null,"水9",{"$f":"E2183&\"-\"&COUNTIF(E$1:E2183,E2183)","v":"水9-33"},"柄","水",9]
[null,null,null,null,"火9",{"$f":"E2184&\"-\"&COUNTIF(E$1:E2184,E2184)","v":"火9-34"},"柱","火",9]
[null,null,null,null,"木9",{"$f":"E2185&\"-\"&COUNTIF(E$1:E2185,E2185)","v":"木9-38"},"柑","木",9]
[null,null,null,null,"金9",{"$f":"E2186&\"-\"&COUNTIF(E$1:E2186,E2186)","v":"金9-34"},"柘","金",9]
[null,null,null,null,"火9",{"$f":"E2187&\"-\"&COUNTIF(E$1:E2187,E2187)","v":"火9-35"},"拐","火",9]
[null,null,null,null,"金9",{"$f":"E2188&\"-\"&COUNTIF(E$1:E2188,E2188)","v":"金9-35"},"拙","金",9]
[null,null,null,null,"水9",{"$f":"E2189&\"-\"&COUNTIF(E$1:E2189,E2189)","v":"水9-34"},"拍","水",9]
[null,null,null,null,"土9",{"$f":"E2190&\"-\"&COUNTIF(E$1:E2190,E2190)","v":"土9-19"},"押","土",9]
[null,null,null,null,"火9",{"$f":"E2191&\"-\"&COUNTIF(E$1:E2191,E2191)","v":"火9-36"},"抽","火",9]
[null,null,null,null,"木9",{"$f":"E2192&\"-\"&COUNTIF(E$1:E2192,E2192)","v":"木9-39"},"拒","木",9]
[null,null,null,null,"木9",{"$f":"E2193&\"-\"&COUNTIF(E$1:E2193,E2193)","v":"木9-40"},"拘","木",9]
[null,null,null,null,"金9",{"$f":"E2194&\"-\"&COUNTIF(E$1:E2194,E2194)","v":"金9-36"},"拆","金",9]
[null,null,null,null,"火9",{"$f":"E2195&\"-\"&COUNTIF(E$1:E2195,E2195)","v":"火9-37"},"抵","火",9]
[null,null,null,null,"水9",{"$f":"E2196&\"-\"&COUNTIF(E$1:E2196,E2196)","v":"水9-35"},"抱","水",9]
[null,null,null,null,"火9",{"$f":"E2197&\"-\"&COUNTIF(E$1:E2197,E2197)","v":"火9-38"},"招","火",9]
[null,null,null,null,"土9",{"$f":"E2198&\"-\"&COUNTIF(E$1:E2198,E2198)","v":"土9-20"},"決","土",9]
[null,null,null,null,"水9",{"$f":"E2199&\"-\"&COUNTIF(E$1:E2199,E2199)","v":"水9-36"},"泯","水",9]
[null,null,null,null,"水9",{"$f":"E2200&\"-\"&COUNTIF(E$1:E2200,E2200)","v":"水9-37"},"泓","水",9]
[null,null,null,null,"土9",{"$f":"E2201&\"-\"&COUNTIF(E$1:E2201,E2201)","v":"土9-21"},"泑","土",9]
[null,null,null,null,"木9",{"$f":"E2202&\"-\"&COUNTIF(E$1:E2202,E2202)","v":"木9-41"},"泔","木",9]
[null,null,null,null,"水9",{"$f":"E2203&\"-\"&COUNTIF(E$1:E2203,E2203)","v":"水9-38"},"波","水",9]
[null,null,null,null,"火9",{"$f":"E2204&\"-\"&COUNTIF(E$1:E2204,E2204)","v":"火9-39"},"沼","火",9]
[null,null,null,null,"土9",{"$f":"E2205&\"-\"&COUNTIF(E$1:E2205,E2205)","v":"土9-22"},"泳","土",9]
[null,null,null,null,"土9",{"$f":"E2206&\"-\"&COUNTIF(E$1:E2206,E2206)","v":"土9-23"},"沿","土",9]
[null,null,null,null,"火9",{"$f":"E2207&\"-\"&COUNTIF(E$1:E2207,E2207)","v":"火9-40"},"注","火",9]
[null,null,null,null,"土9",{"$f":"E2208&\"-\"&COUNTIF(E$1:E2208,E2208)","v":"土9-24"},"況","土",9]
[null,null,null,null,"水9",{"$f":"E2209&\"-\"&COUNTIF(E$1:E2209,E2209)","v":"水9-39"},"泊","水",9]
[null,null,null,null,"土9",{"$f":"E2210&\"-\"&COUNTIF(E$1:E2210,E2210)","v":"土9-25"},"油","土",9]
[null,null,null,null,"火9",{"$f":"E2211&\"-\"&COUNTIF(E$1:E2211,E2211)","v":"火9-41"},"治","火",9]
[null,null,null,null,"水9",{"$f":"E2212&\"-\"&COUNTIF(E$1:E2212,E2212)","v":"水9-40"},"法","水",9]
[null,null,null,null,"火9",{"$f":"E2213&\"-\"&COUNTIF(E$1:E2213,E2213)","v":"火9-42"},"沺","火",9]
[null,null,null,null,"水9",{"$f":"E2214&\"-\"&COUNTIF(E$1:E2214,E2214)","v":"水9-41"},"河","水",9]
[null,null,null,null,"水9",{"$f":"E2215&\"-\"&COUNTIF(E$1:E2215,E2215)","v":"水9-42"},"芒","水",9]
[null,null,null,null,"火9",{"$f":"E2216&\"-\"&COUNTIF(E$1:E2216,E2216)","v":"火9-43"},"染","火",9]
[null,null,null,null,"金9",{"$f":"E2217&\"-\"&COUNTIF(E$1:E2217,E2217)","v":"金9-37"},"咨","金",9]
[null,null,null,null,"火9",{"$f":"E2218&\"-\"&COUNTIF(E$1:E2218,E2218)","v":"火9-44"},"律","火",9]
[null,null,null,null,"水9",{"$f":"E2219&\"-\"&COUNTIF(E$1:E2219,E2219)","v":"水9-43"},"後","水",9]
[null,null,null,null,"火9",{"$f":"E2220&\"-\"&COUNTIF(E$1:E2220,E2220)","v":"火9-45"},"待","火",9]
[null,null,null,null,"土9",{"$f":"E2221&\"-\"&COUNTIF(E$1:E2221,E2221)","v":"土9-26"},"衍","土",9]
[null,null,null,null,"水9",{"$f":"E2222&\"-\"&COUNTIF(E$1:E2222,E2222)","v":"水9-44"},"係","水",9]
[null,null,null,null,"土9",{"$f":"E2223&\"-\"&COUNTIF(E$1:E2223,E2223)","v":"土9-27"},"耶","土",9]
[null,null,null,null,"金9",{"$f":"E2224&\"-\"&COUNTIF(E$1:E2224,E2224)","v":"金9-38"},"侵","金",9]
[null,null,null,null,"火9",{"$f":"E2225&\"-\"&COUNTIF(E$1:E2225,E2225)","v":"火9-46"},"俊","火",9]
[null,null,null,null,"金9",{"$f":"E2226&\"-\"&COUNTIF(E$1:E2226,E2226)","v":"金9-39"},"促","金",9]
[null,null,null,null,"木9",{"$f":"E2227&\"-\"&COUNTIF(E$1:E2227,E2227)","v":"木9-42"},"俄","木",9]
[null,null,null,null,"金9",{"$f":"E2228&\"-\"&COUNTIF(E$1:E2228,E2228)","v":"金9-40"},"俗","金",9]
[null,null,null,null,"木9",{"$f":"E2229&\"-\"&COUNTIF(E$1:E2229,E2229)","v":"木9-43"},"俠","木",9]
[null,null,null,null,"水9",{"$f":"E2230&\"-\"&COUNTIF(E$1:E2230,E2230)","v":"水9-45"},"便","水",9]
[null,null,null,null,"金9",{"$f":"E2231&\"-\"&COUNTIF(E$1:E2231,E2231)","v":"金9-41"},"俟","金",9]
[null,null,null,null,"水9",{"$f":"E2232&\"-\"&COUNTIF(E$1:E2232,E2232)","v":"水9-46"},"保","水",9]
[null,null,null,null,"水9",{"$f":"E2233&\"-\"&COUNTIF(E$1:E2233,E2233)","v":"水9-47"},"侯","水",9]
[null,null,null,null,"火9",{"$f":"E2234&\"-\"&COUNTIF(E$1:E2234,E2234)","v":"火9-47"},"侶","火",9]
[null,null,null,null,"金9",{"$f":"E2235&\"-\"&COUNTIF(E$1:E2235,E2235)","v":"金9-42"},"信","金",9]
[null,null,null,null,"水9",{"$f":"E2236&\"-\"&COUNTIF(E$1:E2236,E2236)","v":"水9-48"},"柄","水",9]
[null,null,null,null,"土9",{"$f":"E2237&\"-\"&COUNTIF(E$1:E2237,E2237)","v":"土9-28"},"衩","土",9]
[null,null,null,null,"金9",{"$f":"E2238&\"-\"&COUNTIF(E$1:E2238,E2238)","v":"金9-43"},"衫","金",9]
[null,null,null,null,"土8",{"$f":"E2239&\"-\"&COUNTIF(E$1:E2239,E2239)","v":"土8-1"},"亞","土",8]
[null,null,null,null,"火8",{"$f":"E2240&\"-\"&COUNTIF(E$1:E2240,E2240)","v":"火8-1"},"政","火",8]
[null,null,null,null,"土8",{"$f":"E2241&\"-\"&COUNTIF(E$1:E2241,E2241)","v":"土8-2"},"協","土",8]
[null,null,null,null,{"$f":"H2242&I2242","v":"木8"},{"$f":"E2242&\"-\"&COUNTIF(E$1:E2242,E2242)","v":"木8-1"},"穹","木",8]
[null,null,null,null,"木8",{"$f":"E2243&\"-\"&COUNTIF(E$1:E2243,E2243)","v":"木8-2"},"乖","木",8]
[null,null,null,null,"木8",{"$f":"E2244&\"-\"&COUNTIF(E$1:E2244,E2244)","v":"木8-3"},"臥","木",8]
[null,null,null,null,"水8",{"$f":"E2245&\"-\"&COUNTIF(E$1:E2245,E2245)","v":"水8-1"},"罔","水",8]
[null,null,null,null,"水8",{"$f":"E2246&\"-\"&COUNTIF(E$1:E2246,E2246)","v":"水8-2"},"非","水",8]
[null,null,null,null,"金8",{"$f":"E2247&\"-\"&COUNTIF(E$1:E2247,E2247)","v":"金8-1"},"弃","金",8]
[null,null,null,null,"金8",{"$f":"E2248&\"-\"&COUNTIF(E$1:E2248,E2248)","v":"金8-2"},"剌","金",8]
[null,null,null,null,"火8",{"$f":"E2249&\"-\"&COUNTIF(E$1:E2249,E2249)","v":"火8-2"},"乳","火",8]
[null,null,null,null,"水8",{"$f":"E2250&\"-\"&COUNTIF(E$1:E2250,E2250)","v":"水8-3"},"呼","水",8]
[null,null,null,null,"金8",{"$f":"E2251&\"-\"&COUNTIF(E$1:E2251,E2251)","v":"金8-3"},"咎","金",8]
[null,null,null,null,"木8",{"$f":"E2252&\"-\"&COUNTIF(E$1:E2252,E2252)","v":"木8-4"},"屈","木",8]
[null,null,null,null,"木8",{"$f":"E2253&\"-\"&COUNTIF(E$1:E2253,E2253)","v":"木8-5"},"券","木",8]
[null,null,null,null,"木8",{"$f":"E2254&\"-\"&COUNTIF(E$1:E2254,E2254)","v":"木8-6"},"肯","木",8]
[null,null,null,null,"火8",{"$f":"E2255&\"-\"&COUNTIF(E$1:E2255,E2255)","v":"火8-3"},"奈","火",8]
[null,null,null,null,"木8",{"$f":"E2256&\"-\"&COUNTIF(E$1:E2256,E2256)","v":"木8-7"},"官","木",8]
[null,null,null,null,"木8",{"$f":"E2257&\"-\"&COUNTIF(E$1:E2257,E2257)","v":"木8-8"},"刻","木",8]
[null,null,null,null,"水8",{"$f":"E2258&\"-\"&COUNTIF(E$1:E2258,E2258)","v":"水8-4"},"旻","水",8]
[null,null,null,null,"木8",{"$f":"E2259&\"-\"&COUNTIF(E$1:E2259,E2259)","v":"木8-9"},"孤","木",8]
[null,null,null,null,"火8",{"$f":"E2260&\"-\"&COUNTIF(E$1:E2260,E2260)","v":"火8-4"},"弩","火",8]
[null,null,null,null,"火8",{"$f":"E2261&\"-\"&COUNTIF(E$1:E2261,E2261)","v":"火8-5"},"妾","火",8]
[null,null,null,null,"金8",{"$f":"E2262&\"-\"&COUNTIF(E$1:E2262,E2262)","v":"金8-4"},"垂","金",8]
[null,null,null,null,"火8",{"$f":"E2263&\"-\"&COUNTIF(E$1:E2263,E2263)","v":"火8-6"},"宓","火",8]
[null,null,null,null,"木8",{"$f":"E2264&\"-\"&COUNTIF(E$1:E2264,E2264)","v":"木8-10"},"卦","木",8]
[null,null,null,null,"水8",{"$f":"E2265&\"-\"&COUNTIF(E$1:E2265,E2265)","v":"水8-5"},"籴","水",8]
[null,null,null,null,"水8",{"$f":"E2266&\"-\"&COUNTIF(E$1:E2266,E2266)","v":"水8-6"},"盲","水",8]
[null,null,null,null,"火8",{"$f":"E2267&\"-\"&COUNTIF(E$1:E2267,E2267)","v":"火8-7"},"竺","火",8]
[null,null,null,null,"土8",{"$f":"E2268&\"-\"&COUNTIF(E$1:E2268,E2268)","v":"土8-3"},"雨","土",8]
[null,null,null,null,"水8",{"$f":"E2269&\"-\"&COUNTIF(E$1:E2269,E2269)","v":"水8-7"},"虎","水",8]
[null,null,null,null,"水8",{"$f":"E2270&\"-\"&COUNTIF(E$1:E2270,E2270)","v":"水8-8"},"阜","水",8]
[null,null,null,null,"木8",{"$f":"E2271&\"-\"&COUNTIF(E$1:E2271,E2271)","v":"木8-11"},"空","木",8]
[null,null,null,null,"水8",{"$f":"E2272&\"-\"&COUNTIF(E$1:E2272,E2272)","v":"水8-9"},"物","水",8]
[null,null,null,null,"金8",{"$f":"E2273&\"-\"&COUNTIF(E$1:E2273,E2273)","v":"金8-5"},"凭","金",8]
[null,null,null,null,"金8",{"$f":"E2274&\"-\"&COUNTIF(E$1:E2274,E2274)","v":"金8-6"},"祀","金",8]
[null,null,null,null,"火8",{"$f":"E2275&\"-\"&COUNTIF(E$1:E2275,E2275)","v":"火8-8"},"的","火",8]
[null,null,null,null,"水8",{"$f":"E2276&\"-\"&COUNTIF(E$1:E2276,E2276)","v":"水8-10"},"弦","水",8]
[null,null,null,null,"金8",{"$f":"E2277&\"-\"&COUNTIF(E$1:E2277,E2277)","v":"金8-7"},"所","金",8]
[null,null,null,null,"金8",{"$f":"E2278&\"-\"&COUNTIF(E$1:E2278,E2278)","v":"金8-8"},"妻","金",8]
[null,null,null,null,"水8",{"$f":"E2279&\"-\"&COUNTIF(E$1:E2279,E2279)","v":"水8-11"},"効","水",8]
[null,null,null,null,"水8",{"$f":"E2280&\"-\"&COUNTIF(E$1:E2280,E2280)","v":"水8-12"},"氓","水",8]
[null,null,null,null,"火8",{"$f":"E2281&\"-\"&COUNTIF(E$1:E2281,E2281)","v":"火8-9"},"念","火",8]
[null,null,null,null,"火8",{"$f":"E2282&\"-\"&COUNTIF(E$1:E2282,E2282)","v":"火8-10"},"底","火",8]
[null,null,null,null,"木8",{"$f":"E2283&\"-\"&COUNTIF(E$1:E2283,E2283)","v":"木8-12"},"京","木",8]
[null,null,null,null,"木8",{"$f":"E2284&\"-\"&COUNTIF(E$1:E2284,E2284)","v":"木8-13"},"糾","木",8]
[null,null,null,null,"水8",{"$f":"E2285&\"-\"&COUNTIF(E$1:E2285,E2285)","v":"水8-13"},"服","水",8]
[null,null,null,null,"水8",{"$f":"E2286&\"-\"&COUNTIF(E$1:E2286,E2286)","v":"水8-14"},"帛","水",8]
[null,null,null,null,"水8",{"$f":"E2287&\"-\"&COUNTIF(E$1:E2287,E2287)","v":"水8-15"},"咅","水",8]
[null,null,null,null,"火8",{"$f":"E2288&\"-\"&COUNTIF(E$1:E2288,E2288)","v":"火8-11"},"忝","火",8]
[null,null,null,null,"木8",{"$f":"E2289&\"-\"&COUNTIF(E$1:E2289,E2289)","v":"木8-14"},"昂","木",8]
[null,null,null,null,"火8",{"$f":"E2290&\"-\"&COUNTIF(E$1:E2290,E2290)","v":"火8-12"},"店","火",8]
[null,null,null,null,"金8",{"$f":"E2291&\"-\"&COUNTIF(E$1:E2291,E2291)","v":"金8-9"},"兒","金",8]
[null,null,null,null,"木8",{"$f":"E2292&\"-\"&COUNTIF(E$1:E2292,E2292)","v":"木8-15"},"斧","木",8]
[null,null,null,null,"水8",{"$f":"E2293&\"-\"&COUNTIF(E$1:E2293,E2293)","v":"水8-16"},"或","水",8]
[null,null,null,null,"水8",{"$f":"E2294&\"-\"&COUNTIF(E$1:E2294,E2294)","v":"水8-17"},"咊","水",8]
[null,null,null,null,"水8",{"$f":"E2295&\"-\"&COUNTIF(E$1:E2295,E2295)","v":"水8-18"},"幸","水",8]
[null,null,null,null,"水8",{"$f":"E2296&\"-\"&COUNTIF(E$1:E2296,E2296)","v":"水8-19"},"味","水",8]
[null,null,null,null,"火8",{"$f":"E2297&\"-\"&COUNTIF(E$1:E2297,E2297)","v":"火8-13"},"帖","火",8]
[null,null,null,null,"金8",{"$f":"E2298&\"-\"&COUNTIF(E$1:E2298,E2298)","v":"金8-10"},"刷","金",8]
[null,null,null,null,"水8",{"$f":"E2299&\"-\"&COUNTIF(E$1:E2299,E2299)","v":"水8-20"},"並","水",8]
[null,null,null,null,"水8",{"$f":"E2300&\"-\"&COUNTIF(E$1:E2300,E2300)","v":"水8-21"},"卹","水",8]
[null,null,null,null,"木8",{"$f":"E2301&\"-\"&COUNTIF(E$1:E2301,E2301)","v":"木8-16"},"卷","木",8]
[null,null,null,null,"火8",{"$f":"E2302&\"-\"&COUNTIF(E$1:E2302,E2302)","v":"火8-14"},"冽","火",8]
[null,null,null,null,"水8",{"$f":"E2303&\"-\"&COUNTIF(E$1:E2303,E2303)","v":"水8-22"},"昏","水",8]
[null,null,null,null,"火8",{"$f":"E2304&\"-\"&COUNTIF(E$1:E2304,E2304)","v":"火8-15"},"卒","火",8]
[null,null,null,null,"土8",{"$f":"E2305&\"-\"&COUNTIF(E$1:E2305,E2305)","v":"土8-4"},"於","土",8]
[null,null,null,null,{"$f":"H2306&I2306","v":"土8"},{"$f":"E2306&\"-\"&COUNTIF(E$1:E2306,E2306)","v":"土8-5"},"旺","土",8]
[null,null,null,null,"水8",{"$f":"E2307&\"-\"&COUNTIF(E$1:E2307,E2307)","v":"水8-23"},"放","水",8]
[null,null,null,null,"金8",{"$f":"E2308&\"-\"&COUNTIF(E$1:E2308,E2308)","v":"金8-11"},"帑","金",8]
[null,null,null,null,"金8",{"$f":"E2309&\"-\"&COUNTIF(E$1:E2309,E2309)","v":"金8-12"},"剎","金",8]
[null,null,null,null,"金8",{"$f":"E2310&\"-\"&COUNTIF(E$1:E2310,E2310)","v":"金8-13"},"取","金",8]
[null,null,null,null,"木8",{"$f":"E2311&\"-\"&COUNTIF(E$1:E2311,E2311)","v":"木8-17"},"昆","木",8]
[null,null,null,null,"水8",{"$f":"E2312&\"-\"&COUNTIF(E$1:E2312,E2312)","v":"水8-24"},"房","水",8]
[null,null,null,null,"土8",{"$f":"E2313&\"-\"&COUNTIF(E$1:E2313,E2313)","v":"土8-6"},"宛","土",8]
[null,null,null,null,"木8",{"$f":"E2314&\"-\"&COUNTIF(E$1:E2314,E2314)","v":"木8-18"},"季","木",8]
[null,null,null,null,"火8",{"$f":"E2315&\"-\"&COUNTIF(E$1:E2315,E2315)","v":"火8-16"},"爭","火",8]
[null,null,null,null,"水8",{"$f":"E2316&\"-\"&COUNTIF(E$1:E2316,E2316)","v":"水8-25"},"沛","水",8]
[null,null,null,null,"金8",{"$f":"E2317&\"-\"&COUNTIF(E$1:E2317,E2317)","v":"金8-14"},"昔","金",8]
[null,null,null,null,"水8",{"$f":"E2318&\"-\"&COUNTIF(E$1:E2318,E2318)","v":"水8-26"},"岸","水",8]
[null,null,null,null,"水8",{"$f":"E2319&\"-\"&COUNTIF(E$1:E2319,E2319)","v":"水8-27"},"炎","水",8]
[null,null,null,null,"木8",{"$f":"E2320&\"-\"&COUNTIF(E$1:E2320,E2320)","v":"木8-19"},"劻","木",8]
[null,null,null,null,"木8",{"$f":"E2321&\"-\"&COUNTIF(E$1:E2321,E2321)","v":"木8-20"},"果","木",8]
[null,null,null,null,"木8",{"$f":"E2322&\"-\"&COUNTIF(E$1:E2322,E2322)","v":"木8-21"},"岩","木",8]
[null,null,null,null,"金8",{"$f":"E2323&\"-\"&COUNTIF(E$1:E2323,E2323)","v":"金8-15"},"叔","金",8]
[null,null,null,null,"金8",{"$f":"E2324&\"-\"&COUNTIF(E$1:E2324,E2324)","v":"金8-16"},"青","金",8]
[null,null,null,null,"金8",{"$f":"E2325&\"-\"&COUNTIF(E$1:E2325,E2325)","v":"金8-17"},"舍","金",8]
[null,null,null,null,"木8",{"$f":"E2326&\"-\"&COUNTIF(E$1:E2326,E2326)","v":"木8-22"},"其","木",8]
[null,null,null,null,"水8",{"$f":"E2327&\"-\"&COUNTIF(E$1:E2327,E2327)","v":"水8-28"},"明","水",8]
[null,null,null,null,"木8",{"$f":"E2328&\"-\"&COUNTIF(E$1:E2328,E2328)","v":"木8-23"},"固","木",8]
[null,null,null,null,"金8",{"$f":"E2329&\"-\"&COUNTIF(E$1:E2329,E2329)","v":"金8-18"},"宙","金",8]
[null,null,null,null,"木8",{"$f":"E2330&\"-\"&COUNTIF(E$1:E2330,E2330)","v":"木8-24"},"岳","木",8]
[null,null,null,null,"火8",{"$f":"E2331&\"-\"&COUNTIF(E$1:E2331,E2331)","v":"火8-17"},"制","火",8]
[null,null,null,null,"金8",{"$f":"E2332&\"-\"&COUNTIF(E$1:E2332,E2332)","v":"金8-19"},"昌","金",8]
[null,null,null,null,"火8",{"$f":"E2333&\"-\"&COUNTIF(E$1:E2333,E2333)","v":"火8-18"},"忠","火",8]
[null,null,null,null,"土8",{"$f":"E2334&\"-\"&COUNTIF(E$1:E2334,E2334)","v":"土8-7"},"昀","土",8]
[null,null,null,null,"火8",{"$f":"E2335&\"-\"&COUNTIF(E$1:E2335,E2335)","v":"火8-19"},"東","火",8]
[null,null,null,null,"金8",{"$f":"E2336&\"-\"&COUNTIF(E$1:E2336,E2336)","v":"金8-20"},"始","金",8]
[null,null,null,null,"水8",{"$f":"E2337&\"-\"&COUNTIF(E$1:E2337,E2337)","v":"水8-29"},"奉","水",8]
[null,null,null,null,"火8",{"$f":"E2338&\"-\"&COUNTIF(E$1:E2338,E2338)","v":"火8-20"},"知","火",8]
[null,null,null,null,"木8",{"$f":"E2339&\"-\"&COUNTIF(E$1:E2339,E2339)","v":"木8-25"},"居","木",8]
[null,null,null,null,"金8",{"$f":"E2340&\"-\"&COUNTIF(E$1:E2340,E2340)","v":"金8-21"},"承","金",8]
[null,null,null,null,"水8",{"$f":"E2341&\"-\"&COUNTIF(E$1:E2341,E2341)","v":"水8-30"},"門","水",8]
[null,null,null,null,"水8",{"$f":"E2342&\"-\"&COUNTIF(E$1:E2342,E2342)","v":"水8-31"},"府","水",8]
[null,null,null,null,"水8",{"$f":"E2343&\"-\"&COUNTIF(E$1:E2343,E2343)","v":"水8-32"},"和","水",8]
[null,null,null,null,"金8",{"$f":"E2344&\"-\"&COUNTIF(E$1:E2344,E2344)","v":"金8-22"},"狀","金",8]
[null,null,null,null,"金8",{"$f":"E2345&\"-\"&COUNTIF(E$1:E2345,E2345)","v":"金8-23"},"事","金",8]
[null,null,null,null,"金8",{"$f":"E2346&\"-\"&COUNTIF(E$1:E2346,E2346)","v":"金8-24"},"虱","金",8]
[null,null,null,null,"火8",{"$f":"E2347&\"-\"&COUNTIF(E$1:E2347,E2347)","v":"火8-21"},"戽","火",8]
[null,null,null,null,"木8",{"$f":"E2348&\"-\"&COUNTIF(E$1:E2348,E2348)","v":"木8-26"},"欣","木",8]
[null,null,null,null,"火8",{"$f":"E2349&\"-\"&COUNTIF(E$1:E2349,E2349)","v":"火8-22"},"定","火",8]
[null,null,null,null,"土8",{"$f":"E2350&\"-\"&COUNTIF(E$1:E2350,E2350)","v":"土8-8"},"易","土",8]
[null,null,null,null,"水8",{"$f":"E2351&\"-\"&COUNTIF(E$1:E2351,E2351)","v":"水8-33"},"享","水",8]
[null,null,null,null,"土8",{"$f":"E2352&\"-\"&COUNTIF(E$1:E2352,E2352)","v":"土8-9"},"奄","土",8]
[null,null,null,null,"金8",{"$f":"E2353&\"-\"&COUNTIF(E$1:E2353,E2353)","v":"金8-25"},"受","金",8]
[null,null,null,null,"水8",{"$f":"E2354&\"-\"&COUNTIF(E$1:E2354,E2354)","v":"水8-34"},"命","水",8]
[null,null,null,null,"火8",{"$f":"E2355&\"-\"&COUNTIF(E$1:E2355,E2355)","v":"火8-23"},"長","火",8]
[null,null,null,null,"木8",{"$f":"E2356&\"-\"&COUNTIF(E$1:E2356,E2356)","v":"木8-27"},"庚","木",8]
[null,null,null,null,"金8",{"$f":"E2357&\"-\"&COUNTIF(E$1:E2357,E2357)","v":"金8-26"},"社","金",8]
[null,null,null,null,"火8",{"$f":"E2358&\"-\"&COUNTIF(E$1:E2358,E2358)","v":"火8-24"},"周","火",8]
[null,null,null,null,"木8",{"$f":"E2359&\"-\"&COUNTIF(E$1:E2359,E2359)","v":"木8-28"},"岡","木",8]
[null,null,null,null,"火8",{"$f":"E2360&\"-\"&COUNTIF(E$1:E2360,E2360)","v":"火8-25"},"到","火",8]
[null,null,null,null,"水8",{"$f":"E2361&\"-\"&COUNTIF(E$1:E2361,E2361)","v":"水8-35"},"秉","水",8]
[null,null,null,null,"火8",{"$f":"E2362&\"-\"&COUNTIF(E$1:E2362,E2362)","v":"火8-26"},"來","火",8]
[null,null,null,null,"金8",{"$f":"E2363&\"-\"&COUNTIF(E$1:E2363,E2363)","v":"金8-27"},"宗","金",8]
[null,null,null,null,"金8",{"$f":"E2364&\"-\"&COUNTIF(E$1:E2364,E2364)","v":"金8-28"},"尚","金",8]
[null,null,null,null,"木8",{"$f":"E2365&\"-\"&COUNTIF(E$1:E2365,E2365)","v":"木8-29"},"金","木",8]
[null,null,null,null,"火8",{"$f":"E2366&\"-\"&COUNTIF(E$1:E2366,E2366)","v":"火8-27"},"直","火",8]
[null,null,null,null,"土8",{"$f":"E2367&\"-\"&COUNTIF(E$1:E2367,E2367)","v":"土8-10"},"委","土",8]
[null,null,null,null,"水8",{"$f":"E2368&\"-\"&COUNTIF(E$1:E2368,E2368)","v":"水8-36"},"孟","水",8]
[null,null,null,null,"水8",{"$f":"E2369&\"-\"&COUNTIF(E$1:E2369,E2369)","v":"水8-37"},"朋","水",8]
[null,null,null,null,{"$f":"H2370&I2370","v":"木8"},{"$f":"E2370&\"-\"&COUNTIF(E$1:E2370,E2370)","v":"木8-30"},"奇","木",8]
[null,null,null,null,"火8",{"$f":"E2371&\"-\"&COUNTIF(E$1:E2371,E2371)","v":"火8-28"},"卓","火",8]
[null,null,null,null,"水8",{"$f":"E2372&\"-\"&COUNTIF(E$1:E2372,E2372)","v":"水8-38"},"武","水",8]
[null,null,null,null,"金8",{"$f":"E2373&\"-\"&COUNTIF(E$1:E2373,E2373)","v":"金8-29"},"昇","金",8]
[null,null,null,null,"火8",{"$f":"E2374&\"-\"&COUNTIF(E$1:E2374,E2374)","v":"火8-29"},"典","火",8]
[null,null,null,null,"木8",{"$f":"E2375&\"-\"&COUNTIF(E$1:E2375,E2375)","v":"木8-31"},"宜","木",8]
[null,null,null,null,"金8",{"$f":"E2376&\"-\"&COUNTIF(E$1:E2376,E2376)","v":"金8-30"},"炊","金",8]
[null,null,null,null,"木8",{"$f":"E2377&\"-\"&COUNTIF(E$1:E2377,E2377)","v":"木8-32"},"炘","木",8]
[null,null,null,null,"木8",{"$f":"E2378&\"-\"&COUNTIF(E$1:E2378,E2378)","v":"木8-33"},"炇","木",8]
[null,null,null,null,"金8",{"$f":"E2379&\"-\"&COUNTIF(E$1:E2379,E2379)","v":"金8-31"},"姓","金",8]
[null,null,null,null,"木8",{"$f":"E2380&\"-\"&COUNTIF(E$1:E2380,E2380)","v":"木8-34"},"姑","木",8]
[null,null,null,null,"水8",{"$f":"E2381&\"-\"&COUNTIF(E$1:E2381,E2381)","v":"水8-39"},"妹","水",8]
[null,null,null,null,"金8",{"$f":"E2382&\"-\"&COUNTIF(E$1:E2382,E2382)","v":"金8-32"},"姍","金",8]
[null,null,null,null,"金8",{"$f":"E2383&\"-\"&COUNTIF(E$1:E2383,E2383)","v":"金8-33"},"妬","金",8]
[null,null,null,null,"木8",{"$f":"E2384&\"-\"&COUNTIF(E$1:E2384,E2384)","v":"木8-35"},"姁","木",8]
[null,null,null,null,"火8",{"$f":"E2385&\"-\"&COUNTIF(E$1:E2385,E2385)","v":"火8-30"},"姐","火",8]
[null,null,null,null,"火8",{"$f":"E2386&\"-\"&COUNTIF(E$1:E2386,E2386)","v":"火8-31"},"妮","火",8]
[null,null,null,null,"土8",{"$f":"E2387&\"-\"&COUNTIF(E$1:E2387,E2387)","v":"土8-11"},"杼","土",8]
[null,null,null,null,"水8",{"$f":"E2388&\"-\"&COUNTIF(E$1:E2388,E2388)","v":"水8-40"},"枚","水",8]
[null,null,null,null,"木8",{"$f":"E2389&\"-\"&COUNTIF(E$1:E2389,E2389)","v":"木8-36"},"析","木",8]
[null,null,null,null,"水8",{"$f":"E2390&\"-\"&COUNTIF(E$1:E2390,E2390)","v":"水8-41"},"杯","水",8]
[null,null,null,null,"火8",{"$f":"E2391&\"-\"&COUNTIF(E$1:E2391,E2391)","v":"火8-32"},"杻","火",8]
[null,null,null,null,"水8",{"$f":"E2392&\"-\"&COUNTIF(E$1:E2392,E2392)","v":"水8-42"},"板","水",8]
[null,null,null,null,"金8",{"$f":"E2393&\"-\"&COUNTIF(E$1:E2393,E2393)","v":"金8-34"},"松","金",8]
[null,null,null,null,"火8",{"$f":"E2394&\"-\"&COUNTIF(E$1:E2394,E2394)","v":"火8-33"},"杵","火",8]
[null,null,null,null,"水8",{"$f":"E2395&\"-\"&COUNTIF(E$1:E2395,E2395)","v":"水8-43"},"杭","水",8]
[null,null,null,null,"水8",{"$f":"E2396&\"-\"&COUNTIF(E$1:E2396,E2396)","v":"水8-44"},"杷","水",8]
[null,null,null,null,"木8",{"$f":"E2397&\"-\"&COUNTIF(E$1:E2397,E2397)","v":"木8-37"},"枝","木",8]
[null,null,null,null,"火8",{"$f":"E2398&\"-\"&COUNTIF(E$1:E2398,E2398)","v":"火8-34"},"林","火",8]
[null,null,null,null,"水8",{"$f":"E2399&\"-\"&COUNTIF(E$1:E2399,E2399)","v":"水8-45"},"彼","水",8]
[null,null,null,null,"火8",{"$f":"E2400&\"-\"&COUNTIF(E$1:E2400,E2400)","v":"火8-35"},"征","火",8]
[null,null,null,null,"火8",{"$f":"E2401&\"-\"&COUNTIF(E$1:E2401,E2401)","v":"火8-36"},"徂","火",8]
[null,null,null,null,"金8",{"$f":"E2402&\"-\"&COUNTIF(E$1:E2402,E2402)","v":"金8-35"},"孥","金",8]
[null,null,null,null,"土8",{"$f":"E2403&\"-\"&COUNTIF(E$1:E2403,E2403)","v":"土8-12"},"夜","土",8]
[null,null,null,null,"火8",{"$f":"E2404&\"-\"&COUNTIF(E$1:E2404,E2404)","v":"火8-37"},"岱","火",8]
[null,null,null,null,"火8",{"$f":"E2405&\"-\"&COUNTIF(E$1:E2405,E2405)","v":"火8-38"},"例","火",8]
[null,null,null,null,"土8",{"$f":"E2406&\"-\"&COUNTIF(E$1:E2406,E2406)","v":"土8-13"},"往","土",8]
[null,null,null,null,"水8",{"$f":"E2407&\"-\"&COUNTIF(E$1:E2407,E2407)","v":"水8-46"},"佩","水",8]
[null,null,null,null,"火8",{"$f":"E2408&\"-\"&COUNTIF(E$1:E2408,E2408)","v":"火8-39"},"侈","火",8]
[null,null,null,null,"火8",{"$f":"E2409&\"-\"&COUNTIF(E$1:E2409,E2409)","v":"火8-40"},"侍","火",8]
[null,null,null,null,"金8",{"$f":"E2410&\"-\"&COUNTIF(E$1:E2410,E2410)","v":"金8-36"},"使","金",8]
[null,null,null,null,"木8",{"$f":"E2411&\"-\"&COUNTIF(E$1:E2411,E2411)","v":"木8-38"},"佶","木",8]
[null,null,null,null,"金8",{"$f":"E2412&\"-\"&COUNTIF(E$1:E2412,E2412)","v":"金8-37"},"侃","金",8]
[null,null,null,null,"土8",{"$f":"E2413&\"-\"&COUNTIF(E$1:E2413,E2413)","v":"土8-14"},"侑","土",8]
[null,null,null,null,"水8",{"$f":"E2414&\"-\"&COUNTIF(E$1:E2414,E2414)","v":"水8-47"},"侔","水",8]
[null,null,null,null,"土8",{"$f":"E2415&\"-\"&COUNTIF(E$1:E2415,E2415)","v":"土8-15"},"依","土",8]
[null,null,null,null,"火8",{"$f":"E2416&\"-\"&COUNTIF(E$1:E2416,E2416)","v":"火8-41"},"佻","火",8]
[null,null,null,null,"木8",{"$f":"E2417&\"-\"&COUNTIF(E$1:E2417,E2417)","v":"木8-39"},"供","木",8]
[null,null,null,null,"木8",{"$f":"E2418&\"-\"&COUNTIF(E$1:E2418,E2418)","v":"木8-40"},"佳","木",8]
[null,null,null,null,"火8",{"$f":"E2419&\"-\"&COUNTIF(E$1:E2419,E2419)","v":"火8-42"},"侗","火",8]
[null,null,null,null,"水8",{"$f":"E2420&\"-\"&COUNTIF(E$1:E2420,E2420)","v":"水8-48"},"坪","水",8]
[null,null,null,null,"木8",{"$f":"E2421&\"-\"&COUNTIF(E$1:E2421,E2421)","v":"木8-41"},"坤","木",8]
[null,null,null,null,"水8",{"$f":"E2422&\"-\"&COUNTIF(E$1:E2422,E2422)","v":"水8-49"},"坡","水",8]
[null,null,null,null,"火8",{"$f":"E2423&\"-\"&COUNTIF(E$1:E2423,E2423)","v":"火8-43"},"坦","火",8]
[null,null,null,null,"金8",{"$f":"E2424&\"-\"&COUNTIF(E$1:E2424,E2424)","v":"金8-38"},"牧","金",8]
[null,null,null,null,"水8",{"$f":"E2425&\"-\"&COUNTIF(E$1:E2425,E2425)","v":"水8-50"},"汶","水",8]
[null,null,null,null,"木8",{"$f":"E2426&\"-\"&COUNTIF(E$1:E2426,E2426)","v":"木8-42"},"玖","木",8]
[null,null,null,null,"水8",{"$f":"E2427&\"-\"&COUNTIF(E$1:E2427,E2427)","v":"水8-51"},"沒","水",8]
[null,null,null,null,"水8",{"$f":"E2428&\"-\"&COUNTIF(E$1:E2428,E2428)","v":"水8-52"},"抛","水",8]
[null,null,null,null,"金8",{"$f":"E2429&\"-\"&COUNTIF(E$1:E2429,E2429)","v":"金8-39"},"抄","金",8]
[null,null,null,null,"木8",{"$f":"E2430&\"-\"&COUNTIF(E$1:E2430,E2430)","v":"木8-43"},"沂","木",8]
[null,null,null,null,"土8",{"$f":"E2431&\"-\"&COUNTIF(E$1:E2431,E2431)","v":"土8-16"},"抑","土",8]
[null,null,null,null,"火8",{"$f":"E2432&\"-\"&COUNTIF(E$1:E2432,E2432)","v":"火8-44"},"投","火",8]
[null,null,null,null,"金8",{"$f":"E2433&\"-\"&COUNTIF(E$1:E2433,E2433)","v":"金8-40"},"沈","金",8]
[null,null,null,null,{"$f":"H2434&I2434","v":"木8"},{"$f":"E2434&\"-\"&COUNTIF(E$1:E2434,E2434)","v":"木8-44"},"沅","木",8]
[null,null,null,null,"木8",{"$f":"E2435&\"-\"&COUNTIF(E$1:E2435,E2435)","v":"木8-45"},"快","木",8]
[null,null,null,null,"金8",{"$f":"E2436&\"-\"&COUNTIF(E$1:E2436,E2436)","v":"金8-41"},"沙","金",8]
[null,null,null,null,"木8",{"$f":"E2437&\"-\"&COUNTIF(E$1:E2437,E2437)","v":"木8-46"},"技","木",8]
[null,null,null,null,"金8",{"$f":"E2438&\"-\"&COUNTIF(E$1:E2438,E2438)","v":"金8-42"},"沁","金",8]
[null,null,null,null,"木8",{"$f":"E2439&\"-\"&COUNTIF(E$1:E2439,E2439)","v":"木8-47"},"抗","木",8]
[null,null,null,null,"水8",{"$f":"E2440&\"-\"&COUNTIF(E$1:E2440,E2440)","v":"水8-53"},"版","水",8]
[null,null,null,null,"木8",{"$f":"E2441&\"-\"&COUNTIF(E$1:E2441,E2441)","v":"木8-48"},"決","木",8]
[null,null,null,null,"木8",{"$f":"E2442&\"-\"&COUNTIF(E$1:E2442,E2442)","v":"木8-49"},"汽","木",8]
[null,null,null,null,"金8",{"$f":"E2443&\"-\"&COUNTIF(E$1:E2443,E2443)","v":"金8-43"},"沖","金",8]
[null,null,null,null,"水8",{"$f":"E2444&\"-\"&COUNTIF(E$1:E2444,E2444)","v":"水8-54"},"汾","水",8]
[null,null,null,null,"木8",{"$f":"E2445&\"-\"&COUNTIF(E$1:E2445,E2445)","v":"木8-50"},"狂","木",8]
[null,null,null,null,"水8",{"$f":"E2446&\"-\"&COUNTIF(E$1:E2446,E2446)","v":"水8-55"},"沐","水",8]
[null,null,null,null,"火8",{"$f":"E2447&\"-\"&COUNTIF(E$1:E2447,E2447)","v":"火8-45"},"沚","火",8]
[null,null,null,null,"水8",{"$f":"E2448&\"-\"&COUNTIF(E$1:E2448,E2448)","v":"水8-56"},"扶","水",8]
[null,null,null,null,"金8",{"$f":"E2449&\"-\"&COUNTIF(E$1:E2449,E2449)","v":"金8-44"},"忱","金",8]
[null,null,null,null,"火8",{"$f":"E2450&\"-\"&COUNTIF(E$1:E2450,E2450)","v":"火8-46"},"肋","火",8]
[null,null,null,null,"土8",{"$f":"E2451&\"-\"&COUNTIF(E$1:E2451,E2451)","v":"土8-17"},"沃","土",8]
[null,null,null,null,"火8",{"$f":"E2452&\"-\"&COUNTIF(E$1:E2452,E2452)","v":"火8-47"},"兩","火",8]
[null,null,null,null,"金8",{"$f":"E2453&\"-\"&COUNTIF(E$1:E2453,E2453)","v":"金8-45"},"采","金",8]
[null,null,null,null,"金7",{"$f":"E2454&\"-\"&COUNTIF(E$1:E2454,E2454)","v":"金7-1"},"初","金",7]
[null,null,null,null,"金7",{"$f":"E2455&\"-\"&COUNTIF(E$1:E2455,E2455)","v":"金7-2"},"巡","金",7]
[null,null,null,null,"木7",{"$f":"E2456&\"-\"&COUNTIF(E$1:E2456,E2456)","v":"木7-1"},"妧","木",7]
[null,null,null,null,"土7",{"$f":"E2457&\"-\"&COUNTIF(E$1:E2457,E2457)","v":"土7-1"},"延","土",7]
[null,null,null,null,"水7",{"$f":"E2458&\"-\"&COUNTIF(E$1:E2458,E2458)","v":"水7-1"},"罕","水",7]
[null,null,null,null,"木7",{"$f":"E2459&\"-\"&COUNTIF(E$1:E2459,E2459)","v":"木7-2"},"坌","木",7]
[null,null,null,null,"水7",{"$f":"E2460&\"-\"&COUNTIF(E$1:E2460,E2460)","v":"水7-2"},"牡","水",7]
[null,null,null,null,"金7",{"$f":"E2461&\"-\"&COUNTIF(E$1:E2461,E2461)","v":"金7-3"},"忒","金",7]
[null,null,null,null,"水7",{"$f":"E2462&\"-\"&COUNTIF(E$1:E2462,E2462)","v":"水7-3"},"否","水",7]
[null,null,null,null,"水7",{"$f":"E2463&\"-\"&COUNTIF(E$1:E2463,E2463)","v":"水7-4"},"妨","水",7]
[null,null,null,null,"火7",{"$f":"E2464&\"-\"&COUNTIF(E$1:E2464,E2464)","v":"火7-1"},"弟","火",7]
[null,null,null,null,"金7",{"$f":"E2465&\"-\"&COUNTIF(E$1:E2465,E2465)","v":"金7-4"},"辛","金",7]
[null,null,null,null,"金7",{"$f":"E2466&\"-\"&COUNTIF(E$1:E2466,E2466)","v":"金7-5"},"走","金",7]
[null,null,null,null,"土7",{"$f":"E2467&\"-\"&COUNTIF(E$1:E2467,E2467)","v":"土7-2"},"似","土",7]
[null,null,null,null,"火7",{"$f":"E2468&\"-\"&COUNTIF(E$1:E2468,E2468)","v":"火7-2"},"卵","火",7]
[null,null,null,null,"火7",{"$f":"E2469&\"-\"&COUNTIF(E$1:E2469,E2469)","v":"火7-3"},"妥","火",7]
[null,null,null,null,"火7",{"$f":"E2470&\"-\"&COUNTIF(E$1:E2470,E2470)","v":"火7-4"},"但","火",7]
[null,null,null,null,"木7",{"$f":"E2471&\"-\"&COUNTIF(E$1:E2471,E2471)","v":"木7-3"},"困","木",7]
[null,null,null,null,"水7",{"$f":"E2472&\"-\"&COUNTIF(E$1:E2472,E2472)","v":"水7-5"},"免","水",7]
[null,null,null,null,"木7",{"$f":"E2473&\"-\"&COUNTIF(E$1:E2473,E2473)","v":"木7-4"},"忌","木",7]
[null,null,null,null,"木7",{"$f":"E2474&\"-\"&COUNTIF(E$1:E2474,E2474)","v":"木7-5"},"却","木",7]
[null,null,null,null,"木7",{"$f":"E2475&\"-\"&COUNTIF(E$1:E2475,E2475)","v":"木7-6"},"攻","木",7]
[null,null,null,null,"水7",{"$f":"E2476&\"-\"&COUNTIF(E$1:E2476,E2476)","v":"水7-6"},"含","水",7]
[null,null,null,null,"土7",{"$f":"E2477&\"-\"&COUNTIF(E$1:E2477,E2477)","v":"土7-3"},"尨","土",7]
[null,null,null,null,"水7",{"$f":"E2478&\"-\"&COUNTIF(E$1:E2478,E2478)","v":"水7-7"},"系","水",7]
[null,null,null,null,"水7",{"$f":"E2479&\"-\"&COUNTIF(E$1:E2479,E2479)","v":"水7-8"},"斈","水",7]
[null,null,null,null,"火7",{"$f":"E2480&\"-\"&COUNTIF(E$1:E2480,E2480)","v":"火7-5"},"彤","火",7]
[null,null,null,null,"木7",{"$f":"E2481&\"-\"&COUNTIF(E$1:E2481,E2481)","v":"木7-7"},"杆","木",7]
[null,null,null,null,"水7",{"$f":"E2482&\"-\"&COUNTIF(E$1:E2482,E2482)","v":"水7-9"},"忙","水",7]
[null,null,null,null,"木7",{"$f":"E2483&\"-\"&COUNTIF(E$1:E2483,E2483)","v":"木7-8"},"告","木",7]
[null,null,null,null,"水7",{"$f":"E2484&\"-\"&COUNTIF(E$1:E2484,E2484)","v":"水7-10"},"佛","水",7]
[null,null,null,null,"木7",{"$f":"E2485&\"-\"&COUNTIF(E$1:E2485,E2485)","v":"木7-9"},"戒","木",7]
[null,null,null,null,"金7",{"$f":"E2486&\"-\"&COUNTIF(E$1:E2486,E2486)","v":"金7-6"},"忍","金",7]
[null,null,null,null,"木7",{"$f":"E2487&\"-\"&COUNTIF(E$1:E2487,E2487)","v":"木7-10"},"劫","木",7]
[null,null,null,null,"金7",{"$f":"E2488&\"-\"&COUNTIF(E$1:E2488,E2488)","v":"金7-7"},"声","金",7]
[null,null,null,null,"水7",{"$f":"E2489&\"-\"&COUNTIF(E$1:E2489,E2489)","v":"水7-11"},"忘","水",7]
[null,null,null,null,"水7",{"$f":"E2490&\"-\"&COUNTIF(E$1:E2490,E2490)","v":"水7-12"},"形","水",7]
[null,null,null,null,"木7",{"$f":"E2491&\"-\"&COUNTIF(E$1:E2491,E2491)","v":"木7-11"},"局","木",7]
[null,null,null,null,"土7",{"$f":"E2492&\"-\"&COUNTIF(E$1:E2492,E2492)","v":"土7-4"},"余","土",7]
[null,null,null,null,"木7",{"$f":"E2493&\"-\"&COUNTIF(E$1:E2493,E2493)","v":"木7-12"},"妓","木",7]
[null,null,null,null,"木7",{"$f":"E2494&\"-\"&COUNTIF(E$1:E2494,E2494)","v":"木7-13"},"估","木",7]
[null,null,null,null,"金7",{"$f":"E2495&\"-\"&COUNTIF(E$1:E2495,E2495)","v":"金7-8"},"材","金",7]
[null,null,null,null,"金7",{"$f":"E2496&\"-\"&COUNTIF(E$1:E2496,E2496)","v":"金7-9"},"吹","金",7]
[null,null,null,null,"木7",{"$f":"E2497&\"-\"&COUNTIF(E$1:E2497,E2497)","v":"木7-14"},"峡","木",7]
[null,null,null,null,{"$f":"H2498&I2498","v":"木7"},{"$f":"E2498&\"-\"&COUNTIF(E$1:E2498,E2498)","v":"木7-15"},"我","木",7]
[null,null,null,null,"火7",{"$f":"E2499&\"-\"&COUNTIF(E$1:E2499,E2499)","v":"火7-6"},"低","火",7]
[null,null,null,null,"水7",{"$f":"E2500&\"-\"&COUNTIF(E$1:E2500,E2500)","v":"水7-13"},"坂","水",7]
[null,null,null,null,"木7",{"$f":"E2501&\"-\"&COUNTIF(E$1:E2501,E2501)","v":"木7-16"},"岑","木",7]
[null,null,null,null,"金7",{"$f":"E2502&\"-\"&COUNTIF(E$1:E2502,E2502)","v":"金7-10"},"些","金",7]
[null,null,null,null,"土7",{"$f":"E2503&\"-\"&COUNTIF(E$1:E2503,E2503)","v":"土7-5"},"役","土",7]
[null,null,null,null,"火7",{"$f":"E2504&\"-\"&COUNTIF(E$1:E2504,E2504)","v":"火7-7"},"姉","火",7]
[null,null,null,null,"水7",{"$f":"E2505&\"-\"&COUNTIF(E$1:E2505,E2505)","v":"水7-14"},"坊","水",7]
[null,null,null,null,"火7",{"$f":"E2506&\"-\"&COUNTIF(E$1:E2506,E2506)","v":"火7-8"},"努","火",7]
[null,null,null,null,"水7",{"$f":"E2507&\"-\"&COUNTIF(E$1:E2507,E2507)","v":"水7-15"},"况","水",7]
[null,null,null,null,"火7",{"$f":"E2508&\"-\"&COUNTIF(E$1:E2508,E2508)","v":"火7-9"},"弄","火",7]
[null,null,null,null,"水7",{"$f":"E2509&\"-\"&COUNTIF(E$1:E2509,E2509)","v":"水7-16"},"妤","水",7]
[null,null,null,null,"木7",{"$f":"E2510&\"-\"&COUNTIF(E$1:E2510,E2510)","v":"木7-17"},"坑","木",7]
[null,null,null,null,"水7",{"$f":"E2511&\"-\"&COUNTIF(E$1:E2511,E2511)","v":"水7-17"},"别","水",7]
[null,null,null,null,"金7",{"$f":"E2512&\"-\"&COUNTIF(E$1:E2512,E2512)","v":"金7-11"},"串","金",7]
[null,null,null,null,"水7",{"$f":"E2513&\"-\"&COUNTIF(E$1:E2513,E2513)","v":"水7-18"},"貝","水",7]
[null,null,null,null,"火7",{"$f":"E2514&\"-\"&COUNTIF(E$1:E2514,E2514)","v":"火7-10"},"呑","火",7]
[null,null,null,null,"火7",{"$f":"E2515&\"-\"&COUNTIF(E$1:E2515,E2515)","v":"火7-11"},"冷","火",7]
[null,null,null,null,"水7",{"$f":"E2516&\"-\"&COUNTIF(E$1:E2516,E2516)","v":"水7-19"},"亨","水",7]
[null,null,null,null,"水7",{"$f":"E2517&\"-\"&COUNTIF(E$1:E2517,E2517)","v":"水7-20"},"妣","水",7]
[null,null,null,null,"火7",{"$f":"E2518&\"-\"&COUNTIF(E$1:E2518,E2518)","v":"火7-12"},"豆","火",7]
[null,null,null,null,"水7",{"$f":"E2519&\"-\"&COUNTIF(E$1:E2519,E2519)","v":"水7-21"},"每","水",7]
[null,null,null,null,"土7",{"$f":"E2520&\"-\"&COUNTIF(E$1:E2520,E2520)","v":"土7-6"},"禿","土",7]
[null,null,null,null,"金7",{"$f":"E2521&\"-\"&COUNTIF(E$1:E2521,E2521)","v":"金7-12"},"壯","金",7]
[null,null,null,null,"木7",{"$f":"E2522&\"-\"&COUNTIF(E$1:E2522,E2522)","v":"木7-18"},"究","木",7]
[null,null,null,null,"火7",{"$f":"E2523&\"-\"&COUNTIF(E$1:E2523,E2523)","v":"火7-13"},"李","火",7]
[null,null,null,null,"金7",{"$f":"E2524&\"-\"&COUNTIF(E$1:E2524,E2524)","v":"金7-13"},"妊","金",7]
[null,null,null,null,"火7",{"$f":"E2525&\"-\"&COUNTIF(E$1:E2525,E2525)","v":"火7-14"},"町","火",7]
[null,null,null,null,"土7",{"$f":"E2526&\"-\"&COUNTIF(E$1:E2526,E2526)","v":"土7-7"},"攸","土",7]
[null,null,null,null,"火7",{"$f":"E2527&\"-\"&COUNTIF(E$1:E2527,E2527)","v":"火7-15"},"足","火",7]
[null,null,null,null,"金7",{"$f":"E2528&\"-\"&COUNTIF(E$1:E2528,E2528)","v":"金7-14"},"私","金",7]
[null,null,null,null,"火7",{"$f":"E2529&\"-\"&COUNTIF(E$1:E2529,E2529)","v":"火7-16"},"杖","火",7]
[null,null,null,null,"水7",{"$f":"E2530&\"-\"&COUNTIF(E$1:E2530,E2530)","v":"水7-22"},"步","水",7]
[null,null,null,null,"金7",{"$f":"E2531&\"-\"&COUNTIF(E$1:E2531,E2531)","v":"金7-15"},"妝","金",7]
[null,null,null,null,"金7",{"$f":"E2532&\"-\"&COUNTIF(E$1:E2532,E2532)","v":"金7-16"},"赤","金",7]
[null,null,null,null,"水7",{"$f":"E2533&\"-\"&COUNTIF(E$1:E2533,E2533)","v":"水7-23"},"坆","水",7]
[null,null,null,null,"金7",{"$f":"E2534&\"-\"&COUNTIF(E$1:E2534,E2534)","v":"金7-17"},"序","金",7]
[null,null,null,null,"木7",{"$f":"E2535&\"-\"&COUNTIF(E$1:E2535,E2535)","v":"木7-19"},"谷","木",7]
[null,null,null,null,"水7",{"$f":"E2536&\"-\"&COUNTIF(E$1:E2536,E2536)","v":"水7-24"},"呆","水",7]
[null,null,null,null,"火7",{"$f":"E2537&\"-\"&COUNTIF(E$1:E2537,E2537)","v":"火7-17"},"利","火",7]
[null,null,null,null,"火7",{"$f":"E2538&\"-\"&COUNTIF(E$1:E2538,E2538)","v":"火7-18"},"灸","火",7]
[null,null,null,null,"水7",{"$f":"E2539&\"-\"&COUNTIF(E$1:E2539,E2539)","v":"水7-25"},"巫","水",7]
[null,null,null,null,"土7",{"$f":"E2540&\"-\"&COUNTIF(E$1:E2540,E2540)","v":"土7-8"},"吳","土",7]
[null,null,null,null,"火7",{"$f":"E2541&\"-\"&COUNTIF(E$1:E2541,E2541)","v":"火7-19"},"坍","火",7]
[null,null,null,null,"火7",{"$f":"E2542&\"-\"&COUNTIF(E$1:E2542,E2542)","v":"火7-20"},"体","火",7]
[null,null,null,null,"金7",{"$f":"E2543&\"-\"&COUNTIF(E$1:E2543,E2543)","v":"金7-18"},"宋","金",7]
[null,null,null,null,"火7",{"$f":"E2544&\"-\"&COUNTIF(E$1:E2544,E2544)","v":"火7-21"},"灶","火",7]
[null,null,null,null,"水7",{"$f":"E2545&\"-\"&COUNTIF(E$1:E2545,E2545)","v":"水7-26"},"杏","水",7]
[null,null,null,null,"水7",{"$f":"E2546&\"-\"&COUNTIF(E$1:E2546,E2546)","v":"水7-27"},"尾","水",7]
[null,null,null,null,"水7",{"$f":"E2547&\"-\"&COUNTIF(E$1:E2547,E2547)","v":"水7-28"},"何","水",7]
[null,null,null,null,"金7",{"$f":"E2548&\"-\"&COUNTIF(E$1:E2548,E2548)","v":"金7-19"},"村","金",7]
[null,null,null,null,"金7",{"$f":"E2549&\"-\"&COUNTIF(E$1:E2549,E2549)","v":"金7-20"},"束","金",7]
[null,null,null,null,"木7",{"$f":"E2550&\"-\"&COUNTIF(E$1:E2550,E2550)","v":"木7-20"},"改","木",7]
[null,null,null,null,"金7",{"$f":"E2551&\"-\"&COUNTIF(E$1:E2551,E2551)","v":"金7-21"},"杉","金",7]
[null,null,null,null,"土7",{"$f":"E2552&\"-\"&COUNTIF(E$1:E2552,E2552)","v":"土7-9"},"酉","土",7]
[null,null,null,null,"火7",{"$f":"E2553&\"-\"&COUNTIF(E$1:E2553,E2553)","v":"火7-22"},"冶","火",7]
[null,null,null,null,"金7",{"$f":"E2554&\"-\"&COUNTIF(E$1:E2554,E2554)","v":"金7-22"},"坐","金",7]
[null,null,null,null,"木7",{"$f":"E2555&\"-\"&COUNTIF(E$1:E2555,E2555)","v":"木7-21"},"旱","木",7]
[null,null,null,null,"火7",{"$f":"E2556&\"-\"&COUNTIF(E$1:E2556,E2556)","v":"火7-23"},"坔","火",7]
[null,null,null,null,"木7",{"$f":"E2557&\"-\"&COUNTIF(E$1:E2557,E2557)","v":"木7-22"},"吾","木",7]
[null,null,null,null,"火7",{"$f":"E2558&\"-\"&COUNTIF(E$1:E2558,E2558)","v":"火7-24"},"伶","火",7]
[null,null,null,null,"火7",{"$f":"E2559&\"-\"&COUNTIF(E$1:E2559,E2559)","v":"火7-25"},"佃","火",7]
[null,null,null,null,"火7",{"$f":"E2560&\"-\"&COUNTIF(E$1:E2560,E2560)","v":"火7-26"},"呈","火",7]
[null,null,null,null,"金7",{"$f":"E2561&\"-\"&COUNTIF(E$1:E2561,E2561)","v":"金7-23"},"伺","金",7]
[null,null,null,null,{"$f":"H2562&I2562","v":"水7"},{"$f":"E2562&\"-\"&COUNTIF(E$1:E2562,E2562)","v":"水7-29"},"兵","水",7]
[null,null,null,null,"火7",{"$f":"E2563&\"-\"&COUNTIF(E$1:E2563,E2563)","v":"火7-27"},"志","火",7]
[null,null,null,null,"火7",{"$f":"E2564&\"-\"&COUNTIF(E$1:E2564,E2564)","v":"火7-28"},"住","火",7]
[null,null,null,null,"水7",{"$f":"E2565&\"-\"&COUNTIF(E$1:E2565,E2565)","v":"水7-30"},"伯","水",7]
[null,null,null,null,"火7",{"$f":"E2566&\"-\"&COUNTIF(E$1:E2566,E2566)","v":"火7-29"},"呂","火",7]
[null,null,null,null,"水7",{"$f":"E2567&\"-\"&COUNTIF(E$1:E2567,E2567)","v":"水7-31"},"判","水",7]
[null,null,null,null,"火7",{"$f":"E2568&\"-\"&COUNTIF(E$1:E2568,E2568)","v":"火7-30"},"廷","火",7]
[null,null,null,null,"土7",{"$f":"E2569&\"-\"&COUNTIF(E$1:E2569,E2569)","v":"土7-10"},"位","土",7]
[null,null,null,null,"木7",{"$f":"E2570&\"-\"&COUNTIF(E$1:E2570,E2570)","v":"木7-23"},"妗","木",7]
[null,null,null,null,"木7",{"$f":"E2571&\"-\"&COUNTIF(E$1:E2571,E2571)","v":"木7-24"},"吟","木",7]
[null,null,null,null,"木7",{"$f":"E2572&\"-\"&COUNTIF(E$1:E2572,E2572)","v":"木7-25"},"均","木",7]
[null,null,null,null,"金7",{"$f":"E2573&\"-\"&COUNTIF(E$1:E2573,E2573)","v":"金7-24"},"秀","金",7]
[null,null,null,null,"水7",{"$f":"E2574&\"-\"&COUNTIF(E$1:E2574,E2574)","v":"水7-32"},"甫","水",7]
[null,null,null,null,"水7",{"$f":"E2575&\"-\"&COUNTIF(E$1:E2575,E2575)","v":"水7-33"},"伴","水",7]
[null,null,null,null,"金7",{"$f":"E2576&\"-\"&COUNTIF(E$1:E2576,E2576)","v":"金7-25"},"肖","金",7]
[null,null,null,null,"火7",{"$f":"E2577&\"-\"&COUNTIF(E$1:E2577,E2577)","v":"火7-31"},"牢","火",7]
[null,null,null,null,"木7",{"$f":"E2578&\"-\"&COUNTIF(E$1:E2578,E2578)","v":"木7-26"},"君","木",7]
[null,null,null,null,"金7",{"$f":"E2579&\"-\"&COUNTIF(E$1:E2579,E2579)","v":"金7-26"},"佐","金",7]
[null,null,null,null,"金7",{"$f":"E2580&\"-\"&COUNTIF(E$1:E2580,E2580)","v":"金7-27"},"孜","金",7]
[null,null,null,null,"木7",{"$f":"E2581&\"-\"&COUNTIF(E$1:E2581,E2581)","v":"木7-27"},"角","木",7]
[null,null,null,null,"火7",{"$f":"E2582&\"-\"&COUNTIF(E$1:E2582,E2582)","v":"火7-32"},"里","火",7]
[null,null,null,null,"水7",{"$f":"E2583&\"-\"&COUNTIF(E$1:E2583,E2583)","v":"水7-34"},"妙","水",7]
[null,null,null,null,"水7",{"$f":"E2584&\"-\"&COUNTIF(E$1:E2584,E2584)","v":"水7-35"},"宏","水",7]
[null,null,null,null,"金7",{"$f":"E2585&\"-\"&COUNTIF(E$1:E2585,E2585)","v":"金7-28"},"身","金",7]
[null,null,null,null,"水7",{"$f":"E2586&\"-\"&COUNTIF(E$1:E2586,E2586)","v":"水7-36"},"孝","水",7]
[null,null,null,null,"土7",{"$f":"E2587&\"-\"&COUNTIF(E$1:E2587,E2587)","v":"土7-11"},"完","土",7]
[null,null,null,null,"火7",{"$f":"E2588&\"-\"&COUNTIF(E$1:E2588,E2588)","v":"火7-33"},"佟","火",7]
[null,null,null,null,"火7",{"$f":"E2589&\"-\"&COUNTIF(E$1:E2589,E2589)","v":"火7-34"},"男","火",7]
[null,null,null,null,"火7",{"$f":"E2590&\"-\"&COUNTIF(E$1:E2590,E2590)","v":"火7-35"},"甸","火",7]
[null,null,null,null,"金7",{"$f":"E2591&\"-\"&COUNTIF(E$1:E2591,E2591)","v":"金7-29"},"辰","金",7]
[null,null,null,null,"水7",{"$f":"E2592&\"-\"&COUNTIF(E$1:E2592,E2592)","v":"水7-37"},"孚","水",7]
[null,null,null,null,"金7",{"$f":"E2593&\"-\"&COUNTIF(E$1:E2593,E2593)","v":"金7-30"},"伸","金",7]
[null,null,null,null,"土7",{"$f":"E2594&\"-\"&COUNTIF(E$1:E2594,E2594)","v":"土7-12"},"佑","土",7]
[null,null,null,null,"木7",{"$f":"E2595&\"-\"&COUNTIF(E$1:E2595,E2595)","v":"木7-28"},"克","木",7]
[null,null,null,null,"火7",{"$f":"E2596&\"-\"&COUNTIF(E$1:E2596,E2596)","v":"火7-36"},"良","火",7]
[null,null,null,null,"土7",{"$f":"E2597&\"-\"&COUNTIF(E$1:E2597,E2597)","v":"土7-13"},"邑","土",7]
[null,null,null,null,"金7",{"$f":"E2598&\"-\"&COUNTIF(E$1:E2598,E2598)","v":"金7-31"},"作","金",7]
[null,null,null,null,"金7",{"$f":"E2599&\"-\"&COUNTIF(E$1:E2599,E2599)","v":"金7-32"},"車","金",7]
[null,null,null,null,"水7",{"$f":"E2600&\"-\"&COUNTIF(E$1:E2600,E2600)","v":"水7-38"},"希","水",7]
[null,null,null,null,"木7",{"$f":"E2601&\"-\"&COUNTIF(E$1:E2601,E2601)","v":"木7-29"},"更","木",7]
[null,null,null,null,"木7",{"$f":"E2602&\"-\"&COUNTIF(E$1:E2602,E2602)","v":"木7-30"},"見","木",7]
[null,null,null,null,"木7",{"$f":"E2603&\"-\"&COUNTIF(E$1:E2603,E2603)","v":"木7-31"},"江","木",7]
[null,null,null,null,"金7",{"$f":"E2604&\"-\"&COUNTIF(E$1:E2604,E2604)","v":"金7-33"},"助","金",7]
[null,null,null,null,"木7",{"$f":"E2605&\"-\"&COUNTIF(E$1:E2605,E2605)","v":"木7-32"},"求","木",7]
[null,null,null,null,"火7",{"$f":"E2606&\"-\"&COUNTIF(E$1:E2606,E2606)","v":"火7-37"},"兌","火",7]
[null,null,null,null,"木7",{"$f":"E2607&\"-\"&COUNTIF(E$1:E2607,E2607)","v":"木7-33"},"言","木",7]
[null,null,null,null,"火7",{"$f":"E2608&\"-\"&COUNTIF(E$1:E2608,E2608)","v":"火7-38"},"汝","火",7]
[null,null,null,null,"火7",{"$f":"E2609&\"-\"&COUNTIF(E$1:E2609,E2609)","v":"火7-39"},"池","火",7]
[null,null,null,null,"金7",{"$f":"E2610&\"-\"&COUNTIF(E$1:E2610,E2610)","v":"金7-34"},"成","金",7]
[null,null,null,null,"木6",{"$f":"E2611&\"-\"&COUNTIF(E$1:E2611,E2611)","v":"木6-1"},"弛","木",6]
[null,null,null,null,"金6",{"$f":"E2612&\"-\"&COUNTIF(E$1:E2612,E2612)","v":"金6-1"},"臣","金",6]
[null,null,null,null,"火6",{"$f":"E2613&\"-\"&COUNTIF(E$1:E2613,E2613)","v":"火6-1"},"圳","火",6]
[null,null,null,null,"水6",{"$f":"E2614&\"-\"&COUNTIF(E$1:E2614,E2614)","v":"水6-1"},"伐","水",6]
[null,null,null,null,"木6",{"$f":"E2615&\"-\"&COUNTIF(E$1:E2615,E2615)","v":"木6-2"},"朽","木",6]
[null,null,null,null,"木6",{"$f":"E2616&\"-\"&COUNTIF(E$1:E2616,E2616)","v":"木6-3"},"件","木",6]
[null,null,null,null,"水6",{"$f":"E2617&\"-\"&COUNTIF(E$1:E2617,E2617)","v":"水6-2"},"牟","水",6]
[null,null,null,null,"水6",{"$f":"E2618&\"-\"&COUNTIF(E$1:E2618,E2618)","v":"水6-3"},"并","水",6]
[null,null,null,null,"火6",{"$f":"E2619&\"-\"&COUNTIF(E$1:E2619,E2619)","v":"火6-2"},"全","火",6]
[null,null,null,null,"土6",{"$f":"E2620&\"-\"&COUNTIF(E$1:E2620,E2620)","v":"土6-1"},"印","土",6]
[null,null,null,null,"土6",{"$f":"E2621&\"-\"&COUNTIF(E$1:E2621,E2621)","v":"土6-2"},"安","土",6]
[null,null,null,null,"水6",{"$f":"E2622&\"-\"&COUNTIF(E$1:E2622,E2622)","v":"水6-4"},"冰","水",6]
[null,null,null,null,"火6",{"$f":"E2623&\"-\"&COUNTIF(E$1:E2623,E2623)","v":"火6-3"},"年","火",6]
[null,null,null,null,"金6",{"$f":"E2624&\"-\"&COUNTIF(E$1:E2624,E2624)","v":"金6-2"},"州","金",6]
[null,null,null,null,"土6",{"$f":"E2625&\"-\"&COUNTIF(E$1:E2625,E2625)","v":"土6-3"},"伊","土",6]
[null,null,null,null,{"$f":"H2626&I2626","v":"火6"},{"$f":"E2626&\"-\"&COUNTIF(E$1:E2626,E2626)","v":"火6-4"},"同","火",6]
[null,null,null,null,"水6",{"$f":"E2627&\"-\"&COUNTIF(E$1:E2627,E2627)","v":"水6-5"},"米","水",6]
[null,null,null,null,"土6",{"$f":"E2628&\"-\"&COUNTIF(E$1:E2628,E2628)","v":"土6-4"},"羊","土",6]
[null,null,null,null,"水6",{"$f":"E2629&\"-\"&COUNTIF(E$1:E2629,E2629)","v":"水6-6"},"百","水",6]
[null,null,null,null,"土6",{"$f":"E2630&\"-\"&COUNTIF(E$1:E2630,E2630)","v":"土6-5"},"有","土",6]
[null,null,null,null,"木6",{"$f":"E2631&\"-\"&COUNTIF(E$1:E2631,E2631)","v":"木6-4"},"艮","木",6]
[null,null,null,null,"金6",{"$f":"E2632&\"-\"&COUNTIF(E$1:E2632,E2632)","v":"金6-3"},"任","金",6]
[null,null,null,null,"火6",{"$f":"E2633&\"-\"&COUNTIF(E$1:E2633,E2633)","v":"火6-5"},"虫","火",6]
[null,null,null,null,"土6",{"$f":"E2634&\"-\"&COUNTIF(E$1:E2634,E2634)","v":"土6-6"},"衣","土",6]
[null,null,null,null,"水6",{"$f":"E2635&\"-\"&COUNTIF(E$1:E2635,E2635)","v":"水6-7"},"肉","水",6]
[null,null,null,null,"水6",{"$f":"E2636&\"-\"&COUNTIF(E$1:E2636,E2636)","v":"水6-8"},"牝","水",6]
[null,null,null,null,"木6",{"$f":"E2637&\"-\"&COUNTIF(E$1:E2637,E2637)","v":"木6-5"},"考","木",6]
[null,null,null,null,"金6",{"$f":"E2638&\"-\"&COUNTIF(E$1:E2638,E2638)","v":"金6-4"},"此","金",6]
[null,null,null,null,"金6",{"$f":"E2639&\"-\"&COUNTIF(E$1:E2639,E2639)","v":"金6-5"},"朱","金",6]
[null,null,null,null,"金6",{"$f":"E2640&\"-\"&COUNTIF(E$1:E2640,E2640)","v":"金6-6"},"旨","金",6]
[null,null,null,null,"金6",{"$f":"E2641&\"-\"&COUNTIF(E$1:E2641,E2641)","v":"金6-7"},"收","金",6]
[null,null,null,null,"金6",{"$f":"E2642&\"-\"&COUNTIF(E$1:E2642,E2642)","v":"金6-8"},"庄","金",6]
[null,null,null,null,"木6",{"$f":"E2643&\"-\"&COUNTIF(E$1:E2643,E2643)","v":"木6-6"},"机","木",6]
[null,null,null,null,"金6",{"$f":"E2644&\"-\"&COUNTIF(E$1:E2644,E2644)","v":"金6-9"},"戌","金",6]
[null,null,null,null,"金6",{"$f":"E2645&\"-\"&COUNTIF(E$1:E2645,E2645)","v":"金6-10"},"死","金",6]
[null,null,null,null,"水6",{"$f":"E2646&\"-\"&COUNTIF(E$1:E2646,E2646)","v":"水6-9"},"灰","水",6]
[null,null,null,null,"火6",{"$f":"E2647&\"-\"&COUNTIF(E$1:E2647,E2647)","v":"火6-6"},"朵","火",6]
[null,null,null,null,"金6",{"$f":"E2648&\"-\"&COUNTIF(E$1:E2648,E2648)","v":"金6-11"},"旬","金",6]
[null,null,null,null,"木6",{"$f":"E2649&\"-\"&COUNTIF(E$1:E2649,E2649)","v":"木6-7"},"戎","木",6]
[null,null,null,null,"水6",{"$f":"E2650&\"-\"&COUNTIF(E$1:E2650,E2650)","v":"水6-10"},"妃","水",6]
[null,null,null,null,"火6",{"$f":"E2651&\"-\"&COUNTIF(E$1:E2651,E2651)","v":"火6-7"},"宅","火",6]
[null,null,null,null,"火6",{"$f":"E2652&\"-\"&COUNTIF(E$1:E2652,E2652)","v":"火6-8"},"舌","火",6]
[null,null,null,null,"水6",{"$f":"E2653&\"-\"&COUNTIF(E$1:E2653,E2653)","v":"水6-11"},"亥","水",6]
[null,null,null,null,"火6",{"$f":"E2654&\"-\"&COUNTIF(E$1:E2654,E2654)","v":"火6-9"},"耳","火",6]
[null,null,null,null,"金6",{"$f":"E2655&\"-\"&COUNTIF(E$1:E2655,E2655)","v":"金6-12"},"寺","金",6]
[null,null,null,null,"火6",{"$f":"E2656&\"-\"&COUNTIF(E$1:E2656,E2656)","v":"火6-10"},"吐","火",6]
[null,null,null,null,"金6",{"$f":"E2657&\"-\"&COUNTIF(E$1:E2657,E2657)","v":"金6-13"},"吏","金",6]
[null,null,null,null,"木6",{"$f":"E2658&\"-\"&COUNTIF(E$1:E2658,E2658)","v":"木6-8"},"各","木",6]
[null,null,null,null,"土6",{"$f":"E2659&\"-\"&COUNTIF(E$1:E2659,E2659)","v":"土6-7"},"因","土",6]
[null,null,null,null,"火6",{"$f":"E2660&\"-\"&COUNTIF(E$1:E2660,E2660)","v":"火6-11"},"多","火",6]
[null,null,null,null,"火6",{"$f":"E2661&\"-\"&COUNTIF(E$1:E2661,E2661)","v":"火6-12"},"地","火",6]
[null,null,null,null,"水6",{"$f":"E2662&\"-\"&COUNTIF(E$1:E2662,E2662)","v":"水6-12"},"回","水",6]
[null,null,null,null,"水6",{"$f":"E2663&\"-\"&COUNTIF(E$1:E2663,E2663)","v":"水6-13"},"后","水",6]
[null,null,null,null,"水6",{"$f":"E2664&\"-\"&COUNTIF(E$1:E2664,E2664)","v":"水6-14"},"名","水",6]
[null,null,null,null,"火6",{"$f":"E2665&\"-\"&COUNTIF(E$1:E2665,E2665)","v":"火6-13"},"匠","火",6]
[null,null,null,null,"水6",{"$f":"E2666&\"-\"&COUNTIF(E$1:E2666,E2666)","v":"水6-15"},"血","水",6]
[null,null,null,null,"金6",{"$f":"E2667&\"-\"&COUNTIF(E$1:E2667,E2667)","v":"金6-14"},"羽","金",6]
[null,null,null,null,"火6",{"$f":"E2668&\"-\"&COUNTIF(E$1:E2668,E2668)","v":"火6-14"},"列","火",6]
[null,null,null,null,"水6",{"$f":"E2669&\"-\"&COUNTIF(E$1:E2669,E2669)","v":"水6-16"},"兇","水",6]
[null,null,null,null,"木6",{"$f":"E2670&\"-\"&COUNTIF(E$1:E2670,E2670)","v":"木6-9"},"企","木",6]
[null,null,null,null,"火6",{"$f":"E2671&\"-\"&COUNTIF(E$1:E2671,E2671)","v":"火6-15"},"劣","火",6]
[null,null,null,null,"水6",{"$f":"E2672&\"-\"&COUNTIF(E$1:E2672,E2672)","v":"水6-17"},"刑","水",6]
[null,null,null,null,"木6",{"$f":"E2673&\"-\"&COUNTIF(E$1:E2673,E2673)","v":"木6-10"},"伉","木",6]
[null,null,null,null,"金6",{"$f":"E2674&\"-\"&COUNTIF(E$1:E2674,E2674)","v":"金6-15"},"丞","金",6]
[null,null,null,null,"金6",{"$f":"E2675&\"-\"&COUNTIF(E$1:E2675,E2675)","v":"金6-16"},"冲","金",6]
[null,null,null,null,"木6",{"$f":"E2676&\"-\"&COUNTIF(E$1:E2676,E2676)","v":"木6-11"},"伎","木",6]
[null,null,null,null,"木6",{"$f":"E2677&\"-\"&COUNTIF(E$1:E2677,E2677)","v":"木6-12"},"光","木",6]
[null,null,null,null,"火6",{"$f":"E2678&\"-\"&COUNTIF(E$1:E2678,E2678)","v":"火6-16"},"灯","火",6]
[null,null,null,null,"金6",{"$f":"E2679&\"-\"&COUNTIF(E$1:E2679,E2679)","v":"金6-17"},"先","金",6]
[null,null,null,null,"金6",{"$f":"E2680&\"-\"&COUNTIF(E$1:E2680,E2680)","v":"金6-18"},"式","金",6]
[null,null,null,null,"金6",{"$f":"E2681&\"-\"&COUNTIF(E$1:E2681,E2681)","v":"金6-19"},"早","金",6]
[null,null,null,null,"金6",{"$f":"E2682&\"-\"&COUNTIF(E$1:E2682,E2682)","v":"金6-20"},"色","金",6]
[null,null,null,null,"金6",{"$f":"E2683&\"-\"&COUNTIF(E$1:E2683,E2683)","v":"金6-21"},"夙","金",6]
[null,null,null,null,"土6",{"$f":"E2684&\"-\"&COUNTIF(E$1:E2684,E2684)","v":"土6-8"},"夷","土",6]
[null,null,null,null,"金6",{"$f":"E2685&\"-\"&COUNTIF(E$1:E2685,E2685)","v":"金6-22"},"存","金",6]
[null,null,null,null,"金6",{"$f":"E2686&\"-\"&COUNTIF(E$1:E2686,E2686)","v":"金6-23"},"再","金",6]
[null,null,null,null,"金6",{"$f":"E2687&\"-\"&COUNTIF(E$1:E2687,E2687)","v":"金6-24"},"舟","金",6]
[null,null,null,null,"金6",{"$f":"E2688&\"-\"&COUNTIF(E$1:E2688,E2688)","v":"金6-25"},"充","金",6]
[null,null,null,null,"火6",{"$f":"E2689&\"-\"&COUNTIF(E$1:E2689,E2689)","v":"火6-17"},"仲","火",6]
[null,null,null,null,{"$f":"H2690&I2690","v":"木6"},{"$f":"E2690&\"-\"&COUNTIF(E$1:E2690,E2690)","v":"木6-13"},"共","木",6]
[null,null,null,null,"木6",{"$f":"E2691&\"-\"&COUNTIF(E$1:E2691,E2691)","v":"木6-14"},"曲","木",6]
[null,null,null,null,"火6",{"$f":"E2692&\"-\"&COUNTIF(E$1:E2692,E2692)","v":"火6-18"},"尖","火",6]
[null,null,null,null,"火6",{"$f":"E2693&\"-\"&COUNTIF(E$1:E2693,E2693)","v":"火6-19"},"竹","火",6]
[null,null,null,null,"水6",{"$f":"E2694&\"-\"&COUNTIF(E$1:E2694,E2694)","v":"水6-18"},"合","水",6]
[null,null,null,null,"火6",{"$f":"E2695&\"-\"&COUNTIF(E$1:E2695,E2695)","v":"火6-20"},"自","火",6]
[null,null,null,null,"金6",{"$f":"E2696&\"-\"&COUNTIF(E$1:E2696,E2696)","v":"金6-26"},"西","金",6]
[null,null,null,null,"土6",{"$f":"E2697&\"-\"&COUNTIF(E$1:E2697,E2697)","v":"土6-9"},"匡","土",6]
[null,null,null,null,"火6",{"$f":"E2698&\"-\"&COUNTIF(E$1:E2698,E2698)","v":"火6-21"},"至","火",6]
[null,null,null,null,"火6",{"$f":"E2699&\"-\"&COUNTIF(E$1:E2699,E2699)","v":"火6-22"},"老","火",6]
[null,null,null,null,"金6",{"$f":"E2700&\"-\"&COUNTIF(E$1:E2700,E2700)","v":"金6-27"},"而","金",6]
[null,null,null,null,"水6",{"$f":"E2701&\"-\"&COUNTIF(E$1:E2701,E2701)","v":"水6-19"},"向","水",6]
[null,null,null,null,"金6",{"$f":"E2702&\"-\"&COUNTIF(E$1:E2702,E2702)","v":"金6-28"},"在","金",6]
[null,null,null,null,"水6",{"$f":"E2703&\"-\"&COUNTIF(E$1:E2703,E2703)","v":"水6-20"},"仿","水",6]
[null,null,null,null,"木6",{"$f":"E2704&\"-\"&COUNTIF(E$1:E2704,E2704)","v":"木6-15"},"仰","木",6]
[null,null,null,null,"土6",{"$f":"E2705&\"-\"&COUNTIF(E$1:E2705,E2705)","v":"土6-10"},"兆","土",6]
[null,null,null,null,"金6",{"$f":"E2706&\"-\"&COUNTIF(E$1:E2706,E2706)","v":"金6-29"},"如","金",6]
[null,null,null,null,"木6",{"$f":"E2707&\"-\"&COUNTIF(E$1:E2707,E2707)","v":"木6-16"},"吉","木",6]
[null,null,null,null,"木6",{"$f":"E2708&\"-\"&COUNTIF(E$1:E2708,E2708)","v":"木6-17"},"价","木",6]
[null,null,null,null,"土6",{"$f":"E2709&\"-\"&COUNTIF(E$1:E2709,E2709)","v":"土6-11"},"宇","土",6]
[null,null,null,null,"火6",{"$f":"E2710&\"-\"&COUNTIF(E$1:E2710,E2710)","v":"火6-23"},"打","火",6]
[null,null,null,null,"火6",{"$f":"E2711&\"-\"&COUNTIF(E$1:E2711,E2711)","v":"火6-24"},"汀","火",6]
[null,null,null,null,"木6",{"$f":"E2712&\"-\"&COUNTIF(E$1:E2712,E2712)","v":"木6-18"},"旭","木",6]
[null,null,null,null,"水6",{"$f":"E2713&\"-\"&COUNTIF(E$1:E2713,E2713)","v":"水6-21"},"行","水",6]
[null,null,null,null,"金6",{"$f":"E2714&\"-\"&COUNTIF(E$1:E2714,E2714)","v":"金6-30"},"守","金",6]
[null,null,null,null,"金6",{"$f":"E2715&\"-\"&COUNTIF(E$1:E2715,E2715)","v":"金6-31"},"次","金",6]
[null,null,null,null,"土6",{"$f":"E2716&\"-\"&COUNTIF(E$1:E2716,E2716)","v":"土6-12"},"亦","土",6]
[null,null,null,null,"水6",{"$f":"E2717&\"-\"&COUNTIF(E$1:E2717,E2717)","v":"水6-22"},"伏","水",6]
[null,null,null,null,"木6",{"$f":"E2718&\"-\"&COUNTIF(E$1:E2718,E2718)","v":"木6-19"},"交","木",6]
[null,null,null,null,"水6",{"$f":"E2719&\"-\"&COUNTIF(E$1:E2719,E2719)","v":"水6-23"},"休","水",6]
[null,null,null,null,"水6",{"$f":"E2720&\"-\"&COUNTIF(E$1:E2720,E2720)","v":"水6-24"},"好","水",6]
[null,null,null,null,"木6",{"$f":"E2721&\"-\"&COUNTIF(E$1:E2721,E2721)","v":"木6-20"},"伍","木",6]
[null,null,null,null,"火6",{"$f":"E2722&\"-\"&COUNTIF(E$1:E2722,E2722)","v":"火6-25"},"亘","火",6]
[null,null,null,null,"木6",{"$f":"E2723&\"-\"&COUNTIF(E$1:E2723,E2723)","v":"木6-21"},"圭","木",6]
[null,null,null,null,"金6",{"$f":"E2724&\"-\"&COUNTIF(E$1:E2724,E2724)","v":"金6-32"},"字","金",6]
[null,null,null,null,"火5",{"$f":"E2725&\"-\"&COUNTIF(E$1:E2725,E2725)","v":"火5-1"},"朮","火",5]
[null,null,null,null,"火5",{"$f":"E2726&\"-\"&COUNTIF(E$1:E2726,E2726)","v":"火5-2"},"夯","火",5]
[null,null,null,null,"木5",{"$f":"E2727&\"-\"&COUNTIF(E$1:E2727,E2727)","v":"木5-1"},"巧","木",5]
[null,null,null,null,"木5",{"$f":"E2728&\"-\"&COUNTIF(E$1:E2728,E2728)","v":"木5-2"},"去","木",5]
[null,null,null,null,"火5",{"$f":"E2729&\"-\"&COUNTIF(E$1:E2729,E2729)","v":"火5-3"},"冉","火",5]
[null,null,null,null,"火5",{"$f":"E2730&\"-\"&COUNTIF(E$1:E2730,E2730)","v":"火5-4"},"奴","火",5]
[null,null,null,null,"金5",{"$f":"E2731&\"-\"&COUNTIF(E$1:E2731,E2731)","v":"金5-1"},"失","金",5]
[null,null,null,null,"水5",{"$f":"E2732&\"-\"&COUNTIF(E$1:E2732,E2732)","v":"水5-1"},"另","水",5]
[null,null,null,null,"水5",{"$f":"E2733&\"-\"&COUNTIF(E$1:E2733,E2733)","v":"水5-2"},"穴","水",5]
[null,null,null,null,"土5",{"$f":"E2734&\"-\"&COUNTIF(E$1:E2734,E2734)","v":"土5-1"},"矢","土",5]
[null,null,null,null,"火5",{"$f":"E2735&\"-\"&COUNTIF(E$1:E2735,E2735)","v":"火5-5"},"札","火",5]
[null,null,null,null,"水5",{"$f":"E2736&\"-\"&COUNTIF(E$1:E2736,E2736)","v":"水5-3"},"戊","水",5]
[null,null,null,null,"火5",{"$f":"E2737&\"-\"&COUNTIF(E$1:E2737,E2737)","v":"火5-6"},"尼","火",5]
[null,null,null,null,"水5",{"$f":"E2738&\"-\"&COUNTIF(E$1:E2738,E2738)","v":"水5-4"},"未","水",5]
[null,null,null,null,"火5",{"$f":"E2739&\"-\"&COUNTIF(E$1:E2739,E2739)","v":"火5-7"},"台","火",5]
[null,null,null,null,"水5",{"$f":"E2740&\"-\"&COUNTIF(E$1:E2740,E2740)","v":"水5-5"},"母","水",5]
[null,null,null,null,"木5",{"$f":"E2741&\"-\"&COUNTIF(E$1:E2741,E2741)","v":"木5-3"},"巨","木",5]
[null,null,null,null,"水5",{"$f":"E2742&\"-\"&COUNTIF(E$1:E2742,E2742)","v":"水5-6"},"匆","水",5]
[null,null,null,null,"金5",{"$f":"E2743&\"-\"&COUNTIF(E$1:E2743,E2743)","v":"金5-2"},"石","金",5]
[null,null,null,null,"木5",{"$f":"E2744&\"-\"&COUNTIF(E$1:E2744,E2744)","v":"木5-4"},"外","木",5]
[null,null,null,null,"金5",{"$f":"E2745&\"-\"&COUNTIF(E$1:E2745,E2745)","v":"金5-3"},"示","金",5]
[null,null,null,null,"水5",{"$f":"E2746&\"-\"&COUNTIF(E$1:E2746,E2746)","v":"水5-7"},"皿","水",5]
[null,null,null,null,"水5",{"$f":"E2747&\"-\"&COUNTIF(E$1:E2747,E2747)","v":"水5-8"},"末","水",5]
[null,null,null,null,"水5",{"$f":"E2748&\"-\"&COUNTIF(E$1:E2748,E2748)","v":"水5-9"},"弗","水",5]
[null,null,null,null,"土5",{"$f":"E2749&\"-\"&COUNTIF(E$1:E2749,E2749)","v":"土5-2"},"幼","土",5]
[null,null,null,null,"火5",{"$f":"E2750&\"-\"&COUNTIF(E$1:E2750,E2750)","v":"火5-8"},"召","火",5]
[null,null,null,null,"木5",{"$f":"E2751&\"-\"&COUNTIF(E$1:E2751,E2751)","v":"木5-5"},"句","木",5]
[null,null,null,null,"土5",{"$f":"E2752&\"-\"&COUNTIF(E$1:E2752,E2752)","v":"土5-3"},"瓦","土",5]
[null,null,null,null,"水5",{"$f":"E2753&\"-\"&COUNTIF(E$1:E2753,E2753)","v":"水5-10"},"北","水",5]
[null,null,null,null,{"$f":"H2754&I2754","v":"水5"},{"$f":"E2754&\"-\"&COUNTIF(E$1:E2754,E2754)","v":"水5-11"},"卯","水",5]
[null,null,null,null,"水5",{"$f":"E2755&\"-\"&COUNTIF(E$1:E2755,E2755)","v":"水5-12"},"疋","水",5]
[null,null,null,null,"水5",{"$f":"E2756&\"-\"&COUNTIF(E$1:E2756,E2756)","v":"水5-13"},"兄","水",5]
[null,null,null,null,"水5",{"$f":"E2757&\"-\"&COUNTIF(E$1:E2757,E2757)","v":"水5-14"},"半","水",5]
[null,null,null,null,"火5",{"$f":"E2758&\"-\"&COUNTIF(E$1:E2758,E2758)","v":"火5-9"},"令","火",5]
[null,null,null,null,"火5",{"$f":"E2759&\"-\"&COUNTIF(E$1:E2759,E2759)","v":"火5-10"},"他","火",5]
[null,null,null,null,"土5",{"$f":"E2760&\"-\"&COUNTIF(E$1:E2760,E2760)","v":"土5-4"},"仔","土",5]
[null,null,null,null,"金5",{"$f":"E2761&\"-\"&COUNTIF(E$1:E2761,E2761)","v":"金5-4"},"且","金",5]
[null,null,null,null,"木5",{"$f":"E2762&\"-\"&COUNTIF(E$1:E2762,E2762)","v":"木5-6"},"丘","木",5]
[null,null,null,null,"木5",{"$f":"E2763&\"-\"&COUNTIF(E$1:E2763,E2763)","v":"木5-7"},"甘","木",5]
[null,null,null,null,"水5",{"$f":"E2764&\"-\"&COUNTIF(E$1:E2764,E2764)","v":"水5-15"},"弁","水",5]
[null,null,null,null,"金5",{"$f":"E2765&\"-\"&COUNTIF(E$1:E2765,E2765)","v":"金5-5"},"尻","金",5]
[null,null,null,null,"水5",{"$f":"E2766&\"-\"&COUNTIF(E$1:E2766,E2766)","v":"水5-16"},"本","水",5]
[null,null,null,null,"木5",{"$f":"E2767&\"-\"&COUNTIF(E$1:E2767,E2767)","v":"木5-8"},"瓜","木",5]
[null,null,null,null,"水5",{"$f":"E2768&\"-\"&COUNTIF(E$1:E2768,E2768)","v":"水5-17"},"禾","水",5]
[null,null,null,null,"土5",{"$f":"E2769&\"-\"&COUNTIF(E$1:E2769,E2769)","v":"土5-5"},"以","土",5]
[null,null,null,null,"金5",{"$f":"E2770&\"-\"&COUNTIF(E$1:E2770,E2770)","v":"金5-6"},"什","金",5]
[null,null,null,null,"火5",{"$f":"E2771&\"-\"&COUNTIF(E$1:E2771,E2771)","v":"火5-11"},"叮","火",5]
[null,null,null,null,"金5",{"$f":"E2772&\"-\"&COUNTIF(E$1:E2772,E2772)","v":"金5-7"},"出","金",5]
[null,null,null,null,"木5",{"$f":"E2773&\"-\"&COUNTIF(E$1:E2773,E2773)","v":"木5-9"},"功","木",5]
[null,null,null,null,"水5",{"$f":"E2774&\"-\"&COUNTIF(E$1:E2774,E2774)","v":"水5-18"},"包","水",5]
[null,null,null,null,"水5",{"$f":"E2775&\"-\"&COUNTIF(E$1:E2775,E2775)","v":"水5-19"},"目","水",5]
[null,null,null,null,"水5",{"$f":"E2776&\"-\"&COUNTIF(E$1:E2776,E2776)","v":"水5-20"},"必","水",5]
[null,null,null,null,"金5",{"$f":"E2777&\"-\"&COUNTIF(E$1:E2777,E2777)","v":"金5-8"},"司","金",5]
[null,null,null,null,"火5",{"$f":"E2778&\"-\"&COUNTIF(E$1:E2778,E2778)","v":"火5-12"},"田","火",5]
[null,null,null,null,"火5",{"$f":"E2779&\"-\"&COUNTIF(E$1:E2779,E2779)","v":"火5-13"},"立","火",5]
[null,null,null,null,"木5",{"$f":"E2780&\"-\"&COUNTIF(E$1:E2780,E2780)","v":"木5-10"},"刊","木",5]
[null,null,null,null,"金5",{"$f":"E2781&\"-\"&COUNTIF(E$1:E2781,E2781)","v":"金5-9"},"市","金",5]
[null,null,null,null,"金5",{"$f":"E2782&\"-\"&COUNTIF(E$1:E2782,E2782)","v":"金5-10"},"世","金",5]
[null,null,null,null,"水5",{"$f":"E2783&\"-\"&COUNTIF(E$1:E2783,E2783)","v":"水5-21"},"叶","水",5]
[null,null,null,null,"金5",{"$f":"E2784&\"-\"&COUNTIF(E$1:E2784,E2784)","v":"金5-11"},"四","金",5]
[null,null,null,null,"水5",{"$f":"E2785&\"-\"&COUNTIF(E$1:E2785,E2785)","v":"水5-22"},"白","水",5]
[null,null,null,null,"火5",{"$f":"E2786&\"-\"&COUNTIF(E$1:E2786,E2786)","v":"火5-14"},"冬","火",5]
[null,null,null,null,"水5",{"$f":"E2787&\"-\"&COUNTIF(E$1:E2787,E2787)","v":"水5-23"},"丙","水",5]
[null,null,null,null,"金5",{"$f":"E2788&\"-\"&COUNTIF(E$1:E2788,E2788)","v":"金5-12"},"仕","金",5]
[null,null,null,null,"金5",{"$f":"E2789&\"-\"&COUNTIF(E$1:E2789,E2789)","v":"金5-13"},"申","金",5]
[null,null,null,null,"火5",{"$f":"E2790&\"-\"&COUNTIF(E$1:E2790,E2790)","v":"火5-15"},"主","火",5]
[null,null,null,null,"土5",{"$f":"E2791&\"-\"&COUNTIF(E$1:E2791,E2791)","v":"土5-6"},"永","土",5]
[null,null,null,null,"木5",{"$f":"E2792&\"-\"&COUNTIF(E$1:E2792,E2792)","v":"木5-11"},"可","木",5]
[null,null,null,null,"木5",{"$f":"E2793&\"-\"&COUNTIF(E$1:E2793,E2793)","v":"木5-12"},"甲","木",5]
[null,null,null,null,"水5",{"$f":"E2794&\"-\"&COUNTIF(E$1:E2794,E2794)","v":"水5-24"},"玄","水",5]
[null,null,null,null,"木5",{"$f":"E2795&\"-\"&COUNTIF(E$1:E2795,E2795)","v":"木5-13"},"付","木",5]
[null,null,null,null,"水5",{"$f":"E2796&\"-\"&COUNTIF(E$1:E2796,E2796)","v":"水5-25"},"丕","水",5]
[null,null,null,null,"木5",{"$f":"E2797&\"-\"&COUNTIF(E$1:E2797,E2797)","v":"木5-14"},"玉","木",5]
[null,null,null,null,"金5",{"$f":"E2798&\"-\"&COUNTIF(E$1:E2798,E2798)","v":"金5-14"},"册","金",5]
[null,null,null,null,"木5",{"$f":"E2799&\"-\"&COUNTIF(E$1:E2799,E2799)","v":"木5-15"},"卉","木",5]
[null,null,null,null,"金5",{"$f":"E2800&\"-\"&COUNTIF(E$1:E2800,E2800)","v":"金5-15"},"占","金",5]
[null,null,null,null,"火5",{"$f":"E2801&\"-\"&COUNTIF(E$1:E2801,E2801)","v":"火5-16"},"只","火",5]
[null,null,null,null,"金5",{"$f":"E2802&\"-\"&COUNTIF(E$1:E2802,E2802)","v":"金5-16"},"仙","金",5]
[null,null,null,null,"火5",{"$f":"E2803&\"-\"&COUNTIF(E$1:E2803,E2803)","v":"火5-17"},"旦","火",5]
[null,null,null,null,"水5",{"$f":"E2804&\"-\"&COUNTIF(E$1:E2804,E2804)","v":"水5-26"},"皮","水",5]
[null,null,null,null,"木5",{"$f":"E2805&\"-\"&COUNTIF(E$1:E2805,E2805)","v":"木5-16"},"加","木",5]
[null,null,null,null,"水5",{"$f":"E2806&\"-\"&COUNTIF(E$1:E2806,E2806)","v":"水5-27"},"平","水",5]
[null,null,null,null,"土5",{"$f":"E2807&\"-\"&COUNTIF(E$1:E2807,E2807)","v":"土5-7"},"用","土",5]
[null,null,null,null,"金5",{"$f":"E2808&\"-\"&COUNTIF(E$1:E2808,E2808)","v":"金5-17"},"史","金",5]
[null,null,null,null,"火5",{"$f":"E2809&\"-\"&COUNTIF(E$1:E2809,E2809)","v":"火5-18"},"代","火",5]
[null,null,null,null,"水5",{"$f":"E2810&\"-\"&COUNTIF(E$1:E2810,E2810)","v":"水5-28"},"布","水",5]
[null,null,null,null,"水5",{"$f":"E2811&\"-\"&COUNTIF(E$1:E2811,E2811)","v":"水5-29"},"弘","水",5]
[null,null,null,null,"火5",{"$f":"E2812&\"-\"&COUNTIF(E$1:E2812,E2812)","v":"火5-19"},"正","火",5]
[null,null,null,null,"水5",{"$f":"E2813&\"-\"&COUNTIF(E$1:E2813,E2813)","v":"水5-30"},"民","水",5]
[null,null,null,null,"木5",{"$f":"E2814&\"-\"&COUNTIF(E$1:E2814,E2814)","v":"木5-17"},"古","木",5]
[null,null,null,null,"土5",{"$f":"E2815&\"-\"&COUNTIF(E$1:E2815,E2815)","v":"土5-8"},"由","土",5]
[null,null,null,null,"土5",{"$f":"E2816&\"-\"&COUNTIF(E$1:E2816,E2816)","v":"土5-9"},"央","土",5]
[null,null,null,null,"金5",{"$f":"E2817&\"-\"&COUNTIF(E$1:E2817,E2817)","v":"金5-18"},"生","金",5]
[null,null,null,null,{"$f":"H2818&I2818","v":"金5"},{"$f":"E2818&\"-\"&COUNTIF(E$1:E2818,E2818)","v":"金5-19"},"左","金",5]
[null,null,null,null,"土5",{"$f":"E2819&\"-\"&COUNTIF(E$1:E2819,E2819)","v":"土5-10"},"右","土",5]
[null,null,null,null,"金4",{"$f":"E2820&\"-\"&COUNTIF(E$1:E2820,E2820)","v":"金4-1"},"尺","金",4]
[null,null,null,null,"金4",{"$f":"E2821&\"-\"&COUNTIF(E$1:E2821,E2821)","v":"金4-2"},"切","金",4]
[null,null,null,null,"水4",{"$f":"E2822&\"-\"&COUNTIF(E$1:E2822,E2822)","v":"水4-1"},"不","水",4]
[null,null,null,null,"木4",{"$f":"E2823&\"-\"&COUNTIF(E$1:E2823,E2823)","v":"木4-1"},"牙","木",4]
[null,null,null,null,"水4",{"$f":"E2824&\"-\"&COUNTIF(E$1:E2824,E2824)","v":"水4-2"},"幻","水",4]
[null,null,null,null,"木4",{"$f":"E2825&\"-\"&COUNTIF(E$1:E2825,E2825)","v":"木4-2"},"斤","木",4]
[null,null,null,null,"火4",{"$f":"E2826&\"-\"&COUNTIF(E$1:E2826,E2826)","v":"火4-1"},"之","火",4]
[null,null,null,null,"木4",{"$f":"E2827&\"-\"&COUNTIF(E$1:E2827,E2827)","v":"木4-3"},"犬","木",4]
[null,null,null,null,"金4",{"$f":"E2828&\"-\"&COUNTIF(E$1:E2828,E2828)","v":"金4-3"},"片","金",4]
[null,null,null,null,"水4",{"$f":"E2829&\"-\"&COUNTIF(E$1:E2829,E2829)","v":"水4-3"},"火","水",4]
[null,null,null,null,"火4",{"$f":"E2830&\"-\"&COUNTIF(E$1:E2830,E2830)","v":"火4-2"},"止","火",4]
[null,null,null,null,"水4",{"$f":"E2831&\"-\"&COUNTIF(E$1:E2831,E2831)","v":"水4-4"},"父","水",4]
[null,null,null,null,"水4",{"$f":"E2832&\"-\"&COUNTIF(E$1:E2832,E2832)","v":"水4-5"},"毛","水",4]
[null,null,null,null,"木4",{"$f":"E2833&\"-\"&COUNTIF(E$1:E2833,E2833)","v":"木4-4"},"欠","木",4]
[null,null,null,null,"土4",{"$f":"E2834&\"-\"&COUNTIF(E$1:E2834,E2834)","v":"土4-1"},"曰","土",4]
[null,null,null,null,"木4",{"$f":"E2835&\"-\"&COUNTIF(E$1:E2835,E2835)","v":"木4-5"},"爪","木",4]
[null,null,null,null,"火4",{"$f":"E2836&\"-\"&COUNTIF(E$1:E2836,E2836)","v":"火4-3"},"支","火",4]
[null,null,null,null,"火4",{"$f":"E2837&\"-\"&COUNTIF(E$1:E2837,E2837)","v":"火4-4"},"弔","火",4]
[null,null,null,null,"土4",{"$f":"E2838&\"-\"&COUNTIF(E$1:E2838,E2838)","v":"土4-2"},"厄","土",4]
[null,null,null,null,"土4",{"$f":"E2839&\"-\"&COUNTIF(E$1:E2839,E2839)","v":"土4-3"},"尤","土",4]
[null,null,null,null,"水4",{"$f":"E2840&\"-\"&COUNTIF(E$1:E2840,E2840)","v":"水4-6"},"户","水",4]
[null,null,null,null,"水4",{"$f":"E2841&\"-\"&COUNTIF(E$1:E2841,E2841)","v":"水4-7"},"歹","水",4]
[null,null,null,null,"土4",{"$f":"E2842&\"-\"&COUNTIF(E$1:E2842,E2842)","v":"土4-4"},"引","土",4]
[null,null,null,null,"水4",{"$f":"E2843&\"-\"&COUNTIF(E$1:E2843,E2843)","v":"水4-8"},"反","水",4]
[null,null,null,null,"水4",{"$f":"E2844&\"-\"&COUNTIF(E$1:E2844,E2844)","v":"水4-9"},"勿","水",4]
[null,null,null,null,"水4",{"$f":"E2845&\"-\"&COUNTIF(E$1:E2845,E2845)","v":"水4-10"},"比","水",4]
[null,null,null,null,"金4",{"$f":"E2846&\"-\"&COUNTIF(E$1:E2846,E2846)","v":"金4-4"},"手","金",4]
[null,null,null,null,"木4",{"$f":"E2847&\"-\"&COUNTIF(E$1:E2847,E2847)","v":"木4-6"},"卞","木",4]
[null,null,null,null,"水4",{"$f":"E2848&\"-\"&COUNTIF(E$1:E2848,E2848)","v":"水4-11"},"分","水",4]
[null,null,null,null,"水4",{"$f":"E2849&\"-\"&COUNTIF(E$1:E2849,E2849)","v":"水4-12"},"互","水",4]
[null,null,null,null,"木4",{"$f":"E2850&\"-\"&COUNTIF(E$1:E2850,E2850)","v":"木4-7"},"亢","木",4]
[null,null,null,null,"金4",{"$f":"E2851&\"-\"&COUNTIF(E$1:E2851,E2851)","v":"金4-5"},"仇","金",4]
[null,null,null,null,"木4",{"$f":"E2852&\"-\"&COUNTIF(E$1:E2852,E2852)","v":"木4-8"},"今","木",4]
[null,null,null,null,"火4",{"$f":"E2853&\"-\"&COUNTIF(E$1:E2853,E2853)","v":"火4-5"},"井","火",4]
[null,null,null,null,"火4",{"$f":"E2854&\"-\"&COUNTIF(E$1:E2854,E2854)","v":"火4-6"},"丹","火",4]
[null,null,null,null,"木4",{"$f":"E2855&\"-\"&COUNTIF(E$1:E2855,E2855)","v":"木4-9"},"云","木",4]
[null,null,null,null,"木4",{"$f":"E2856&\"-\"&COUNTIF(E$1:E2856,E2856)","v":"木4-10"},"孔","木",4]
[null,null,null,null,"火4",{"$f":"E2857&\"-\"&COUNTIF(E$1:E2857,E2857)","v":"火4-7"},"勻","火",4]
[null,null,null,null,"木4",{"$f":"E2858&\"-\"&COUNTIF(E$1:E2858,E2858)","v":"木4-11"},"戈","木",4]
[null,null,null,null,"金4",{"$f":"E2859&\"-\"&COUNTIF(E$1:E2859,E2859)","v":"金4-6"},"水","金",4]
[null,null,null,null,"木4",{"$f":"E2860&\"-\"&COUNTIF(E$1:E2860,E2860)","v":"木4-12"},"及","木",4]
[null,null,null,null,"水4",{"$f":"E2861&\"-\"&COUNTIF(E$1:E2861,E2861)","v":"水4-13"},"方","水",4]
[null,null,null,null,"金4",{"$f":"E2862&\"-\"&COUNTIF(E$1:E2862,E2862)","v":"金4-7"},"什","金",4]
[null,null,null,null,"水4",{"$f":"E2863&\"-\"&COUNTIF(E$1:E2863,E2863)","v":"水4-14"},"木","水",4]
[null,null,null,null,"木4",{"$f":"E2864&\"-\"&COUNTIF(E$1:E2864,E2864)","v":"木4-13"},"元","木",4]
[null,null,null,null,"火4",{"$f":"E2865&\"-\"&COUNTIF(E$1:E2865,E2865)","v":"火4-8"},"屯","火",4]
[null,null,null,null,"火4",{"$f":"E2866&\"-\"&COUNTIF(E$1:E2866,E2866)","v":"火4-9"},"太","火",4]
[null,null,null,null,"土4",{"$f":"E2867&\"-\"&COUNTIF(E$1:E2867,E2867)","v":"土4-5"},"友","土",4]
[null,null,null,null,"火4",{"$f":"E2868&\"-\"&COUNTIF(E$1:E2868,E2868)","v":"火4-10"},"内","火",4]
[null,null,null,null,"火4",{"$f":"E2869&\"-\"&COUNTIF(E$1:E2869,E2869)","v":"火4-11"},"斗","火",4]
[null,null,null,null,"水4",{"$f":"E2870&\"-\"&COUNTIF(E$1:E2870,E2870)","v":"水4-15"},"文","水",4]
[null,null,null,null,"火4",{"$f":"E2871&\"-\"&COUNTIF(E$1:E2871,E2871)","v":"火4-12"},"丑","火",4]
[null,null,null,null,"金4",{"$f":"E2872&\"-\"&COUNTIF(E$1:E2872,E2872)","v":"金4-8"},"心","金",4]
[null,null,null,null,"火4",{"$f":"E2873&\"-\"&COUNTIF(E$1:E2873,E2873)","v":"火4-13"},"日","火",4]
[null,null,null,null,"火4",{"$f":"E2874&\"-\"&COUNTIF(E$1:E2874,E2874)","v":"火4-14"},"中","火",4]
[null,null,null,null,"水4",{"$f":"E2875&\"-\"&COUNTIF(E$1:E2875,E2875)","v":"水4-16"},"巴","水",4]
[null,null,null,null,"木4",{"$f":"E2876&\"-\"&COUNTIF(E$1:E2876,E2876)","v":"木4-14"},"月","木",4]
[null,null,null,null,"木4",{"$f":"E2877&\"-\"&COUNTIF(E$1:E2877,E2877)","v":"木4-15"},"公","木",4]
[null,null,null,null,"木4",{"$f":"E2878&\"-\"&COUNTIF(E$1:E2878,E2878)","v":"木4-16"},"五","木",4]
[null,null,null,null,"土4",{"$f":"E2879&\"-\"&COUNTIF(E$1:E2879,E2879)","v":"土4-6"},"王","土",4]
[null,null,null,null,"木4",{"$f":"E2880&\"-\"&COUNTIF(E$1:E2880,E2880)","v":"木4-17"},"牛","木",4]
[null,null,null,null,"水4",{"$f":"E2881&\"-\"&COUNTIF(E$1:E2881,E2881)","v":"水4-17"},"丰","水",4]
[null,null,null,null,{"$f":"H2882&I2882","v":"土4"},{"$f":"E2882&\"-\"&COUNTIF(E$1:E2882,E2882)","v":"土4-7"},"允","土",4]
[null,null,null,null,"金4",{"$f":"E2883&\"-\"&COUNTIF(E$1:E2883,E2883)","v":"金4-9"},"壬","金",4]
[null,null,null,null,"金4",{"$f":"E2884&\"-\"&COUNTIF(E$1:E2884,E2884)","v":"金4-10"},"氏","金",4]
[null,null,null,null,"金4",{"$f":"E2885&\"-\"&COUNTIF(E$1:E2885,E2885)","v":"金4-11"},"升","金",4]
[null,null,null,null,"火4",{"$f":"E2886&\"-\"&COUNTIF(E$1:E2886,E2886)","v":"火4-15"},"六","火",4]
[null,null,null,null,"木4",{"$f":"E2887&\"-\"&COUNTIF(E$1:E2887,E2887)","v":"木4-18"},"午","木",4]
[null,null,null,null,"土4",{"$f":"E2888&\"-\"&COUNTIF(E$1:E2888,E2888)","v":"土4-8"},"尹","土",4]
[null,null,null,null,"木4",{"$f":"E2889&\"-\"&COUNTIF(E$1:E2889,E2889)","v":"木4-19"},"介","木",4]
[null,null,null,null,"金4",{"$f":"E2890&\"-\"&COUNTIF(E$1:E2890,E2890)","v":"金4-12"},"仁","金",4]
[null,null,null,null,"水4",{"$f":"E2891&\"-\"&COUNTIF(E$1:E2891,E2891)","v":"水4-18"},"匹","水",4]
[null,null,null,null,"水4",{"$f":"E2892&\"-\"&COUNTIF(E$1:E2892,E2892)","v":"水4-19"},"夫","水",4]
[null,null,null,null,"水4",{"$f":"E2893&\"-\"&COUNTIF(E$1:E2893,E2893)","v":"水4-20"},"予","水",4]
[null,null,null,null,"水4",{"$f":"E2894&\"-\"&COUNTIF(E$1:E2894,E2894)","v":"水4-21"},"化","水",4]
[null,null,null,null,"火4",{"$f":"E2895&\"-\"&COUNTIF(E$1:E2895,E2895)","v":"火4-16"},"天","火",4]
[null,null,null,null,"火3",{"$f":"E2896&\"-\"&COUNTIF(E$1:E2896,E2896)","v":"火3-1"},"孑","火",3]
[null,null,null,null,"木3",{"$f":"E2897&\"-\"&COUNTIF(E$1:E2897,E2897)","v":"木3-1"},"弓","木",3]
[null,null,null,null,"土3",{"$f":"E2898&\"-\"&COUNTIF(E$1:E2898,E2898)","v":"土3-1"},"丸","土",3]
[null,null,null,null,"木3",{"$f":"E2899&\"-\"&COUNTIF(E$1:E2899,E2899)","v":"木3-2"},"干","木",3]
[null,null,null,null,"水3",{"$f":"E2900&\"-\"&COUNTIF(E$1:E2900,E2900)","v":"水3-1"},"凡","水",3]
[null,null,null,null,"木3",{"$f":"E2901&\"-\"&COUNTIF(E$1:E2901,E2901)","v":"木3-3"},"乞","木",3]
[null,null,null,null,"水3",{"$f":"E2902&\"-\"&COUNTIF(E$1:E2902,E2902)","v":"水3-2"},"亡","水",3]
[null,null,null,null,"金3",{"$f":"E2903&\"-\"&COUNTIF(E$1:E2903,E2903)","v":"金3-1"},"夕","金",3]
[null,null,null,null,"水3",{"$f":"E2904&\"-\"&COUNTIF(E$1:E2904,E2904)","v":"水3-3"},"个","水",3]
[null,null,null,null,"木3",{"$f":"E2905&\"-\"&COUNTIF(E$1:E2905,E2905)","v":"木3-4"},"口","木",3]
[null,null,null,null,"金3",{"$f":"E2906&\"-\"&COUNTIF(E$1:E2906,E2906)","v":"金3-2"},"刃","金",3]
[null,null,null,null,"土3",{"$f":"E2907&\"-\"&COUNTIF(E$1:E2907,E2907)","v":"土3-2"},"于","土",3]
[null,null,null,null,"木3",{"$f":"E2908&\"-\"&COUNTIF(E$1:E2908,E2908)","v":"木3-5"},"工","木",3]
[null,null,null,null,"木3",{"$f":"E2909&\"-\"&COUNTIF(E$1:E2909,E2909)","v":"木3-6"},"己","木",3]
[null,null,null,null,"火3",{"$f":"E2910&\"-\"&COUNTIF(E$1:E2910,E2910)","v":"火3-2"},"巳","火",3]
[null,null,null,null,"火3",{"$f":"E2911&\"-\"&COUNTIF(E$1:E2911,E2911)","v":"火3-3"},"女","火",3]
[null,null,null,null,"金3",{"$f":"E2912&\"-\"&COUNTIF(E$1:E2912,E2912)","v":"金3-3"},"寸","金",3]
[null,null,null,null,"木3",{"$f":"E2913&\"-\"&COUNTIF(E$1:E2913,E2913)","v":"木3-7"},"久","木",3]
[null,null,null,null,"火3",{"$f":"E2914&\"-\"&COUNTIF(E$1:E2914,E2914)","v":"火3-4"},"弋","火",3]
[null,null,null,null,"金3",{"$f":"E2915&\"-\"&COUNTIF(E$1:E2915,E2915)","v":"金3-4"},"才","金",3]
[null,null,null,null,"土3",{"$f":"E2916&\"-\"&COUNTIF(E$1:E2916,E2916)","v":"土3-3"},"也","土",3]
[null,null,null,null,"火3",{"$f":"E2917&\"-\"&COUNTIF(E$1:E2917,E2917)","v":"火3-5"},"土","火",3]
[null,null,null,null,"水3",{"$f":"E2918&\"-\"&COUNTIF(E$1:E2918,E2918)","v":"水3-4"},"下","水",3]
[null,null,null,null,"金3",{"$f":"E2919&\"-\"&COUNTIF(E$1:E2919,E2919)","v":"金3-5"},"上","金",3]
[null,null,null,null,"火3",{"$f":"E2920&\"-\"&COUNTIF(E$1:E2920,E2920)","v":"火3-6"},"子","火",3]
[null,null,null,null,"金3",{"$f":"E2921&\"-\"&COUNTIF(E$1:E2921,E2921)","v":"金3-6"},"山","金",3]
[null,null,null,null,"金3",{"$f":"E2922&\"-\"&COUNTIF(E$1:E2922,E2922)","v":"金3-7"},"川","金",3]
[null,null,null,null,"金3",{"$f":"E2923&\"-\"&COUNTIF(E$1:E2923,E2923)","v":"金3-8"},"士","金",3]
[null,null,null,null,"金3",{"$f":"E2924&\"-\"&COUNTIF(E$1:E2924,E2924)","v":"金3-9"},"千","金",3]
[null,null,null,null,"水3",{"$f":"E2925&\"-\"&COUNTIF(E$1:E2925,E2925)","v":"水3-5"},"万","水",3]
[null,null,null,null,"火3",{"$f":"E2926&\"-\"&COUNTIF(E$1:E2926,E2926)","v":"火3-7"},"大","火",3]
[null,null,null,null,"金3",{"$f":"E2927&\"-\"&COUNTIF(E$1:E2927,E2927)","v":"金3-10"},"小","金",3]
[null,null,null,null,"金3",{"$f":"E2928&\"-\"&COUNTIF(E$1:E2928,E2928)","v":"金3-11"},"三","金",3]
[null,null,null,null,"水2",{"$f":"E2929&\"-\"&COUNTIF(E$1:E2929,E2929)","v":"水2-1"},"几","水",2]
[null,null,null,null,"火2",{"$f":"E2930&\"-\"&COUNTIF(E$1:E2930,E2930)","v":"火2-1"},"乃","火",2]
[null,null,null,null,"土2",{"$f":"E2931&\"-\"&COUNTIF(E$1:E2931,E2931)","v":"土2-1"},"又","土",2]
[null,null,null,null,"木2",{"$f":"E2932&\"-\"&COUNTIF(E$1:E2932,E2932)","v":"木2-1"},"九","木",2]
[null,null,null,null,"金2",{"$f":"E2933&\"-\"&COUNTIF(E$1:E2933,E2933)","v":"金2-1"},"入","金",2]
[null,null,null,null,"金2",{"$f":"E2934&\"-\"&COUNTIF(E$1:E2934,E2934)","v":"金2-2"},"十","金",2]
[null,null,null,null,"水2",{"$f":"E2935&\"-\"&COUNTIF(E$1:E2935,E2935)","v":"水2-2"},"卜","水",2]
[null,null,null,null,"火2",{"$f":"E2936&\"-\"&COUNTIF(E$1:E2936,E2936)","v":"火2-2"},"力","火",2]
[null,null,null,null,"火2",{"$f":"E2937&\"-\"&COUNTIF(E$1:E2937,E2937)","v":"火2-3"},"了","火",2]
[null,null,null,null,"火2",{"$f":"E2938&\"-\"&COUNTIF(E$1:E2938,E2938)","v":"火2-4"},"丁","火",2]
[null,null,null,null,"火2",{"$f":"E2939&\"-\"&COUNTIF(E$1:E2939,E2939)","v":"火2-5"},"刀","火",2]
[null,null,null,null,"金2",{"$f":"E2940&\"-\"&COUNTIF(E$1:E2940,E2940)","v":"金2-3"},"人","金",2]
[null,null,null,null,"火2",{"$f":"E2941&\"-\"&COUNTIF(E$1:E2941,E2941)","v":"火2-6"},"二","火",2]
[null,null,null,null,"水2",{"$f":"E2942&\"-\"&COUNTIF(E$1:E2942,E2942)","v":"水2-3"},"八","水",2]
[null,null,null,null,"金2",{"$f":"E2943&\"-\"&COUNTIF(E$1:E2943,E2943)","v":"金2-4"},"七","金",2]
[null,null,null,null,"土1",{"$f":"E2944&\"-\"&COUNTIF(E$1:E2944,E2944)","v":"土1-1"},"一","土",1]
[null,null,null,null,"土1",{"$f":"E2945&\"-\"&COUNTIF(E$1:E2945,E2945)","v":"土1-2"},"乙","土",1]

{"sheet":"工作表2","index":5,"n_rows":18,"n_cols":20,"rows_kept":18,"cut":false,"hidden":true,"merged":[]}
[null,{"$f":"D3-1","v":7},{"$f":"E3-1","v":3},{"$f":"D5-1","v":3},{"$f":"E5-1","v":-1},{"$f":"B3-1","v":5},{"$f":"C3-1","v":1},null,null,{"$f":"L3-1","v":{"$error":"#N/A"}},null,{"$f":"L5-1","v":{"$error":"#N/A"}},null,{"$f":"J3-1","v":{"$error":"#N/A"}},null,{"$f":"R3-1","v":{"$error":"#N/A"}},null,{"$f":"R5-1","v":{"$error":"#N/A"}},null,{"$f":"P3-1","v":{"$error":"#N/A"}}]
[]
[null,{"$f":"B1-1","v":6},{"$f":"C1-1","v":2},{"$f":"input!J3","v":8},{"$f":"+input!O13","v":4},{"$f":"B5-1","v":1},{"$f":"C5-1","v":-3},null,null,{"$f":"J1-1","v":{"$error":"#N/A"}},null,{"$f":"input!M11","v":{"$error":"#N/A"}},null,{"$f":"J5-1","v":{"$error":"#N/A"}},null,{"$f":"P1-1","v":{"$error":"#N/A"}},null,{"$f":"input!O11","v":{"$error":"#N/A"}},null,{"$f":"P5-1","v":{"$error":"#N/A"}}]
[]
[null,{"$f":"D1-1","v":2},{"$f":"E1-1","v":-2},{"$f":"F1-1","v":4},{"$f":"G1-1","v":0},{"$f":"F3-1","v":0},{"$f":"G3-1","v":-4},null,null,{"$f":"L1-1","v":{"$error":"#N/A"}},null,{"$f":"N1-1","v":{"$error":"#N/A"}},null,{"$f":"N3-1","v":{"$error":"#N/A"}},null,{"$f":"R1-1","v":{"$error":"#N/A"}},null,{"$f":"T1-1","v":{"$error":"#N/A"}},null,{"$f":"T3-1","v":{"$error":"#N/A"}}]
[]
[{"$f":"input!$C11","v":"巽"},{"$f":"input!$C12","v":"已"},{"$f":"input!$C13","v":"丙"},{"$f":"input!$C14","v":"午"},{"$f":"input!$C15","v":"丁"},{"$f":"input!$C16","v":"未"},null,{"$f":"input!$C17","v":"坤"}]
[{"$f":"input!$C10","v":"辰"},{"$f":"IF(input!$M$10=\"o\",J1,J9)","v":{"$error":"#N/A"}},{"$f":"IF(input!$O$10=\"x\",P9,P1)","v":{"$error":"#N/A"}},{"$f":"IF(input!$M$10=\"o\",L1,L9)","v":{"$error":"#N/A"}},{"$f":"IF(input!$O$10=\"x\",R9,R1)","v":{"$error":"#N/A"}},{"$f":"IF(input!$M$10=\"o\",N1,N9)","v":{"$error":"#N/A"}},{"$f":"IF(input!$O$10=\"x\",T9,T1)","v":{"$error":"#N/A"}},{"$f":"input!$C18","v":"申"}]
[null,{"$f":"IF(B1<1,9+B1,B1)","v":7},3,{"$f":"IF(D1<1,9+D1,D1)","v":3},{"$f":"IF(E1<1,9+E1,E1)","v":8},5,1,null,null,{"$f":"L11+1","v":{"$error":"#N/A"}},null,{"$f":"L13+1","v":{"$error":"#N/A"}},null,{"$f":"J11+1","v":{"$error":"#N/A"}},null,{"$f":"R11+1","v":{"$error":"#N/A"}},null,{"$f":"R13+1","v":{"$error":"#N/A"}},null,{"$f":"P11+1","v":{"$error":"#N/A"}}]
[{"$f":"input!$C9","v":"乙"},{"$f":"IF(input!$M$10=\"o\",J3,J11)","v":{"$error":"#N/A"}},{"$f":"IF(input!$O$10=\"x\",P11,P3)","v":{"$error":"#N/A"}},{"$f":"L3","v":{"$error":"#N/A"}},{"$f":"R3","v":{"$error":"#N/A"}},{"$f":"IF(input!$M$10=\"o\",N3,N11)","v":{"$error":"#N/A"}},{"$f":"IF(input!$O$10=\"x\",T11,T3)","v":{"$error":"#N/A"}},{"$f":"input!$C19","v":"庚"}]
[{"$f":"input!$C8","v":"卯"},{"$f":"IF(B3<1,9+B3,B3)","v":6},{"$f":"IF(C3<1,9+C3,C3)","v":2},{"$f":"D3","v":8},{"$f":"E3","v":4},{"$f":"IF(F3<1,9+F3,F3)","v":1},{"$f":"IF(G3<1,9+G3,G3)","v":6},{"$f":"input!$C20","v":"酉"},null,{"$f":"J9+1","v":{"$error":"#N/A"}},null,{"$f":"L3","v":{"$error":"#N/A"}},null,{"$f":"J13+1","v":{"$error":"#N/A"}},null,{"$f":"P9+1","v":{"$error":"#N/A"}},null,{"$f":"R3","v":{"$error":"#N/A"}},null,{"$f":"P13+1","v":{"$error":"#N/A"}}]
[{"$f":"input!$C7","v":"甲"},{"$f":"IF(input!$M$10=\"o\",J5,J13)","v":{"$error":"#N/A"}},{"$f":"IF(input!$O$10=\"x\",P13,P5)","v":{"$error":"#N/A"}},{"$f":"IF(input!$M$10=\"o\",L5,L13)","v":{"$error":"#N/A"}},{"$f":"IF(input!$O$10=\"x\",R13,R5)","v":{"$error":"#N/A"}},{"$f":"IF(input!$M$10=\"o\",N5,N13)","v":{"$error":"#N/A"}},{"$f":"IF(input!$O$10=\"x\",T13,T5)","v":{"$error":"#N/A"}},{"$f":"input!$C21","v":"辛"}]
[{"$f":"input!$C6","v":"寅"},{"$f":"IF(B5<1,9+B5,B5)","v":2},7,4,9,9,5,{"$f":"input!$C22","v":"戌"},null,{"$f":"L9+1","v":{"$error":"#N/A"}},null,{"$f":"N9+1","v":{"$error":"#N/A"}},null,{"$f":"N11+1","v":{"$error":"#N/A"}},null,{"$f":"R9+1","v":{"$error":"#N/A"}},null,{"$f":"T9+1","v":{"$error":"#N/A"}},null,{"$f":"T11+1","v":{"$error":"#N/A"}}]
[{"$f":"input!$C5","v":"艮"},{"$f":"input!$C4","v":"丑"},{"$f":"input!$C3","v":"癸"},{"$f":"input!$C2","v":"子"},{"$f":"input!C1","v":"壬"},null,{"$f":"input!$C24","v":"亥"},{"$f":"input!$C23","v":"乾"}]
[]
[{"$f":"B17-1","v":{"$error":"#N/A"}},{"$f":"B18-1","v":{"$error":"#N/A"}},{"$f":"A17-1","v":{"$error":"#N/A"}},null,{"$f":"IF(工作表2!A16<1,9+工作表2!A16,工作表2!A16)","v":{"$error":"#N/A"}},{"$f":"IF(工作表2!B16<1,9+工作表2!B16,工作表2!B16)","v":{"$error":"#N/A"}},{"$f":"IF(工作表2!C16<1,9+工作表2!C16,工作表2!C16)","v":{"$error":"#N/A"}}]
[{"$f":"A16-1","v":{"$error":"#N/A"}},{"$f":"VLOOKUP(input!J1,input!C25:I48,7,0)","v":{"$error":"#N/A"}},{"$f":"A18-1","v":{"$error":"#N/A"}},null,{"$f":"IF(工作表2!A17<1,9+工作表2!A17,工作表2!A17)","v":{"$error":"#N/A"}},{"$f":"B17","v":{"$error":"#N/A"}},{"$f":"IF(工作表2!C17<1,9+工作表2!C17,工作表2!C17)","v":{"$error":"#N/A"}}]
[{"$f":"B16-1","v":{"$error":"#N/A"}},{"$f":"C16-1","v":{"$error":"#N/A"}},{"$f":"C17-1","v":{"$error":"#N/A"}},null,{"$f":"IF(工作表2!A18<1,9+工作表2!A18,工作表2!A18)","v":{"$error":"#N/A"}},{"$f":"IF(工作表2!B18<1,9+工作表2!B18,工作表2!B18)","v":{"$error":"#N/A"}},{"$f":"IF(工作表2!C18<1,9+工作表2!C18,工作表2!C18)","v":{"$error":"#N/A"}}]

{"sheet":"Sheet1","index":6,"n_rows":85,"n_cols":13,"rows_kept":85,"cut":false,"hidden":true,"merged":[]}
[1977,{"$f":"IF((A1-1863)>300,(A1-1863-300),IF((A1-1863)>240,(A1-1863-240),IF(A1-1863>180,(A1-1863-180),IF((A1-1863)>120,(A1-1863-120),IF((A1-1863)>60,(A1-1863-60),(A1-1863))))))","v":54},"男",{"$f":"ROUND(IF(10+(INT((A1-1864)/9)-(A1-1864)/9)*9=10,1,10+(INT((A1-1864)/9)-(A1-1864)/9)*9),0)","v":5},{"$f":"VLOOKUP(B1,'60'!C$2:D$61,2,0)","v":"丁巳"},{"$f":"VLOOKUP(E1,'60'!D2:F61,3,0)","v":"土"},{"$f":"VLOOKUP(D1,input!A$52:B$60,2,0)","v":"黃"},{"$f":"VLOOKUP(D1,input!A$52:H$60,8,0)","v":"土"}]
[1984,{"$f":"IF((A1-1863)>300,(A1-1863-300),IF((A1-1863)>240,(A1-1863-240),IF(A1-1863>180,(A1-1863-180),IF((A1-1863)>120,(A1-1863-120),IF((A1-1863)>60,(A1-1863-60),(A1-1863))))))","v":54},"女",{"$f":"ROUND(IF(((A2-1868)/9-INT((A1-1868)/9))*9=0,9,((A1-1868)/9-INT((A1-1868)/9))*9),0)","v":1},{"$f":"VLOOKUP(B2,'60'!C$2:D$61,2,0)","v":"丁巳"},null,{"$f":"VLOOKUP(D2,input!A$52:B$60,2,0)","v":"白"},{"$f":"VLOOKUP(D2,input!A$52:H$60,8,0)","v":"水"}]
[]
[null,"向星","坐星","向宮","坐宮",{"$f":"input!L47","v":"乾"},{"$f":"input!$L26","v":"坎"},{"$f":"input!$L29","v":"艮"},{"$f":"input!$L32","v":"震"},{"$f":"input!$L35","v":"巽"},{"$f":"input!$L38","v":"离"},{"$f":"input!$L41","v":"坤"},{"$f":"input!$L44","v":"兌"}]
[null,1,1]
[null,1,2]
[null,1,3,null,null,null,null,null,null,null,null,"耳, 難產"]
[null,1,4,null,null,null,null,"科名",null,"41 淫","科名"]
[null,1,5,"腹瘡",null,"水",null,null,null,null,"腹瘡"]
[null,1,6,null,null,"犯伏吟"]
[null,1,7,null,null,null,null,null,"桃色"]
[null,1,8]
[null,1,9,null,"丁不安 (腎)"]
[null,{"$f":"B5+1","v":2},{"$f":"C5","v":1}]
[null,{"$f":"B6+1","v":2},{"$f":"C6","v":2},"大富",null,null,"佳"]
[null,2,3,"鬥牛殺",null,null,null,null,null,"腹, 產"]
[null,2,4,"脾胃",null,null,null,null,null,null,"生氣"]
[null,2,5,null,"損主",null,null,null,null,null,null,"損主"]
[null,2,6,null,null,null,null,null,null,"鬼怪"]
[null,2,7,null,null,null,null,null,null,null,"忌水"]
[null,2,8,"神經",null,null,null,null,"丁安"]
[null,2,9,null,null,null,null,"煞氣","佳",null,"目疾","水主凶"]
[null,3,1,"足肝",null,null,null,"肝, 腎",null,null,null,"腎"]
[null,3,2,null,"鬥牛殺"]
[null,3,3]
[null,3,4,null,null,null,null,null,null,null,"破財是非"]
[null,3,5,null,"足肝"]
[null,3,6,null,null,null,"忌水"]
[null,3,7,null,"文武權",null,null,null,null,null,null,null,"病官"]
[null,3,8,"小兒",null,null,"水主凶","小兒",null,"佳","小兒"]
[null,3,9]
[null,4,1]
[null,4,2,"病符","腹產",null,"欺姑之婦",null,null,null,null,null,"欺姑之婦"]
[null,4,3]
[null,4,4,null,null,null,null,"困頓"]
[null,4,5,"淫亂",null,null,null,"淫亂","廉貞"]
[null,4,6,null,null,null,null,null,"山貴"]
[null,4,7,"手足","刀兵","煞氣","刀兵",null,null,"刀兵","水主凶",null,"刀兵"]
[null,4,8,null,null,null,null,"小兒",null,null,null,"山貴"]
[null,4,9,null,"心目"]
[null,5,1,null,"耳, 難產","瘡毒","瘡, 黃腫",null,null,"瘡毒"]
[null,5,2,null,"瘡毒",null,null,"瘡, 黃腫"]
[null,5,3,null,null,null,null,null,"瘡毒",null,"足肝",null,"瘡毒"]
[null,5,4,null,"凶",null,null,null,null,null,null,"瘡毒"]
[null,5,5,null,null,null,null,null,null,null,"血毒, 寡"]
[null,5,6,"頭項",null,null,null,"廉貞","頭頸",null,null,"瘡毒","瘡毒"]
[null,5,7,null,null,null,"瘡, 喉"]
[null,5,8,null,null,"瘡, 血",null,null,null,"煞氣"]
[null,5,9,null,null,null,"廉貞","瘡毒","愚鈍頑夫"]
[null,6,1,null,null,null,null,null,null,null,"升官"]
[null,6,2]
[null,6,3]
[null,6,4,null,null,null,null,"頭頸",null,null,null,"頭, 項"]
[null,6,5,"甚凶",null,null,"瘡毒","瘡毒",null,"血毒","廉貞","頭項"]
[null,6,6]
[null,6,7,"交劍煞","頭, 項",null,"頭, 項",null,null,"頭"]
[null,6,8,null,null,null,null,null,null,null,"頭, 筋"]
[null,6,9,null,"血症","頭",null,"吐血","吐血",null,null,"吐血","吐血"]
[null,7,1]
[null,7,2]
[null,7,3,null,null,null,null,null,null,null,null,"穿心煞"]
[null,7,4,"筋骨","忌水","長房傷足","刀兵",null,"手足","長房傷足","刀兵",null,"刀兵"]
[null,7,5]
[null,7,6,"頭項",null,"交劍煞",null,null,null,"頭, 胸"]
[null,7,7]
[null,7,8,null,null,null,null,"神經","口舌","胸肺"]
[null,7,9,null,null,null,null,"慎防回祿","桃花",null,"心目","吐血","火災"]
[null,8,1]
[null,8,2]
[null,8,3,null,null,null,null,"小兒","小兒","小兒",null,null,"小口"]
[null,8,4,null,null,null,null,null,null,"中風"]
[null,8,5,"瘡毒",null,"瘡毒",null,null,"瘡, 血","死氣","瘡毒",null,"煞氣"]
[null,8,6,null,null,"頭, 損",null,null,null,"頭頸"]
[null,8,7,null,"丁弱",null,null,"肺喉","胸肺","口舌"]
[null,8,8,null,null,null,null,null,null,"孤獨"]
[null,8,9,null,null,null,null,null,"目, 心","困頓",null,null,"心目"]
[null,9,1]
[null,9,2,null,"心目, 慢性",null,null,"腹疾",null,"要水配合","心腹",null,"慢病"]
[null,{"$f":"B70+1","v":9},{"$f":"C70","v":3}]
[null,9,4,"心膽","丁弱",null,null,"心, 目","死氣",null,"中風"]
[null,9,5,null,null,null,null,null,null,null,null,null,"愚鈍頑夫"]
[null,9,6,"血証",null,null,null,"吐血",null,"吐血",null,"吐血"]
[null,9,7,null,null,null,null,"肺喉","吐血",null,null,"火災","吐血"]
[null,9,8,null,"困頓",null,null,null,"神經"]
[null,9,9,null,null,null,null,null,null,null,null,null,"心目"]

{"sheet":"64","index":7,"n_rows":16,"n_cols":65,"rows_kept":16,"cut":false,"hidden":true,"merged":[]}
[1,2,3,4,5,6,7,8,9,10,11,12,13,14,15,16,17,18,19,20,21,22,23,24,25,26,27,28,29,30,31,32,33,34,35,36,37,38,39,40,41,42,43,44,45,46,47,48,49,50,51,52,53,54,55,56,57,58,59,60,61,62,63,64]
["乾，元亨利貞。","坤，元亨，利牝馬之貞。君子有攸往。先迷後得，主利，西南得朋，東北喪朋，安貞吉","屯，元亨利貞，勿用有攸往，利建侯。","蒙，亨，匪我求童蒙，童蒙求我。初筮告，再三瀆，瀆則不告，利貞。","需，有孚，光亨，貞吉，利涉大川。","訟，有孚，窒惕，中吉，終凶，利見大人，不利涉大川。","師貞，丈人吉，旡咎。","比，吉，原筮元永貞，旡咎，不寧方來，後夫凶。","小畜，亨，密雲不雨，自我西郊。","履虎尾，不咥人，亨。","泰，小往大來，吉亨。","否之匪人，不利君子貞，大往小來。","同人于野，亨，利涉大川，利君子貞。","大有，元亨。","謙，亨，君子有終。","豫，利建侯、行師。","隨，元亨利貞，旡咎。","蠱，元亨，利涉大川。先甲三日，後甲三日。","臨，元亨利貞，至于八月有凶。","觀，盥而不薦，有孚顒若。","噬嗑亨，利用獄。","賁，亨小，利有攸往。","剝，不利有攸往。","復，亨，出入旡疾，朋來旡咎，反復其道，七日來復，利有攸往。","旡妄，元亨利貞。其匪正有眚，不利有攸往。","大畜，利貞，不家食，吉，利涉大川。","頤，貞吉，觀頤，自求口實。","大過，棟橈。利有攸往，亨。","習坎，有孚，維心亨，行有尚","離，利貞，亨，畜牝牛吉。","咸亨，利貞，取女吉。","恒亨，旡咎，利貞，利有攸往。","遯亨，小利貞。","大壯，利貞。","晉，康候用錫馬蕃庶，晝日三接。","明夷，利艱貞。","家人，利女貞。","睽，小事吉。","蹇，利西南，不利東北，利見大人，貞吉。","解，利西南，旡所往，其來復吉。有攸往，夙吉。","損，有孚，元吉，旡咎可貞，利有攸往，曷之用，二簋可用享。","益，利有攸往，利涉大川。","夬，揚于王庭，孚號有厲；告自邑，不利即戎，利有攸往。","姤，女壯，勿用取女。","萃，亨，王假有廟。利見大人，亨，利貞，用大牲吉，利有攸往。","升，元亨，用見大人，勿恤，南征吉。","困，亨，貞，大人吉，旡咎，有言不信。","井，改邑不改井，旡喪旡得，往來井，井汔至，亦未繘井，羸其瓶，凶。","革，巳日乃孚，元亨利貞，悔亡。","鼎，元吉，亨。","震亨，震來虩虩，笑言啞啞，震驚百里，不喪匕鬯。","艮其背，不獲其身；行其庭，不見其人。无咎。","漸，女歸吉，利貞。","歸妹，征凶，旡攸利。","豐亨，王假之，勿憂，宜日中。","旅，小亨，旅貞吉。\n　旅，小亨，旅貞吉。","巽，小亨，利有攸往，利見大人。","兌，亨，利貞。","渙，亨，王假有廟，利涉大川，利貞。","節，亨。苦節，不可貞。","中孚，豚魚吉，利涉大川，利貞。","小過，亨，利貞，可小事，不可大事。飛鳥遺之音，不宜上，宜下，大吉。","既濟，亨小，利貞，初吉終亂。","未濟，亨。小狐汔濟，濡其尾，旡攸利。"]
["小吉，亨通。時機很重要。","小吉。柔順、慢慢來，可成；急切、積極進取反而不可得。","凡事起頭難。艱難時刻，適於培養實力，奠定根基，為將來的成功做準備。","因危險而停止。能求教於人則有助於事情的進展。","龍困淺灘，時機未到，靜候時機為宜。","中庸、退讓，放棄堅持則吉。","責任重大，憂慮很深。對事情經驗豐富者為吉。沒經驗者為凶。","積極努力經營好下對上的關係則吉；無法經營這層關係者，則凶。","小事可以亨通，大事凶。凡事充滿疑雲，不確定感。","凡事小心翼翼，謹守上下尊卑份際，則可以險中求通。","吉，萬事亨通","閉塞不通，有嚴重的溝通問題。","與人結盟，但中間會有阻礙，可以亨通。","大吉，萬事亨通。運氣如日中天。","修行以等待時機，持之以恒可以亨通。","順著民情、民意，眾人之意做事則可成。","因為得失無常，所以清靜無為，順其自然，是最佳策略。","已經出現腐敗，努力挽回，仍然大有可為。","小吉，亨通。注意若事情無法持續，或者至八月（陰曆）會有災。","凡事虔誠而用心的觀看、學習，自然能有所獲得。","小吉，可以小有獲得。但要防因得而召禍。","小事吉，大事凶。私事可成，公務不亨通。","諸事不宜，最好那裡都不去，千萬不要遠行。","眼前不順，但長期可平安亨通。","無可逃的災難，守靜為宜，不宜出門。行為不正一定會有更大的災難。","養精畜銳，畜勢待發之後，可以大膽前往。","守靜不動為宜，躁動則凶。","基礎不穩，另求出處為宜。","內、外都是危險，處境艱難。但若是努力、小心，仍然能夠險中求通，小有斬獲。","懂得柔順與中庸之道，此事自吉，反之則凶。","與事情有所感應；若問身體，有受傷、病痛的危險。","小吉，穩定，細水長流。","小吉，但求事無成。遯卦之吉是因為能夠置身事外，遠離是非，而不是因為有所成就。","小吉，但會有衝突，甚至受到傷害。","吉，勇往直前，無往不利。","黑暗的時候，諸事不成，反受誅害。","優先管理好家事、份內之事，事情自然能夠順利。女子諸事皆吉，可以旺夫。","人事不和。若事情能獨自完成則小吉，否則應當設法解決人與人之間不和的問題。","不宜行動，退守為宜。","積極主動則可解決問題。","凡事眼光放遠，不要計較眼前利害得失，則吉而無咎。但若只著眼於眼前利益，損卦為大凶。","積極進取可以有所獲得。","面臨棘手的人事問題，手段要委婉，千萬不要強硬，則可保長治久安。","一時的偶遇，不能長久。女子除感情之外，諸事吉，能掌控全局。","可以亨通，但適於隆重盛大以表現誠意，不宜吝嗇節儉。","事情進展緩慢，讓人憂心，但只要勇往直前，日久事情自然可成。","山窮水盡，窮困潦倒。","未雨綢繆，或可化險為夷；欲速不但不達，還會遭災遇難。","變革則吉而無咎，守舊則凶。","大吉，但凡事宜創新不宜守舊。","先恐懼，後喜慶。","原地打轉，毫無進展，一事無成。","進取可以有功，但應當循序漸進。","婚姻、合作之事可成。出征、攻伐等行動大凶。","日正當中為宜。凡事宜盛大，有貴客蒞臨。","小事可亨通，大事凶。事情不穩定。","柔順而慢慢地來，都可成功。","小事可亨通。若能以喜悅來驅動人，則無往不利。","可以化險為夷，但諸事難成。","適當節制可小亨通。不節制則凶，節制太過則窮困而難行。","暗藏危機，事情難以成功。必需以虛心、誠實，信譽來說服他人，才能渡過危險。","退守、以靜制動為宜。","先吉後凶。事可成，但應提防後勢走下坡。","無利可圖，小心被外表所欺騙，不得其利，反受其害。","諸事："]
["剛強好勝，容易產生摩擦。","吉，可以慢慢培養感情，堅持到底可成。","艱難的開始。","蒙昧無知的愛情，宜於放棄。","雙方有阻隔，但強行是無法得到的。","爭吵、不和。","異性關係複雜，難以處理而爭吵。","積極討好對方，不可怠慢","男人為女人所養；男子不得志。","不好服侍的母老虎/老太爺；相敬如賓。","雙方情投意合，很有話聊。天生一對。","雙方無法相互溝通了解。","有情人終成眷屬，但過程應防第三者從中破壞。","非常有異性緣","要學習退讓","吉。有異性緣。","大吉。夫唱婦隨。","不倫之戀。受到蠱惑，意亂情迷。","有一方過於凌厲之象。應學習和悅和柔順。","單戀而遠觀的愛情。","有些摩擦，需要摩合。","婚姻可成。但過程並不是很順利，會有插曲、疑慮。","風流不專情，很多情人且不知節制。","降到冰點，但或可重新再來","彼此無可挑惕，但又八字不合。","受到事業影響而很難兼顧","感情仍有待培養。","過於縱情，華而不實的關係。","陷入僵局。","過於重視外貌或形式，注意是否過於浮華不實。","男女心心相映，婚姻大吉。","穩定幸福，可以白頭偕老。","對象不宜，能避則避。","吵架不合。","花心而受到異性喜愛與包圍。","遭人摒棄，受到情傷。","婚姻幸福，女人賢慧，可以旺夫。","感情不睦，分手。","困頓無法有進展。","有分手的危機，但問題盡早解決仍可轉圜。","發乎情，止乎禮，以後還有機會，縱情則惹禍上身。","吉，感情增溫，可以積極投入。","對象任性而難纏，宜於畫清界限。","只是一場邂遘，不能當真。女子不貞或過於強勢，嫁娶不宜。","受眾人歡迎，經常被人所包圍。","耐心等待，慢慢培養感情可成。若能找人媒合更佳。","窮困不通。","應多修養內涵。","大凶，水火不容，有兩女爭一夫之象。","女子賢慧而能持家。","有情變的危險，若能謹慎小心處理，則能夠化解。","擦身而過，無法見面。阻礙重重。","嫁娶大吉。","婚姻可成，但過於感情用事，不符禮法，不見得幸福。","情感基礎雖不深，但至少外表亮麗而精彩豐富。","對象不固定。","可以漸入佳境。","感情融洽。","分手。","很辛苦。","早生貴子之象。","放棄為宜。","金童玉女的絕配。","小心被外表所欺騙，受到傷害。","愛情："]
["能力強，能夠獨當一面。然而是否能夠亨通，則有待良好的時機。","小順。謙卑退讓，可找到好的老闆。但不利於創業。","創業惟艱，應多注重自己實力的培養，基礎的奠定。","能力不足以應付。需要再多方學習，向人求教。","雖有能力，但目前還沒有適當的機會。先設法渡過眼前危機為宜。","有爭議，有法律的風險。","責任重大，很具挑戰性。無經驗勿試。","應該積極努力經營好上下屬之間的關係。","懷才不遇，前途不明。","必需循規蹈矩，凡事照規定來，注意上下的分工與份際，否則必然出重大差錯。","上下和氣，打成一片。凡事順利。","不順。","需找到貴人幫助才可成功，更應慎防小人相害。","吉星高照，事業順利。","功成不居，虛心退讓，久了自能亨通。","利於建立人脈基礎。適於娛樂業。","有兩面難以取捨的情況。不要有太大得失心，隨緣就好。","不知所措。應力圖振作，重新規畫打算一翻。","長官督促下屬。持續為宜。","用心觀摩長官怎麼做，當能對你有所幫助。","有困難待解決。","做小事可以。大事凶。要注意，不要公私不分。","敗壞走下坡，每況愈下。","黎明前的黑暗，可靜候佳機。","有凶險，但更應循規蹈矩。","會受到重用，功成名就。","需要加強基本的能力。凡事鴨子滑水為宜。可再多充實自己的技能。","有將無兵，難成大事。","進退都有困難。","適於文學、文創、畜牧等產業。凡事應當走中道。","多傾聽他人的意見，以同理心做事。","穩定但缺少變化、創新，與成長。","無法有成就，只能求明哲保身。","理直氣壯，據理力爭或可達到目標，到小心因此而造成與人衝突及不和。","受到重用，發揮所長，連升三級，升官加薪。","情勢動亂，凡事退避，明哲保身。","應當管理好自己部門內，或是自己職務上的事，諸事自然順利，水到渠成。","孤軍奮戰。可以做小事，無法做大事。","事情窒礙難行，應當知難而退，重新閉關學習成長。","任何問題都要掌握時機盡快做決定，馬上解決。","宜犧牲個人以成就長官，放長線釣大魚。","積極投入工作，多找成長機會，自我充實，將有益於未來升遷。","有人事鬥爭問題。可以的話以施恩來攏絡人心，殺手鐧也會傷到自己。","偶爾的運氣。女子事業大吉，男子則聽命於女子。","適於行銷、廣告活動。","腳踏實地可以穩定成長，若找到貴人提攜，則可加快晉升。","窮困潦倒，有破產甚至負債的危險。","培養好自己的專業能力，日積月累自然可成。","有人事惡鬥不和的情況。變革為吉。","大吉，有得權之象。","事情有突然的變動。戒慎恐懼則吉。","停頓，發展非常困難。","分段擬定目標，按部就班，循序漸進，可以有所獲得。","結盟、合作可以成功，但有法律風險。其餘事務，凶，無利可圖。","不需太過擔心，有貴人相助。適於行銷、廣告、活動等之舉行。","不穩定。","市利三倍，大吉。","小亨通。適於娛樂事業。","危險可除，但難有成就。","適當節制可求得小亨通。","有財務虛空之象，為長遠計，此時商譽、信用格外的重要。","凡事退一步為吉，進一步、往上爬則凶。","亨通。但應提防即將開始走下坡。","若不用心明辨真相，可能受到二次傷害。無利可圖。","事業："]
["財源滾滾，金玉滿堂。得此卦者在能力上並不是問題，最大的問題在於「時機」與自己的應變力。建議凡事不要過於固執，最好要能見機行事，隨機應變，做事要有彈性。","謙卑退讓者有福，過於積極主動者反而一無所成。對於立定志向想做的事，應該要持之以恒，堅持到底，則可成功，操之過急，易致失敗。利於追隨於人，不適於自己獨當一面。","屯卦代表｢困難｣，但不代表失敗。如果能夠屯積實力，走過｢凡事起頭難｣的階段，未來仍是無可限量。","能力不足以處理危機，最好的策略是向有經驗與智慧的人請益。但請益之前請先做好準備，誠心前往，避免繁鎖而一問再問的情況。","需卦是藏有危機的一卦，雖然你的能力足以化險為夷，但仍不宜妄動，靜待佳機才是比較好的策略。","注意福禍相倚，得未必是福，失未必是禍。你的堅持是很危險的，凡事不要走極端，不要頑強固執。能夠放棄爭訟則吉，平安是福；若是一意爭取到底，既使贏了也會召來後續的禍害。","帶兵打仗首先要師出有名，其次用人則是要找老成持重，有豐富疆場經驗者為宜。無經驗者絕不可用。","比道貴在能夠發自內心的積極，表現在外的則是當仁不讓，不落人後。只要積極表現出你的誠意，就能受到青睞。","未來充滿不確定，當今之計可以退守，放下遠大的目標，活在當下，選擇眼前立即就可達成的小目標。","凡事必需謹慎小心，戒慎恐懼，如履薄冰，一切照規矩來，則可以亨通。要特別注意人與人的關係上，必需清楚分辨尊卑上下的份際，嚴守其應對之道。","雖然一切順利，萬事如意。但人無遠慮，必有近憂。對於事情的發展應當有防患於未然的遠見，則可長保安泰。反之，若不知守成不易，防患未然，則泰極否來，吉之後很快就會轉為凶。","除了靜待時機，等待否極泰來，或許可以多注意一下自己在溝通能力上的問題。若是為人上司，則應該設法放下身段，打破下屬的心結。若是為人下屬，則可設法將意見上達。","與人結盟應當要有信心與決心，更應注意自己的誠信與心胸氣度，否則中間可能出現的阻撓與障礙，不但可能讓你半途而廢，甚至惹禍上身。","大有是非常好的一卦，凡事都順利而亨通。但要注意的是富有時應保持低調，不要炫耀，以免引來不必要的麻煩。","謙是修養自己，以德服人的一卦。因為虛心，所以更為富有，因為謙卑，所以崇高；功成不居，所以偉大。但這些都不是一蹵可及的，而是要持之以恒。","可以用「寓教於樂」的手段來完成嚴肅的事。凡事用心傾聽，以娛悅的心與人多做心靈的交流；不要沉溺而迷失自我，要懂得節制，適可而止。","凡事順其自然，隨緣，做了讓自己高興就好，不要太強求。但切莫把隨緣當隨便，否則事情會敗壞。","蠱卦面對的是一種沉疴已久的問題，所以不是解決眼前問題而已。所以在力精圖治、奮發有為的同時，重要的是必需重新擬定新的計畫，建立新的未來。","關心並督促事情要注意保持內心的喜悅，態度及手法的柔順。做事要能持續，不要虎頭蛇尾，則事情可到達新的境界。若半途而廢可能會帶來災難。","觀卦的吉道在於能夠接近事情的核心，並用心去觀看事情的發展，從中充實自己。反之，若是無法接近事情好好觀察，為凶。而若接近了，只是外行看熱鬧也是枉然。","得噬嗑卦凡事能小有獲得，但需要明察秋毫、明辨是非的能力，除了解決中間可能遇到的困難，更要能分清什麼是該得，什麼是不該得的，以免因得而惹禍上身。","卜得賁卦只適宜做小事，不宜做大事，而且既使有成，也只是小成，過程也不會太平順。賁卦最好不要矜持過度，以致於黑白不分。","剝卦為陽氣即將被剝盡的時候，諸事不宜。只能靜待時機，等待時局轉變，事情進入另一個循環時再重新開始。","此時適於閉關休養生息。凡事莫心急，在最冷的冬天裡，生機暗藏，只需等待春天一到，就會欣欣向榮。","不要因為遇到災難而怨天尤人，甚至進一步胡作非為，否則事情會更糟而無法收拾。凡事守靜，循規蹈矩自可渡過難關。","對於事業很好，大膽前往會受到重用，但將難以兼顧家庭，甚至可能離鄉背井。因此自己需要的是什麼必需思考清楚。","謀事時機未到，最好再閉關修練。凡事以守靜為吉，要知所節制，慎防口舌之災，不管是嘴巴講出去的話還是吃進去的東西。","根基不穩，基礎很弱，既使有棟粱之才獨撐大局而能化解危機，但一切還是應該回頭思考如何穩固根本，避免繼續腐化。或者另求出路，也是良策。","面對逃無可逃的危險要能安之若命，進一步求通達變，那麼或可化險為夷，甚至達成目標；反之若無法泰然處之，那麼卜此卦者為大凶。","這一卦雖吉，但顯然是有條件的：若能柔順中庸則吉，反之則不吉。另要注意事情是否外表過於美麗，華而不實；或者人是否流於小聰明，而缺乏圓融的智慧。","如何正確使用感情來處世？這是卜得咸卦所需注意的基本問題。虛心傾聽，取得他人共鳴，那麼事情自然可成。但若感情用事，濫情而不守禮法，則大凶。","如果你想要的就是穩定，那麼這就是一個大吉之卦；但如果你所想要的是挑戰與成長，那麼這是一個潛藏未來成長障礙的卦。因為過於穩定，將會缺乏變化與創新。","小人得勢的時候，不要想著功成名就，凡事躲得越快越遠越好；功成不居，急流勇退，隱居深山，是最好的去處。","理直氣壯、據理力爭有時雖有必要，但卻很可能因此造成不必要的傷害。凡事應當多點冷靜審察情勢，不要莽撞，就能夠避免不必要的錯誤與災難。","除了卜問感情，晉是一個大吉之卦，聰明才智會受到肯定。卜問生意與財運也都能有所斬獲。","局勢混亂，求財求事皆無成，不要想著功成名就，應當以明哲保身、求取生存為第一要務。","凡事應當優先反躬自省，處理好自己的份內事、家務事，處理好了一切問題都可迎刃而解。","人與人之間意見不和並不見得是壞事，如何包容異己，同中存異，和而不同，讓「不同」不變成「不和」是卜卜得睽卦該學習的智慧。","諸事不宜，強行則有危險。知難而退，回家修練，等待機會，是蹇卦的最佳策略。","凡事要積極主動，遇到任何事情，不要拖延，馬上解決則吉。若有出行，則盡早出發為宜。","損並不是一般人常識中認為的「損失」，是一個壞卦。反而是「元吉」且「利有攸往」──所以其實損卦是個還算不錯的卦，只要你眼光放遠，願意暫時小小犧牲一下。","此卦雖吉，但屬於長遠性的利益。凡事必需努力上進，特別要設法增加自己的優點與技能。","內心固然要果決，但手段則要委婉。在上位者要能夠施惠於下則可得人心。","既然是「邂遘」，如若有什麼好事，也只是一時的運氣，不應當因此做長久之計。又姤卦是屬於女人的卦，男性諸事不宜，或者必需聽命於女子。女子則可掌控局面。","萃卦最適於「聚集人氣」一類的事務，若可行的會，集合眾人之力也是解決事情的很好方法。","成長原本就是緩慢而需要時間的，但只要耐心等候，有朝一日一定可成。若能找到貴人相助，也可加快事情的進展。","所謂「窮則變，變則通」，處困卦應當堅守節操，謹言慎行，然後才能夠窮中求通。這時不只言多必失，也很可能引來羞辱。所以凡事應當多做少說。","井道重在自清，水清則人群至，德善則人心服。因此凡事應多反躬自省，修養自己的內涵。最怕急功近利，往往災害由此而生。","洗心革面為吉，如果自己不革新，守舊不變，等著別人來改變，那就會變成革命。","鼎卦雖然諸事大吉，但是吉道在於養賢、創新，與耳聰目明，最怕者就是守舊不變。","面對變動若能因為恐懼而有所警惕，謹慎處事，則有驚無險，因此而得福。反之，若對變動麻木不仁，則可能有後來的災害。","應當停止的時候就停止，千萬不要輕舉妄動。守住本份，求得不犯錯，是處艮卦的最佳策略。","忌走捷逕，不能躁進。依禮法而行，循序漸進，則諸事大吉。","凡事要特別注意不要感情用事，注意法律、輿論等風險。","凡事都適宜盛大舉行，讓它眾人皆知。事情可以打鐵趁熱，順勢推舟。","行旅在外行事應低調，聰明於內，謹慎於外，守靜為宜。","事緩則圓，凡事柔順以對，慢慢進行，都可成功。但小事可成，大事凶。宜找貴人。 做任何事都要記得不厭其煩的再三叮嚀。","喜悅是趨動人前進的很大力量，若能善加利用則人冒死也會為其效勞。兌卦又有講習之象，能夠與人相互切磋，當有所得。","危險可化解。但凡事若要成功，則較為困難，問題在於人心過於渙散。如果能夠對此對症下藥，得以小有成就。","節制不夠會散亂，節制太過則成苦節、吝嗇，而走向窮困。因此要注意如何取得平衡與中庸，而長遠來說，最好的節制方法還是建立制度。","中孚也是一個化險為夷之卦，吉道在於虛心、誠實，信譽。只有誠信才能真的感動人、說服人，而助你渡過危險。","得小過卦有如在躲獵人的小鳥，靜靜不動反而是最安全的，若要動，則往樹底下、草叢中躲為吉，如果想要往上飛以逃脫獵人的追補，反而大凶。","人無遠慮，必有近憂；若只沉浸於眼前的完美狀態，則凶險不遠。","做任何事情之前都要小心觀察之後再做判斷，絕對不可輕舉妄動，小心被美麗外表所欺騙。","建議："]
["乾音「前」，為剛健、強健的意思。帛書本作「鍵」，《象》傳也作「健」，由此可見乾卦古時稱為「健」卦。","坤為純陰之卦，六爻皆陰。代表的是大地、母親，以及柔順、包容，與慈愛等德性。吉位在西南，十月之卦。","開天闢地，草昧初生，前進有難。凡事起頭難，創業惟艱。","幼稚不懂事，昏昧無知。","需為「等待」的意思。需卦則是龍困淺灘的時候，宜於等待時機。二月之卦。","官司、爭吵、爭議。先吉後凶。凡事放棄內心的堅持為上策。","以寡統眾，帶兵打仗。責任重大，憂慮很深。","親近，比附；輔助，輔佐。","小畜即「以小畜大」－－小人畜養君子，或女子畜養男子之意。","禮、履行，禮節和規矩；如履薄冰，小心再小心。","三陽開泰，萬事如意。陰陽融和，一片和氣。","閉塞不通，溝通不良。","與人結盟交好，人我如一，和人打成一片。","所有之大，富有天下；如日中天，照遍萬物。","山在地下，因謙卑而崇高；功成而不居，富有而不自滿。","逸樂、娛樂。春臨大地，萬物震奮。","相從、跟隨。清靜無為，順其自然。","敗壞、蠱惑、迷惑，出事；家道中落，力挽狂瀾。","臨近、監督視察。","觀摩學習、仰頭觀看；神道設教。","｢噬嗑｣音同｢適合｣。咬合、磨合，口中咬物的意思；也有懲奸除惡之意。","裝飾，文明；君子有所不為。","剝落、剝除；喪失安居之所。","返回，回家；陽氣歸來，改過遷善，週而復始。","至誠不二、堅持勇進、毫無虛妄。","大養，所養之大；聚養人才，畜勢待發。","修身養性，閉關修練。","陽過，陽氣過盛。頭重腳輕，棟樑不穩，組織虛胖。","前後都有危險，習慣於危險。","光明，聰明，美麗。","感，感應，感動。","穩定恒久，好事多磨。","遯，音｢頓｣，逃避、隱居的意思。","聲勢壯大，理直氣壯。","上進、晉升。","亂世、戰亂；社會黑暗，剷除善良。","家中之人；家有賢妻，治家有方。","睽違、分離、孤獨；涇渭分明。","跛腳無法前進，前有危險而停止，知難而退。","解放、脫離危險，危難散去。","戒除缺點、去除欲望、斷尾求生；犧牲短利，謀求長遠利益。","積極進取，努力上進。","判決，分判，滿溢。陽處決陰，澤及天下。","相遇，邂逅，女人主事。","聚集、萬物薈萃，水澤滋潤大地。","升卦卦象是木在地下，木以土為生，土中之木將逐步成長為大樹，因此以「升」為卦名，取其逐漸成長的意義。","窮困，山窮水盡，水澤乾涸。","水井，地中的泉水。泉水用以養人，貴在自清。","改革、變革、革命、去除舊的不用。","烹飪、取新、佈置新氣象。","震驚、驚動、震動；當頭棒喝。","止、停止；重山阻擋去路。","漸進，循序漸進。","少女嫁人，但不符合傳統禮法。","豐富，盛大；打鐵趁熱。","旅行在外、失去住所、客居他鄉。","進入、柔順而漸進、逐漸進入、反覆申命。","喜悅，滋潤，朋友講習。","渙散、逃難，離散；化解危險。","節卦為節制、調節，適可而止的意思。","誠信、信實、可靠；虛心於內，誠實於外。","陰過於陽，所過者小，也就是說其過錯在於不足（小）、虛弱。","萬事俱備，條件已成、水火相濟而調和。","水火不濟，冷熱不調，同受水火之害。"]
["全卦以「龍」為意象，剛健為德性；以變化、彈性為吉應，「過高」、「剛強好勝」、頑固或堅持己見為大忌。","卜到此卦較有利於柔順謙卑的人，會有長遠的利益。但凡事不利於處於主動，或是過於積極進取，反而適於被動，跟著別人的腳步慢慢走。不適於自己獨當一面、擔任領導者，或是自求表現、獨立創業。","「屯」這個字是取小草剛從地面上冒出頭來，有點卷曲而未申展開來的樣子。屯的難處，在於物體剛出生而尚未茁壯。所以這是一種「凡事起頭難」的挑戰。","蒙為「啟蒙」的蒙，繼「屯卦」而來，表示天地初開之後的蒙昧狀態，在人則比喻小孩尚未懂事的階段。","上為水險，下為剛健。人雖剛健而有能力，但眼前卻有水險阻隔，而無法前進，為龍困淺灘，等待時機之象。","訟卦內水險而外剛健，象徵一個人的想法相當危險，而又倔強求勝；對於自己的危險想法堅持到底，一意孤行。因此而與人興訟、爭吵。","師是一人統領眾人，帶兵打仗的意思。卜到此卦表示事情複雜，責任重大，因此讓人憂心重重。","比卦卦象為五個陰爻向一個陽爻親近、比附，有眾臣親近、輔佐君王之象，因此得到「比」的卦義。","畜有三種解釋：一是「養」，二是「聚」，也就是「聚集」的意思；三是止，就是阻礙，阻止的意思。因為這一卦以六四單獨一個陰爻，養了五個陽爻，所以為小畜；亦可視為一個陰爻，擋住了下方三個陽爻的去路。","卜此卦者要小心「伴君如伴虎」，凡事要照規矩來，否則那天老虎不高興回頭咬人，老闆翻臉不認人，恐有災難。","天氣與地氣相通，陰陽交流通暢，於時節為一月春天來臨，春暖花開，萬物滋長；於人事則代表人與人之間有很好的溝通與交流，一片祥和，萬事如意。","「否」字從「不」從「口」，代表人與人之間無法講話溝通，因此為溝通不良的意思。引申則是陰陽之氣無法交流，天地違和，生命沒有出口，萬物凋零。","卦象為內文明（離明）而外剛健（乾健），代表卜到這卦的人本質聰明而能剛健行事，能和別人打成一片。","卦象為「剛健而出明」（內卦為乾為健，外卦為離為明），上離下乾，火在天上，卦象為「日正當中」。此卦內剛健而外文明，內剛健者事情可以勝任，外文明者其人外表聰明，可以洞見真理。 《象》傳說：「 火在天上，大有。君子以遏惡揚善，順天休命 。」大有為君子能夠抑惡揚善之象，所以能夠豐富而大業。","謙卦卦象為山崇高而居於地下，地勢低而上行，有因謙卑而崇高之意。山艮止於內而收斂不發，坤柔順在外以待人，為君子謙卑以自牧，柔順以處世之象。","以柔順的心做事，依著事情的自然本性順勢而為，自然能讓事情融洽歡樂的完成。豫卦卦象為內坤順，外雷電，雷動於地上，柔順以動，則一切順其自然而易成。反觀大壯卦為剛健於內雷動於外，為剛以動，則產生衝撞與衝突。","隨卦卦象為內震動而外澤兌，動而悅，行動而喜悅，隨緣、順其自然之象。","｢蠱｣的字義是皿上有蟲，意思為東西腐壞。蠱又有蠱惑，惑亂的意思。","君子、大人的氣勢在高漲，上位者親身下去督察下屬，探訪民情。八月會有災禍。","觀卦上為風，下為地，風行地上，內順服而外漸進，風行草偃的卦象，表示君子以德感人；巽又有命令的意思，所以又有誥命天下之意。巽木在地上，則象徵命令、告示於天下，法律施行之象。","得噬嗑卦，雖能有所獲得（口中含物），但要提防所得到的東西是否有害；必須謹慎辨明是非，不要被表面的假相所欺騙。","賁卦卦象內為離明，外為艮止。內離明為君子能藏其聰明、美麗於內，外艮止則是行為停止於外，也就是有所不為，所以彖傳說：｢文明以止，人文也。｣","剝為東西爛掉而剝落、剝除的意思，所以《雜卦傳》說：「剝，爛也。」","「復」原意是「歸來」，「回家」的意思，引申則是指人改過遷善，而在《易經》中更專指陽氣的歸來。","无妄有兩層意思，一是就做事的態度來說，「沒有虛妄」、「不亂來」（妄作「虛妄」、「亂」），意謂凡事依照道理而無一絲茍且隨便。二是就修養的心境來說，「沒有期望」，意思為內心放空，不期望於世俗的成就與名利，超然於物外。","畜有三種解釋：一是｢止｣，二是「聚」，三是｢養｣。若與「小畜」合在一起看則更能了解「大畜」的意思。小畜是人才未受重用而坐吃山空於家裡，所止、所聚、所養都很小，所以稱｢小畜｣；而大畜則為人才食祿於外，因為所止、所聚、所養都很大，所以叫｢大畜｣。","頤原意就是人的口頰，引伸為｢養｣的意思：或者說是頤養。","大過卦意思為｢所過者大｣，｢大｣指的是陽氣，｢大過｣就是｢陽過｣，意謂陽氣過盛。","坎卦意思的由來，取三畫卦（八卦）中，其陽爻坎陷，被兩陰所包圍而沒有出路。坎為水，也是危險之意。","離為「麗」、「附麗」，的意思。在自然現象中離代表的是火，火本身並無法獨立存在，必需依附於物體上，因此取其「附麗」，意思為「附著在他物上的美麗」。在三畫卦（八卦）中，離則是一陰包於二陽之內，其卦象意思為陰「附麗」於陽。","咸音｢賢｣，為｢感｣的意思，也就是感應。","恒卦上為震、為長男，下為巽、為長女。長男動於外，長女柔順於內，就像一個穩定而和諧的家庭，男主外、女主內，夫婦的內外分工很清楚，因此可以維持家庭的穩定和恒久。","遯卦上乾健，下艮止，艮又為門闕。大畜卦（上艮止下乾健）是將人才納於門下，為養賢之象；遯則是相反，人才被隔之於門外，為賢人遠避以逃難之象。就卦氣來看，六月遯卦時陰氣開始增長，也是小人開始得勢，君子開始退避逃離以避難。","大壯卦的卦義有三種不同的解釋，剛好也反應出大壯卦的三個不同面向：一是陽氣壯盛（陽壯），二是嚴重衝突（大撞），三是嚴重的傷害（大戕）。","晉卦是「進升」的意思，有能力的人得以上進，能夠出頭天。","明夷的字義為「光明受到剷除」，明指光明，也可象徵人才、君子、賢人、好人，人的聰明智慧。夷為剷除的意思，《雜卦傳》：「明夷，誅也。」","家人卦是「家中之人」的意思，講的是「齊家」之道－－女人賢慧，治家有道，則男人可以安心而努力的在外奮鬥打拼，所以自古儒家就有「齊家、治國、平天下」的名言，《彖傳》則說：｢家人，女正位乎內，男正位乎外，男女正，天地之大義也。｣","睽卦的意思為乖離，人與人相互見外，彼此涇渭分明。同牀異夢、各走各的路、道不同不相為謀，都可以用來說明睽卦。","蹇音｢簡｣，《説文》：｢蹇，跛也。」蹇字的原意為跛腳，引伸為事情窒礙難行的意思。","解音｢姐｣，解除的意思。或音｢謝｣，作卸除的意思。","損就是去除，剝除，減損的意思，但要去除什麼？於修身則是去除多餘的慾望、壞習性；於處世則是犧牲自己的利益，成全大我的成就。","卦象下震動，上巽入，動而漸入，有埋頭苦幹、腳踏實地一步一步慢慢往上爬之象，也有改過遷善之意。《象》曰：「風雷，益，君子以見善則遷，有過則改。」益卦的「努力」，不宜在原地方打轉，應當從自己所缺乏的地方下手，以增加自己的優點。以見賢思齊，多向別人觀摩，往自己所未曾有過的地方去開發較佳。","夬，音「快」或「怪」。或唸作「決」，決定的決。也有人唸作「缺」，作「缺陷」解。一般都解釋作「決」。《說文》：「夬，分決也。」也是現在說的分判，在卦則是指陽與陰分判，君子與小人畫清界限。","姤卦意思為「遇到」，一陰返回而遇五陽，一女遇到五男，女子強悍而不貞，因此這種關係只能當作一時的邂遘，不用想天長地久。《彖傳》說：「姤，遇也，柔遇剛也。勿用取女，不可與長也。」不可以娶女，因為無法長久。","萃原本是草木生長茂盛的樣子，《易經》的萃則作「聚」解釋，取其萬物生長繁盛而群聚的意思。","卦象下卦為巽，巽又有「逐漸進入」 的意思，這也代表｢升｣的成長與上升過程是漸進式的，而不是跳躍式的。","困卦為窮困的意思，卦象上澤下水，水澤無法保留住水而讓水往下漏，為澤無水之象。反之，若水在澤上，則是水進澤中，那麼反而水澤是做為「調節」水源之用，就是節卦。所以《象》曰：「澤無水，困。」","井卦卦象為木下於水，又裝水而出，也就是以木桶汲水之象。又上坎險下巽入，漸進以通險，雖有險而能逐漸累積功夫，培養實力以渡過難關。","革的原意為皮革，也就是除毛之後的獸皮，引伸為去舊。","鼎卦是一個象形卦，其大象有如一個鼎的形狀，初六象徵鼎足，九二、九三及九四三個陽爻象徵鼎腹，六五象徵鼎耳，上九象徵舉鼎用的鼎鉉。就二體來看，卦象為木上有火，以薪柴燒火煮物，烹飪之象。","震卦上下都是震，卦義直接從三畫卦的震卦而來，為變動、震動、震驚，驚動之意，引伸有當頭棒喝的意思。","艮為山，山阻擋在前，為停止不前之意。重重的山擋住去路，去路不通，凡事停止無法前進。","漸卦卦象為內艮止，外巽入，止而漸入，按部就班、循序漸進之狀。山上有木，樹木生長於山上，適得其所；少男下於長女，女子得其歸宿。","歸妹為嫁女兒的意思。古時女子嫁人曰歸，妹則是指少女，年青的女子。與歸妹成一對卦的漸卦也說「女歸吉」，但兩卦的意思稍有不同。漸卦為男方娶女方，所以說「女歸」，女子歸之；歸妹則是女方將女子嫁出去。另一個重要差別則是：漸卦是循序漸進，符合禮法與傳統；歸妹則是女子動情馬上就嫁人，不符合傳統的禮法。","《說文》：「豐，豆之豐滿者也。从豆，象形。」「豆」為古時盛肉的器具，豆器裝得滿滿的就是豐，引伸就是豐富、盛大的意思。","旅原指軍隊編制，一旅為五百人，但在易經裡，旅卦意指人失去安居的地方，有流落他鄉之意。","巽是八純卦之一，上下都是由三畫卦的巽卦所構成。巽在三畫卦中代表風、木、命令。於人倫上為長女，因為巽是一索而得女。巽卦的意思又有「浸入」，逐漸滲透、進入的意思，也有流行、風潮的意思。","「兌」同「說」、「悅」，為喜悅的意思。兌卦與震卦，還有離、坎共為「四正卦」，離坎分主南北兩方，而震兌分主東西。兌為西方之卦，於時節為秋季，秋天豐收為喜悅的季節。","渙卦卦象下為坎水，上為巽木，是水上有木之象。","卦象上坎水，下兌澤。澤是儲存水的地方，澤上有水，則有溢滿的危險，所以當調節、節制，為適可而止之象。又內兌悅，外坎險，喜悅以行險，吃苦當吃補，這也是處節的亨通之道。","孚為信，誠信、可靠的意思。中孚則有兩重的意義。一是忠孚，忠為誠，孚為信，中孚即誠信；二是衷孚，意謂誠信發乎內心。","小過指的是「陰氣過盛」，《易經》中大指的是陽，小指的則是陰。「大過」為陽氣過盛，小過卦則為陽氣不足，陰氣過盛。","這一卦之所以會叫做既濟，是因為它符合易經中一切當位、相應的原理，就《易經》的原理上來說是「最完美」的一個模範卦。","未濟指的是水火無法相交，陰陽、冷熱無法調和。《易經》中以「小狐汔濟，濡其尾」來說明。小狐狸在旱季（汔）裡找水喝乞求救濟，看到了水坑，不知深淺就冒然跳下去，結果沒喝到水還濕了尾巴，同時受到水火之害，此比喻水火無法調合。"]
["乾卦為純陽之卦，而且是六十四卦之首，蓋因乾元為創生的最原始力量，六爻都是乾元，代表人具有源源不絕的創造能力。卜此卦者通常能力很強，創造力十足。然而性格上剛健不屈，過於陽剛。所以得此卦者最忌諱的就是高傲、頑固，及不能隨機應變。建議最好能見機行事，懂得彈性應變才是上策。","凡爭先恐後、走在前面者反而會迷失自己，跟隨人後者反而可以有所獲得，能夠遇到自己可追隨的主人。往西南方可找到好友或貴人，往東北方則否。","屯也是從無到有的創造過程－－例如創業（從零到有建立一個事業），創作一件藝術品……或者做其他別人或自己從未做過的事。","卦象為山下出泉，雖然泉水匯流可成大河，但剛從山下冒出的泉水並沒有一個定向，隨處亂流，能量亦不足，距離成為｢奔流入海的大河｣還有很長的距離。","卦象為水上於天成雲，雲在天上不能成雨，雨象徵的是陰陽調和與開花結果。雲在天上，則必需等待更多水氣之累積，與天時地利才能夠下雨。比喻條件未齊備，必需再等待時機成熟才能夠發揮你的實力。","訟卦乾剛在上，水險在下，又有上司（乾）以氣勢威迫下屬，而下屬以危險（坎）的行為因應的卦象。又乾天之陽氣停留在上（有否卦之象），水本就潤下，但又停留於下，所以天與水兩者背道而馳，沒有交集。","上面為地，下面有水，處於危險而能以柔順的態度來應付。柔順之君王授命於剛健的將帥，為授命出征之象。","比卦的｢親比｣是一種下對上的關係，也是一種不平等的關係：眾人向強者靠攏親近，陰順陽，小從大。下人討好上面的人，下屬討好上司、晚輩取悅於長輩、百姓討好官員、居下風者追隨於得勢者…。所以比卦講的也是一種「向上管理」的能力，也就是下屬如何管理好與上司之關係的一卦。","卦象上為巺，為木，為風，為漸入；下為乾，為天，為剛健。「風在天上」之象。風在天上吹，把天空的雲聚集到西郊，聚集了密雲，密雲而不雨。易經中｢遇雨則吉｣，｢雨｣代表陰陽通泰，表示有了結果；有雲無雨則代表仍須等待，事情有疑慮。小畜卦說｢密雲不雨｣，則表示疑慮很深。","履原為鞋子的意思，引申則有履行，踐履的意思。再引申到道德上，意指行為所當踐履的，也就是禮。因此履也解釋作禮。馬王堆出土的帛書版的卦名則直接作「禮」。","泰卦卦象原本在下的「地氣」（坤）由下往上行，原本在上的「天氣」由上往下走，代表天地之氣互相交合而通泰。反之，地氣若停留在下、天氣停留在上，則為陰陽窒塞，沒有交流而成｢否｣卦。","就卦象來看，否卦為乾天陽氣停留在上，坤地陰氣停留在下，天地陰陽之氣無法交流融和，萬物閉塞不通，政亂而人不和之象。這是君子退散，小人得勢，天下混亂的時候，《象》傳說：「天地不交，否。君子以儉德辟難，不可榮以祿。」意思是說，君子這個時候不應想著求功名利祿，而是應當退守隱居以避難。意謂卜此卦者應潛藏守靜，靜靜等待時機。","同人卦為一陰（六二）處於五陽之間，而能為乾陽（九五）所接納，意謂六二小人（地位卑下之人）被君子所認同、接納，並能夠打成一片，因此名為「同人」。六二之所以為九五所接納，因為以陰居柔，而又居下卦之中，代表六二雖小人，但人謙卑守本份，又具備中庸的美德，且與上卦的九五（代表乾天）相應，代表意氣相投，志趣相合。","大有卦為一陰（六五）以柔順與中庸之美德居於最尊貴的位置，統領五個陽爻，上下皆與其相應，受到五陽的愛載。（下有九二相應，上有上九與六五比鄰而應。）","卦序上謙卦為繼大有而來，大有為富有天下，富而驕則不仁，因此以謙告戒富有之人不可自滿，而應該以謙卑自牧。所以謙卦絕對是要君子好好修養的一卦！既然是告戒修養之卦，那麼在得失上，當然是不應當計較的。","豫卦由一陽而統領五陰，陽爻在第四位已出地中，雷在地上，雷震為春，有春臨大地之象，所以《象》曰「雷出地奮，豫。先王以作樂崇德」，言豫卦為開始雷動震奮的時候，大地鼓舞，萬物繁茂。因此古人以此開始作樂以崇揚道德。","下為震為長男，上為兌為少女，有少女隨長男之象。年輕女子性情溫和，而能順從於年長的男子。若卜婚姻，男子謙下於少女而體貼主動，女子喜悅而嫁雞隨雞，夫唱婦隨，非常幸福。","《左傳》：｢女惑男，風落山，謂之蠱。｣蠱卦上為少男，下為長女，長女與少男皆不當位，為長女迷惑、誘拐少男之象；上卦為艮為山，下卦為巽為風，風落於山下，則在山谷中成亂流，吹亂草木，所以為壞亂之象。","就卦氣來看，臨卦為二個陽爻逐漸往上增長，陽氣漸漸進逼於陰氣，為長官近逼於下屬，親臨監察下屬之象。","《彖》傳說：｢觀天之神道，而四時不忒，聖人以神道設教，而天下服矣。｣觀卦講的也是古代君王神道設教的事，就是以宗教措施來感化教導民眾。","噬嗑卦又被引申到刑罰的使用，例如初爻講的是夾腳趾讓初犯者不能再犯，而到上爻則是刑罰於首，頸戴枷具以至於喪失耳朵。因此若問官司，卜到此卦很可能有牢獄刑罰之災。","孔子說：｢質勝文則野，文勝質則史，文質彬彬，然後君子。｣文飾不足人會流於野蠻，若過於文飾以致於勝過了本質，那麼會像史官一樣油滑而世故，因此文飾應該適度就好。","卦象為內坤順，外艮止。高山在地面上，有山倒崩塌的危險，所以不可前往。卦德為內柔順而外停止，有順勢而止之意，應當順應時勢而停止，不可冒然向前。","卦象為雷在地下，雷象徵的是「動」、「春天」、「生機」，一切的生機藏在地底下，有萬物冬眠之象。冬眠雖然表面上看來是一片死寂，但卻是暗藏無限生機。 剝卦為陽氣被剝除到最後，只剩一個陽氣；而復卦則是陽氣剝除完畢之後，又重新回來。事情又會重頭再開始，進入另一回合的循環。","我們常講「無妄之災」，意思為無妄的災難。《雜卦傳》說：「无妄，災也。」卜到無妄卦，往往會有災難， 但一定要堅持原則，不可因此而動搖心志。如果災難的發生是因天命如此，並不是你有什麼錯，錯不在你，看開了就沒事；但反之，如果因自己的錯誤而導致此災難，則恐怕事情很難平安度過。","大畜卦象為下乾天，上艮止，又為門闕（《說卦傳》｢艮為門闕｣），乾為剛健的賢才，因為受到供養而聚止於門闕之內，此為古代養門客的風氣，賢才聚集於門下。因此卦辭說｢不家食｣，《彖傳》說｢不家食吉，養賢也｣。","頤卦上下兩個陽爻象嘴唇，中間四個陰爻象嘴張開時的兩邊口頰－這也是頤的卦義之所由來。所以頤卦是一個很典型的肖形卦，也就是卦的形狀長得和卦名很像。","卦象為上澤兌，下巽木，巽木在澤中，澤本來是滋養樹木的水源，但木被水澤所淹沒，有澤滅木之象；順於內而悅於外，順自己之所欲，樂極生悲，所過者大。","在六畫卦（六十四卦）中，坎卦通常又稱｢習坎｣。習有兩個意思：一是重覆，意指兩個坎卦重疊，也就是內外都是坎。二是習慣，內外皆是險，因此而習慣於危險，在危險中求亨通。所以習坎就是上下（內外）都是水險，從此險到彼險，雖危險，但能通於內外，可以遊走於危險之中，險中求通。 《序卦》說：｢物不可以終過，故受之以坎。坎者，陷也。｣大過為陽氣過盛，因此必需對陽氣有所限制，坎卦就是將陽爻坎陷，制約｢陽過｣的一卦，所以卦序上在大過之後。","離卦代表光明、美麗、聰明、智慧。六十四卦也是六畫卦的離，上下都是離，所以是聰明又聰明，美麗又美麗。然而內外皆聰明則有察察為明的過失，美麗又美麗則有過於炫耀與華麗的偏差。所以「中庸柔順」對於離卦來說是很重要而需要具有的美德。","咸卦上為少女（澤兌），下為少男（艮山），少男下於少女，為少男禮讓於少女的卦象；九三（少男主爻）與上六（少女主爻）都當位，少男少女都守禮法而不濫情。六爻相應，初六應九四，六二應九五，九三應上六，兩情相悅、心心相映、互有好感，婚媾之象，因此｢娶女吉｣。","恒卦是繼咸卦而來，並與咸卦為相綜的一對卦。《序卦》說：｢夫婦之道，不可以不久也，故受之以恒，恒，久也。｣咸卦｢取女吉｣，講的是少男少女談戀愛然後結婚；至恒卦，少男少女變為成熟穩重的長男長女，又有很好的家庭分工，為家庭穩定恒久，夫妻偕老之道。","卦序上遯卦與大壯是相綜的一對卦，繼恒卦而來。《序卦》：｢ 物不可以久居其所，故受之以遯，遯者退也。 ｣恒卦代表的是穩定的社會狀態，然而久了不免僵化，僵化之後有識之士力圖突破。其一是逃離這個僵化以呼吸新的空氣，也就是遯卦；其次則是用力衝撞體制，打破它的僵固不合理，也就是大壯（大撞）。","《易經》中的「大」指的就是陽，「小」是陰，大壯則是陽氣過於強盛－－｢陽壯｣的意思。卦氣發展到一月泰卦時，陰陽達到最佳的調和狀態，二月再增長一陽就是陽氣太過，也就是大壯。","卦象為上離日，下坤地，日出地上，黎明之象。離又可象徵賢人，聰明、智慧，人才得以出人頭地，聰明得以發揮。內坤順，外離明，內心柔順而外表聰明，因此討人喜愛，受人重用，《彖傳》說：「順而麗乎大明，柔進而上行，是以康侯用錫馬蕃庶，晝日三接也。」","明夷卦卦象為明在地中，光明藏在地底下，為黑暗的意思。離明又指人才與聰明，人才被埋沒在群陰中（坤為眾，指一群普通人），人才無法出人頭地，也是天下黑暗沒道理的時候。","理解家人卦必需與它的的反對卦睽卦合看。家人卦長女在上，中女在下，兩個陰陽都當位，為中女與長女相處融洽、謹守本份、相得益彰之象；睽卦則是兩女同居不同心，各行其是，相敬如冰，兩陰爻皆不當位，不安於室。","睽與家人為一對「反對卦」，意義也完全相反。《雜卦傳》說：「睽，外也。家人，內也。」睽卦是住在一起的兩個女人卻彼此見外，相敬如冰；家人卦則是兩個女人彼此為「一家之人」。","蹇卦的意思則是｢難｣，因為前面有危險而無法前進。《彖傳》說：「蹇，難也，險在前也。見險而能止，知矣哉。」卦象內艮止，外坎險，也就是見到危險而能夠停止，當止則止，這就是智慧。","解卦卦象為下水險，上雷動，人雖在險中卻能主動於外，雖有危險，但因為主動而讓自己脫離危險，讓危難散去。所以《彖傳》說：「解，險以動，動而免乎險，解。」","損卦卦象為下兌澤，上艮山，損下益上之象。具體來說，例如臣下貢獻於君王，下屬奉獻於上司，犧牲小我，完成大我。","由於「努力」的成果總要等待時間的累積，因此就吉凶的判斷上，益卦和損卦一樣，都比較屬於長遠性的利益，而不是短期、立即性的，因此卦辭都有「利有攸往」。","夬卦有兩個層面的意義，就大象來說，是五陽判決一陰，其次是就二體來說，澤上於天，澤以潤下，澤水滿溢而下，為水「決」而溢，君子有德而不居，有祿則施惠於下之象。","姤卦又有女子主事之象。就卦氣來看，五月姤卦為陰氣歸來，一陰在五陽之始而承五陽，這一個陰爻因剽悍壯碩，所以說「女壯」。","萃卦卦象為澤在地上，水澤的功能為往下滋潤，所以澤在地上為水澤滋潤大地之象，大地受到滋潤所以萬物群聚而生。《彖》曰：「順以說，剛中而應，故聚也。 」內坤順，外兌悅，九五剛中而與六二相應，所以為聚。","《升卦》在易經的排序中居於萃卦之後，與萃卦相綜而成一對卦。《序卦》傳說：「萃者，聚也。聚而上者謂之升，故受之以升。」","卦序上困卦是繼升卦而來，《序卦》曰：「升而不已必困，故受之以困。」進升到極點，升無可升就是困，就是窮途末路。困卦又與井卦為相綜的一對卦，困卦水在澤下，澤無水之象；井卦則是水在木上，為木桶汲水，井之象。困為水源乾涸，井卦則是水源不斷。","井卦講的是一個破舊的水井，如何修復到好，最後又為人所飲用的過程。比喻人如何修德，最後終為人所擁戴。","卜得革卦代表該是改革的時候，所以革卦的吉應在於改變、變革，若守舊不變則凶。如果是自我反省，自我革新，那麼就是改革；但若是留著讓別人來幫你革新，那麼就變成革命。","做為「烹飪」的器具，鼎上可以敬鬼神，下可以養賢才，所以《彖》說：「以木巽火，亨飪也。聖人亨以享上帝，而大亨以養聖賢。」「亨」為烹飪的意思。","三畫卦的震卦因為一個陽爻動於初（也就是最下方），因此其德性為「動」。於人倫則代表長子，因震卦一索而得男（第一畫就是陽爻）。若是卜問胎生，那麼就是生男。","大體來說，艮卦是偏凶的一卦。卜到艮卦者凡事停止不前，原地踏步，尋人不著，諸事不順遂，若能安之若命，順應時勢，當止則止，力求守住本位，不踰越本份，那麼可以求得不犯錯；但若一意孤行，該停止而卻反而躁動妄行，則容易遭遇災咎。","漸的意思原為「進」，但這是一種「停、看、聽」式的前進。《序卦》：「物不可以終止，故受之以漸，漸者進也。」然而漸卦的進與晉卦的進有所不同。晉卦的進指人才出人頭地，得到晉用。漸卦的進，則是循序漸進，就如漸卦的卦象：「止而進」，也就是邊停邊走的前進。","卦象下為少女，上為長男，內悅而外動，六三與九四越界比應，而且皆不當位（六三與九四分別為兌與震卦的主爻），少女愛上長男又不符禮法之義。內悅而外動，少女愛上長男就馬上付諸行動，行事基於情感而欠缺考慮，雖然兩人可以很輕易的結合，但婚姻是否幸福或者雙方是否可以天長地久，卻是有待商榷。","豐卦卦象下離明而上震動，明以動，明和動相得益彰，可光可大，所以有盛大之象。《象》曰：「雷電皆至，豐。君子以折獄致刑。」指豐卦雷電齊發，威猛而快速，每發必中。聰明讓人可以判斷正確，如判刑之事都能斷定是非；雷動則可以積極執法，將犯罪之人加以懲治，所以可光可大。","《雜卦》說：「豐，多故也。親寡，旅也。」旅卦與豐卦是相綜的一對卦，豐卦多故，狀況多；旅卦則親寡，身邊可信的人會很少。人寄居在外時，則缺乏親戚朋友，人生地不熟，情勢比人強。因此只有小事可以，大事不行，所以說「小亨」。","巽卦卦象裡，上下卦的兩個陰爻都能夠承順於陽，內外都是巽，所以本質上是非常柔順的一卦。上下都是風，有如風吹一樣，無孔不入，就像風潮的流行，亦如君王命令的施行。 所以《象》曰：「隨風，巽，君子以申命行事。 」《繫辭》：「巽以行權。」","兌卦上下都是兌，三畫卦的兌為水澤，滋潤、喜悅，為少女。重卦的兌卦除了有同樣的意思外，因為上下相互滋潤受益，因此也有朋友相互講習的意思，所以《象》曰：「麗澤，兌。君子以朋友講習。」","坎是水險、加憂，心病，而浮在水上的巽木則為舟楫，能夠幫人渡河、濟險，化解危險，所以卦辭說「利涉大川」。又巽風能夠吹散憂慮、心病，因此渙卦也有散心，心結解開的意謂。","卦序上節卦是繼渙卦而來，《序卦》：「渙者離也。物不可以終離，故受之以節。」又《雜卦》說：「節，止也。」渙卦與節卦為相綜相反的一對對卦，渙是渙散、鬆懈，節則是相反，為適可而止，以收拾渙散的心志。","中孚卦大象中間兩爻為陰，外面上下各有兩畫陽爻，為中空、虛心於內，陽剛誠實於外之象。","小過卦也是一個象形卦，大象為上下各兩個陰爻包住中間的兩個陽爻，兩陽像小鳥的身體，四陰像一對翅膀在拍動，形象肖似小鳥在飛，所以卦以「飛鳥」作為比喻。","然而，既濟卦的危險就在於它的過於完美，因為這意謂著未來只有走下坡，而沒有走上坡的道理，所以卜到這一卦者，應當有避免或減緩走下坡的防患未然準備。","卦象火在上、水在下，火性炎上而在上，水性潤下而居下，結果是水火無法交合，造成了陰陽、冷熱的失調。這有如否卦，地氣陰而停於下，天氣陽而停於上，天地之氣無法交泰。"]
["易經以「龍」的變化來詮釋乾卦，六爻中的「龍」各有不同形態變化，意謂君子能屈能伸，順應時勢，懂得應變之道，在不同的時機，要有不同做為。應當潛藏低調時就要潛藏低調（初九，潛龍，勿用）；應當出面求人時就當出面求人（九二，見龍在田，利見大人）。但是最怕的就是，已經尊貴之極的龍（九五，飛龍在天），若還要「百尺竿頭，更上層樓」，那麼就可能是毀滅的開始（上九，亢龍有悔）。","對人對事要注意的是要懂得防微杜漸，對自己則要注意凡事退一步，不要與人爭先，你的成功之道在於堅持持久、找到能夠幫助你的領導者並追隨於他。","卦象外險而內動，鴨子滑水，努力於險中、行動而面對危險之象。","｢蒙｣又有內水險、外艮止的卦象（艮為山，象徵｢停止｣的意思）。意謂因危險而停止。因處蒙卦之時，能力不足以應付危險，面對危險應當停下來靜觀其變，求教於有智慧、有經驗的長者則是最好的策略。","雖有剛健的德性而可以涉險，能力足以化險為夷。但眼下仍以退守、靜待時機之成熟才是上策。所以《雜卦傳》說：｢需，不進也。｣意謂處｢需｣的時候，不當前進。","訟卦是禍中有福，福中有禍，福禍得失無常的一卦。往往先吉者後來變為凶，反之則先凶則後吉。","舉凡卜到師卦，事情多數多憂。若是與人事相關的事情，則以選擇年老持重而有處事經驗的長者最好，比較有成功的可能。反之，若選擇年輕而無經驗者，則一敗塗地的機會很大。","因此比道的對策是要積極主動。就如為人臣者輔助、親近君王絕對要當仁不讓，不落人後。但在此同時，也應注意自己立場，不要因為想要奉承上意而背離自己（如六三），更切記不可侍才傲物（如上六）不屈就於上司，那就是大凶。這也是判斷比卦吉凶的重要法則。","又上巽風為命令（王命），巽風停在天上而不在地下，顯示命令未能下達，只能天馬行空、做做文宣與宣傳而已，無法像觀卦一樣下達百姓，當然也就無法像觀卦一樣達到風行草偃的實際功效。","上為天尊，下面和顏悅色來比附；卜此卦者應內心和悅而禮法嚴謹，一切照規矩行事，小心上下、尊卑之間的份際，不得茍且踰越，以免老虎不高興而吃人。卦辭以｢履虎尾｣釋義，形容情勢之險惡，但若能小心翼翼，而能讓老虎不咬人，因此事情可亨通。","於卦氣上，坤卦（十月）之後，到十一月復卦一陽歸來（一元復始），十二月臨卦陽氣開始增長，一月時泰卦陽氣與陰氣達到最完美的均衡與調和。此時為第三個陽爻歸來，因此春節時門聯常寫「三陽開泰」來形容春天的來臨，典故即是由此而來。","卦象下坤順而外乾健，陰氣回到裡面，陽氣被逼到外面，陰陽不和，內心順著自己的欲望，外在又剛強用事，凡事違和。這也是卦辭所說的「大往小來」。大指的是陽氣、君子、正義...也就是外面的三個陽爻（乾卦）；小指的是陰氣、小人、邪惡...也就是裡面的三個陰爻（坤卦）。大往小來意指陽氣、君子離去，陰氣、小人回來而得勢，也就是混亂不義的局勢。","卦序上，《易經》走到泰否，已成一個興衰循環，泰是一個太平盛世，至否卦時突然由盛轉衰，世局混亂，小人道長，君子道消。從否轉至同人卦則是君子與小人的重新融合，陰氣與陽氣的再次交流。《序卦》傳說：「物不可以終否，故受之以同人。」只是交流過程並不會相當順利，而有諸陽爭一陰之亂象。","卦序上，大有與同人為相綜的一對卦，是繼泰、否而來的兩卦。泰為太平盛世，否卦為國家動亂，同人為君子與小人重新融合妥協，結為同盟。大有為妥協完成之後，又歸於和諧，所以所有之大，富有天下。《序卦》：｢與人同者物必歸焉，故受之以大有。｣《雜卦》則說：｢ 大有，眾也。同人，親也。 ｣","所以，雖然謙卦看似大吉之卦，但這種吉並不是物質、實質上的一種「得」，比較是修養上、精神上的獲得，只有君子、有修養的人可消受得起。反而諸多求問功名利祿，以追逐名利為目的者，卜得此卦，若以世俗的得失來看，則反而是大凶。","就卦序來看，豫卦與謙卦是相綜（上下相反）的一對對卦，是繼同人、大有而來。同人與大有是國家經動亂（否卦）之後，重整秩序，國君重新富有天下，而開始重新尋找長治久安之道。首先告戒的是要謙卑自牧，然後則是以豫樂（音樂、娛樂）來陶養心性。","《序卦》說｢豫必有隨，故受之以隨。｣卦序上隨卦是繼謙豫兩卦而來，謙卦是告戒大有之君子要省身修養，卑以自牧，豫則是以豫樂來陶冶性情。隨則是無為自然，清淨寡欲，返樸歸真之卦。所以《雜卦》傳說｢隨，无故也。蠱則飭也。｣天下無事就是隨！","下巽入（漸進、侵蝕）、上艮止（停止），表示「逐漸受侵蝕而停止」；又有上位者停止、不動作，在下位者順勢而逐漸入侵的意思。","就上下卦來看，卦象則是內澤兌，外坤順，意謂長官近臨下屬時當和悅於內而柔順於外，行事中庸而與下屬有所互動，如此事情才能亨通。","因此觀卦的卦義相當多面向：包括了將政令告示天下（巽在地上）、以德化民（風行地上、風行草偃）、神道設教以觀天道，展示國力以觀國之光。","卦象下動而上明，為動以明之意，表示行動要理性而明理；又內為雷，外為電，雷威猛而電照明。 內有積極行動之性格，外又能夠以聰明才智鑑察事理，是能夠明察秋毫者，因此卦辭開宗明義就說「利用獄」，也就是性格與才能都足以承擔關於刑罰這種最困難的決策事務。相較之下，賁卦象傳則說「君子以明庶政，无敢折獄。」","賁卦講的原是女子化妝打扮待嫁的過程，但也有比喻隱士的意謂。《序卦》說，因為萬物不可以茍合（隨隨便便就合在一起），所以就要有所裝飾。就連動物之求愛，總得有個儀式，更別說是人了。所以賁卦講的「裝飾」本質，並不是指外貌的裝飾而已，而是對於行為的裝飾，也就是「有所為，有所不為」的意思。","卦氣的陰陽消長到九月為剝卦，五陰即將剝去最後一陽，小人逼退君子。卜到此卦，不宜行事，應當設法避難。","從卦氣來看，復為十一月冬至之卦，此時既是最冷也是白天最短的時候，但也是陽氣返回的時候，因此從冬至之後也是白天開始漸漸變長。陽爻歸來，正是復卦的卦義之所在。也因此有所謂的｢一元復始｣的說法，一元指的就是復卦下方的一個乾元。而一個陽爻的回來，代表陰陽消息又進入一個新的循環。","如果卜卦者是本著道理（動以天），理直氣正，災難會是能夠控制，且承受得起的，事情過去就好了；但如果是以自己的私心貪念（動以人）在做事，災難恐怕會無法收拾。所以卜到這一卦，凡事一定要循規蹈矩，切勿行險求速。","因此大畜卦若是卜問功名，那麼可大膽前往，才華會受到賞識而被重用，但很可能是「食碌於外」，也就是說可能會因此而無法兼顧家庭。 但若卜問婚姻，那麼可能有因事業忙碌而無法兼顧家庭的情況。","《象傳》說：「山下有雷，頤，君子以愼言語，節飲食。」人靠嘴攝食以維持生命，因此頤引申就是｢養｣的意思。「養」則有兩個面向，一是養生，二是養德。","在六十四卦的排序上，大過是繼頤卦而來，頤為養的意思，大過則帶有頤養過度，而讓裡外不均衡之意。於人之養生來說，過於養尊處優而造成虛胖，身體自然開始疾病叢生；於公司則是人事老化，主管過多，有將無兵，大頭症嚴重，開始問題百出。","解釋坎卦要特別注意的是，卦辭及爻辭中有亨，有｢小有得｣，但這並非真的意謂沒有危險，或是脫離危險。實際上都是險中求通，所以卦辭説｢維心亨｣。｢維心亨｣道出了坎卦的本質：既然內外皆危險，進退都是坎，那不如把他看開，因此坎卦之能亨通，都是屬於心理及修養層次的問題，而不是求卦者在現實上真的脫離危險而事情亨通。","爻辭曰：「畜牝牛吉」。畜就是「養」，培養、函養的意思。牝牛即為母牛。牛在古代被視為柔順的動物，牝牛更是柔順中之柔順。意謂卜此卦者要能函養柔順的德性則吉。卦象主爻為陰居卦中，除象徵柔順的德性之外，也象徵要有中庸及公正之德。","天下感情最豐富的少男少女相遇，又互有好感，進而結婚，這也正是家道的開始。所以《易經》下經以咸卦為開始，繼之以恒－永恒，代表男女將結成穩定的家庭。","卜到恒卦，家庭穩定而和諧外，凡事可以守成，可長可久，細水長流，但比較不利於創新求變。《象》曰：「雷風，恒，君子以立不易方。」也就說，得恒卦者，應當堅守自己所站的立場（立不易方）為宜。","卜到遯卦最好要懂得明哲保身，不管什麼事情，都是逃得越遠越好。收斂自己的陽剛之氣，韜光養晦。","就上下二體的卦象來看，上為雷為震，下為天為乾，為剛健。為雷在天上，剛健而震動之象，氣勢當然壯大而震攝人心。","與晉卦相反的是明夷卦，明夷卦離日在下，坤地在上，太陽被藏在地底下，人才被埋沒，所以是亂世之卦。","既然天下黑暗而大亂，好人會受到剷除，所以卜得這卦不用考慮是否可以亨通發達，功成名就，而是想著如何逃難、明哲保身比較要緊。","卦序上家人是繼明夷卦而來，明夷是指戰亂、亂世，也有傷害的意思。《序卦》曰：「傷於外者必反於家，故受之以家人。」人遇到挫折傷害之後，需要家中女人給予溫暖與安全感，因此以家人繼明夷之後。","就卦象來看，家人卦為中女與長女相處融洽，睽卦則是兩女同居不同心，澤與火背道而馳，各走各的路；兩個女人同住而各有所思，無法相處。","蹇卦是在危險之前就已知要停止並反身修養，是有先見之明，所以說是智慧；反之，在危險之後才知停止，才求教於人，這是後知後覺，是蒙昧，所以蒙卦為坎險在內艮止在外。","因此這是一個以積極行動而讓自己化險為夷的卦，凡事只要積極去面對，則危險就能夠化解。","損又有戒欲的意思。內悅而外止，內心喜悅，外在行為知所節制而有所不為，是為動乎情，止乎禮。","損卦卦象為「損下益上」，益則反過來，是「損上益下」，也就是說為人上司的拉下身段，委屈自己以福利下屬，因此下屬心悅誠服。損是下屬犧牲小我，貢獻於上司；益卦則是上司施恩惠於下屬，以收買人心。","另也有人將夬解釋作「缺」，為取其上爻缺一陽之象，作缺陷解。","卦象上乾天，下巽風，為天下有風，風行天下，皇后誥命天下之象。 所以《象》曰：「后以施命誥四方。」","卦序上萃卦是繼姤卦而來，《序卦》曰：「物相遇而後聚，故受之以萃。萃者，聚也。」姤卦為陰之遇陽，萃卦則是相遇久了而後群聚在一起。","所以升卦的意思，並不能單以「上升」來解釋：重點在於它是萃聚之後的結果，也就是「聚沙成塔」，積少成多式的成長，是慢慢、逐漸累積而成。就像樹木之長成，絕不會是一夜之間就長成大樹。","一般來說，卜到困卦諸事難成，凡事走投無路。錢財方面不只抓襟見肘，甚至很可能負債破產，窮困潦倒。","井水本身固定在原地不會移動，一旦水質不好或是泉水乾涸，大家就會棄井而去，不會有人來飲水；反之如果將水井修好，泉水甘美，大家都會自動前來飲水。比喻君子必須培養自己的內涵，自然會受人擁戴。","革卦卦象上兌金，下離火，離火炎上而鎔金，兌金因火粹鍊改變而成器，所以為革。","鼎不只是烹飪的器具，同時也是國家權力的象徵，夏大禹平定九州之後鑄九鼎以象九州，之後有所謂「九鼎天下」、「問鼎天下」的典故，都是以鼎象徵最高的權力。所以《象》曰：「木上有火，鼎，君子以正位凝命。」","變動來臨時往往讓人恐懼，若因此而能有所警覺、自省，而後則能夠亨通，所以王弼說：「震者，驚駭怠惰以肅解慢者也。」意思是說，震是要用以驚醒怠慢、怠惰的人心。而《象》辭則說「恐致福也」，意思為恐懼反可召來福氣。","艮卦為東北之卦，又有成物終物的意義，《繫辭》：「艮，東北之卦也，萬物之所成終而所成始也，故曰成言乎艮。」又說：「終萬物始萬物者莫盛乎艮 。」所以停止，並不是結束，而是為了養精畜銳。","《彖》曰：「漸之進也，女歸吉也。進得位，往有功也，進以正，可以正邦也。其位剛得中也。止而巽，動不窮也。」漸的循序漸進，不但女子嫁人吉，君子進也可以得位，前往會有功業，循序漸進以守正可以守國家。停止然後再漸進（止而巽），則前進的力量可以源源不絕。","卜得歸妹卦，婚姻、合作等一類事情雖然可成，但是卻不見得是件好事。由於不符合禮法/法律/正歸程序，因此維持雙方關係的基礎相當脆弱而有危險，不但有法律及社會輿論風險，更要慎防關係無法維繫很久。","豐卦與噬嗑卦兩卦都是雷電齊發，豐卦為上震下離，噬嗑卦則是上離下震。豐卦是明以動，說「君子以折獄致刑」；噬嗑卦是動以明，說「利用獄」。兩卦皆有明、動的特質，所以都適於做懲奸除惡、使用刑罰的任務。","卦象為內艮止而外離明，行旅在外時，止而不妄動，明而能見機行事，如此才能免於受害，這也是旅卦的吉道。《大象》：「君子以明慎用刑，而不留獄。」「明」指具有聰明智慧而明理，即是外離明；「慎」指謹慎，知道要有所不為，為內卦之艮止；「不留獄」則是斷獄之後要馬上執行，今日事今日畢，不可拖延。","卦序上巽卦是繼旅卦而來，《序卦》曰：「旅而无所容，故受之以巽。巽者，入也。」旅卦為客居他鄉，流離失所的時候，一人孤立無援，則凡事必需柔順而浸入才能亨通，所以旅之後受之以巽。","喜悅是驅動人心的力量，所以《彖》傳說：「說以先民，民忘其勞；說以犯難，民忘其死。說之大，民勸矣哉。」意思是說，以喜悅來驅動人民，可以讓人忘記辛勞，可以讓人冒險犯難而不怕死。","《序卦》：「說而後散之，故受之以渙，渙者離也。物不可以終離，故受之以節。」卦序上渙卦是繼兌卦而來，兌為快樂、喜悅的意思。渙又有喜悅之後心情過於輕鬆，而意志鬆懈的意思。又水上浮木雖能救人，但漫無方向，所以渙卦卦象又有散亂不整，離散，一盤散沙的意思。","卜得節卦，有如拿著一杯已經盛滿的杯子走路。凡事應適可而止，但節制也不可太過，所謂「苦節不可貞」，意指「節制」本身也應當適可而止，這就是中庸之道，否則節制太過，就變成苦節，苦節就變成吝嗇，這是窮困之道。","內兌外巽，內心兌悅而外順巽，悅而能漸入，是君子以誠信感化他人之象。","就二體來看，卦象為上動下止，也就是「動不離止」，如飛鳥，雖在天上飛，但總要到地上休息。上動下止又象徵居上位者忙碌不已，下位者聞風不動，所以只能做小事，大事不成。","卦象為內離明而外坎險，也就是明在險前，不可以仗著條件很好就有恃無恐，而應在危險來臨之前就有所思慮與準備。 因此《象》曰：「水在火上，既濟，君子以思患而豫防之。」","這一卦又有外文明（火）而內幽暗（水）的卦象，外表看來很光明而美麗，但實則處境危險。"]
[null,null,"屯又有聚集、聚積的意思，如我們講「屯兵」、「屯糧」、「屯積」。意謂屯卦所應著重的應是實力的累積，養精畜銳是最佳對策。處屯之時，動靜不應有常，行動固然危險，但守靜亦難有所成，動靜之間的最佳平衡應該在於致力鞏固根基，培養實力，但不可輕易主動出擊，因此卦辭說「利貞」，「勿用有攸往」，「利建侯」。","但求問於人則應當誠心，避免繁鎖而亂問，所以卦辭說｢初筮告，再三瀆，瀆則不告｣：事情問一次人家會告訴你，再問第二次、第三次，那就是褻瀆，褻瀆則不告。求神問卜是如此，求教於人亦然。","在卦序上需卦是繼屯蒙而來，屯、蒙為文明初開，人民草昧無知的時候，需卦講的則是開始教民農漁，解決飲食基本問題之事，所以《序卦》說：｢蒙者物之稚也。 物稚不可不養也，故受之以需，需者飲食之道也。｣《象》傳說：｢雲上於天，需，君子以飲食宴樂。｣君子之所以｢飲食宴樂｣，是因為危險在前，時機未到，所以養精畜銳，等待時機。","放下堅持、退一步海闊天空，絕對是卜到訟卦的最佳對策。","在卦序上，師卦與比卦為上下相反的一對綜卦，是繼需、訟兩卦而來。《序卦》：「訟必有眾起，故受之以師，師者眾也。」蓋師卦是因為兩國爭訟，因此聚眾出師以解決爭端，也是戰爭的意思。",null,"就卦序來說，小畜是繼師比兩卦而來，與履卦為相綜的一對卦。《序卦》：「比必有所畜，故受之以小畜。物畜然後有禮，故受之以履。」比卦為眾多小人比附君子，眾人比附之後開始有養賢問題，即為小畜卦；並有禮儀問題，也就是履卦。","《彖》傳說：「履，柔履剛也。說而應乎乾，是以履虎尾，不咥人，亨。」「柔履剛」說明為何履卦危險，也就是一個陰爻（柔）在兩個陽爻（剛）之上。而「說而應乎乾」說的則是因應之道，因為以喜悅的態度（下卦為澤兌，為悅），去呼應上面的意思（六三與上九相應）。","卦象為三陽（乾）在內，三陰（坤）在外，也就是卦辭所說的「小往大來」。小指的是陰氣、是小人、邪惡....負面消極之事物；「大」指的是陽氣、是君子、好人、正義...正面積極的事物。小往，指的是陰氣、小人離去；大來指的是陽氣、君子回來。因此這是一個太平盛世，正義申張，萬物通泰的時局。","於卦氣上，泰卦為春天一月之卦，主生，萬物茲長繁茂；否卦則是秋天七月之卦，主殺，萬物開始凋零。陽氣從復卦之後開始回來（一元復始），一月泰卦是陰陽最為調和的時候（三陽開泰），四月乾卦則是陽氣增長的頂峰，接著到五月為姤卦，陰爻回來，女人（小人）開始用事，遯卦陰氣增長，君子開始逃離，到否卦則已是陽氣、君子盡去，陰陽無法交流而天地閉塞。","卜到同人卦貴在無私，公正而不偏袒，謙卑而中庸。因為這正是六二小人能夠與君子同人的美德。然而， 處處與人相同固然能讓自己的人際關係暢行無阻，但若不辨是非，用心偏狹，則將流於人與人之間的黑暗鬥爭，這也是卜到此卦最忌諱的地方。","得大有卦，能以積極主動的態勢打破僵局，將自己的聰明表現於外，因此如日中天，所有之大好像太陽普照天下。",null,"履卦和豫卦講的分別是禮、樂之道。《樂記》說：「樂者為同，禮者為異。同則相親，異則相敬。樂勝則流，禮勝則離。合情飾貌者禮樂之事也。」","得隨卦，凡事以順其自然，清靜無為為宜。若是造作虛假，或是努力作為，則反而會讓事情變味走調。另外，若把｢隨時｣（順其自然）當隨便與放任，事情則將敗壞，所以隨卦之後為蠱卦，也就是隨便久了事情將敗壞。","東西放太久了腐敗而長蟲，快樂日久而委糜敗壞，比喻太平盛世下所隱藏的腐敗現象。表面上天下為歌舞昇平，但實際上內部已是敗壞委糜，如果此時不振作，則會病入膏肓。","卦序上臨卦與觀卦是繼蠱卦之後，相綜的一對對卦。蠱卦為家道中落，國政腐敗，於是君王開始發奮圖強，力精圖治的兩卦。臨卦是探訪民情，親自督察百官，觀卦則是公布政令，召告天下。","卜此卦者要多觀摩並學習，見賢思齊；多看少做，自我反省，薰陶日久，自然可以水到渠成。而觀摩的吉道，在於能夠接近事情核心，誠心而莊重，有如觀看國慶大典，越是離君王位置近的，越能對全貌觀看清楚，而越是用心觀看越能看出門道。反之，若是｢外行看熱鬧｣，那麼也只是白看一場。","一般而言，卜得噬嗑卦謀事及求財皆可得，但在過程當中都會有些棘手的事要處理，而且還得小心可能連帶而來的禍害，特別是可能會有的牢獄之災。若卜問官司，那麼很可能敗訴甚至要入獄了。","就吉凶的論斷上，賁卦小事可，大事不可。小事可亨通，但僅止於小利，沒有大利。私事為小吉，公務則為不亨通。卜問感情、婚姻可成，但過程會有些疑慮和小磨擦；若是求事或功名，則不可成，有隱居、退隱山林之象。","卦序上剝卦與復卦為上下相反（相綜）的一對卦，繼噬嗑與賁卦之後而來。《序卦》：「賁者飾也。至飾然後亨則盡矣，故受之以剝，剝者剝也。」因此剝也有剝除裝飾，坦承相見之意。","陽又代表善、代表大、君子，因此復卦又有改過遷善的意思，代表人的善心歸來，萌動於初。",null,null,"卦象為上艮止，下震動，也有些類似人的嘴巴咀嚼的動作：上顎是停止的，動的是下巴。又卦象內震動而外艮止，有如人閉關苦練修養一樣：外表看來停止不前，但內在其實努力在運作。","吉凶論斷上，主事者若屬陽剛而能獨立自主，獨當一面而足以支撐整個局面的人，或可力挽狂瀾，以中流柢柱之姿謀得長遠利益，險中求通；也可離開原有地方而遠行另求發展。但反之，柔弱而無以獨立行事者卜此卦，則只有凶咎可言。",null,"又離卦的兩陰爻皆居中（分別在上下爻的中間），因此卦辭又說｢利貞｣，貞者正也，靜也。也就是說一定要走坦途大道，切忌走邪門歪道。小心賣弄聰明，聰明反被聰明誤。","若是卜問感情，可想而知咸卦會是很好的一卦。但若是卜問其餘事情，則代表與事情已有所感應，無論心裡所想的是好事還是壞事，卜卦者心裡所想的事可能在現實世界中都正在發生。",null,"得遯卦還要注意的是，遯卦乍看為吉卦，但遯之所以吉，是因為逃的遠，隱居得很好，因為遠離了災難與小人，因此而吉，而不是因為得到實際的功名與利益。因此，若是卜問者求的是功名，｢吉｣並不是說真的能夠獲得功名。問事業或升遷，也不是真的能夠得到升遷。","也因為陽氣過盛，所以很容易與人產生衝突、衝撞，進而造成傷害。所以大壯講的是公羊衝撞圍籬的故事。","《序卦》說：「物不可以終壯，故受之以晉。晉者，進也。」晉卦為繼遯與大壯而來，遯與大壯是人才對於僵化社會的反動（恒卦），因此有人逃離，有人出來衝撞。晉卦與明夷則反應出這種反動的結果，或者人才終於出人頭地（晉），或者受到殺害而社會進入動亂（明夷）。","處明夷之道，利於艱苦守靜，端正自己的志向，將自己的聰明隱藏起來，韜光養晦，以渡過黑暗時期，待生存下去而能夠等世道改變之後再找亨通之道。","卜得家人卦對於女子最好，女人卜到這一卦凡事皆吉，如果是男人卜到此卦，最好求諸妻子、母親、女朋友、姊妹的幫助。卜婚姻則必成。又家人卦有處理好家內事的意思，家內事處理好，則一切都好；若處理不好，則一切都不好。","卦序上睽卦是繼家人卦而來，《序卦》說：「家道窮必乖，故受之以睽。睽者，乖也。」所以睽卦講的是一家之人，因為家道衰落之後，彼此形同陌路，相互乖離而無法相互關心。","蹇卦為東北之卦（坎艮位於東北），因此東北方有難。反之，西南方則較為有利。如果有德高望重或位高權重的人，不妨前去拜訪。","解卦又有罪刑受到免除的意思，因此若有犯錯者，卜得解卦也可得到赦免或原諒。《象》曰：「雷雨作，解。君子以赦過宥罪。」","更具體的來說，得損卦最好就是犧牲短期利益以完成長遠利益，克制欲望，戒除壞習性，遠離淫亂，以換取未來長遠的健康與幸福。若是卜問投資，就是停損，放棄不好的資產，斷尾求生，以換取長遠的利益。","正所謂「損有餘，補不足」，損卦是將多餘、過剩，不需要的東西去除掉；而益卦則是將不足的、缺乏的，需要但欠缺的東西，設法增補之。","卦序上夬卦則是繼益卦而來，一直增益，到最後一定會過滿，過滿則溢出（決），溢出就是決。所以夬卦也是君子努力練功有成之後，準備幫助他人的時候。","姤卦若卜問感情，則只是短暫的邂遘，只能當做一夜夫妻而無法天長地久，原因可能為女方同時有多人交往。若卜問其他諸事，則可能是由女人發號施令。","得萃卦人事可以亨通，利於集合大眾共同謀事，或求見德高望重的大人。凡事可以隆重而盛大舉行，不宜節檢吝嗇。利於遠行，而不利於退守。","在吉凶的論斷上，升卦大致上屬於吉卦，但若有外力的幫助則更好──換另一種說法就是貴人的提攜。例如，若是事業，要有上司提拔；愛情，要有長者媒合；學業，要有老師指導。","雖然窮困而無路可走，但要能安然面對，未來仍有轉運的時候，所以二體又有險而悅（內坎水，外兌澤），吃苦當吃補的卦象。窮困的時候除了注意堅守節操，靜守窮中求通的機會之外，應當以謹慎言語為吉，因為吉人之辭寡，特別是人在窮途潦倒時說的話，既沒份量又只會讓人以為是癡人夢話，因此這時千萬不要試圖說服別人來幫自己擺脫困境，也不要自求口實，否則反而引來罪咎與羞辱。","卦序上井卦是繼困卦而來，並與困卦成相綜的一對對卦，《序卦》：「困乎上者必反下，故受之以井。」困卦是人一直往上爬升之後升無可升，然後窮困無路，井卦則是重新回到基礎，修養德性。所以《繫辭》說：「困，德之辨也。井，德之地也。」","上為澤為少女，下為離為中女，少女和中女住在一起而無法相處。《彖》曰：「革，水火相息，二女同居，其志不相得，曰革。」這裡的「息」即「熄」，作「熄滅」解。澤水往下，則澆熄下面的離火；離火炎上，燒乾上面的澤水，為澤水滅離火，離火滅澤水，水火不相容而相互消滅的卦象。","鼎卦與革卦為相反而相成的兩卦。《雜卦》：「革，去故也。鼎，取新也。」革卦是去除舊的體制，鼎則是建立新的政權，自然也要有新的制度。革是破壞，鼎則是破壞之後的建設，兩者相輔相成，一體兩面。","因此此卦也可說是一個先苦後甘之卦。若能夠因為變動而震驚、恐懼，因此有所警覺與震奮，那麼反而在最後能夠得到亨通，而為吉；但反之，若是對變動麻木不仁，那麼就會走入災難。","卜此卦諸事不成，建議深居簡出，不要積極做為，能夠不犯錯已是最佳結果。","漸卦又有少男與長女婚合之象，少男下於長女，剛柔得位，柔又能承剛，因此卦辭說「女歸吉」，女子嫁人大吉。","若是卜問征戰、出行、行動，則大凶；財運、生意則無利可圖。因為九二、六三、九四、六五等爻全都不當位，又是陰乘陽（為逆）。","得豐卦事情最好高調、做大，不要畏首畏尾；光明正大地去做，而且最好是日正當中時。日正當中也是一種比喻，喻指光明正大而高調之外，同時必需以明快的判斷與執行力把握事情的最佳時機，有打鐵趁熱之意。","卜得旅卦，通常代表事情狀況不穩定，外在形勢與條件不利於己，小事可以亨通，大事則凶。吉道在於守靜，多看多觀察而少行動。","卜得巽卦小事可逐漸亨通，但不宜做大事。利見大人，可找德高望重而有品德的人追隨，就可以逐漸出人頭地。執行任何事情時應記得反覆丁寧，不厭其煩。若問流行文化，則巽卦大吉。卜問胎生，必生女孩。 財運、生意則近市利三倍，大吉。","卜得兌卦者，凡事可以亨通，但利於守正，忌於偏邪。施比受者有福，施惠於人則自己也將受益。","所以渙卦之道雖然可以濟險，但若是用於做事，則反而難成，必需注意心理、紀律的管理。如軍隊打仗，若軍心渙散、毫無軍紀，則必敗無疑。這也是為何渙卦之後接著是節卦，節就是節制的意思。","但最根本而可長可久的節制之道則是建立制度，建立一個可依循的準則，所以《彖傳》說；「節以制度，不傷財，不害民。」《象》則說：「澤上有水，節。君子以制數度，議德行。」","又上巽木下兌澤，為巽木浮於澤水之上，整卦中空象舟船外實而中空，所以卦辭說利涉大川，《彖》曰：「 利涉大川，乘木舟虛也。」意思是說，以虛心為用，則能夠如船幫助人渡過大河一樣，渡過危險。","小過卦是繼中孚而來，並與中孚成相錯的一對對卦，也就是每個爻位的陰陽相反。《序卦》：「有其信者必行之，故受之以小過。」中孚卦是虛心於內而誠實於外，是以誠信感動人心者；小過則是實質於內而虛浮於外，則是以個人定見而行事者。就小事來說，中孚卦緩不濟急，小過卦則是立即見效，所以《序卦》以「必行之」說明小過卦，指的是小事。但就大事來說，中孚則可長可遠，能濟大事，小過卦則英雄氣短，所以為凶。","離火在下而炎上，坎水在上而潤下，也是水火相交之象。楊萬里：「泰，天地之明交也；既濟，水火之明交，而天地之互交也。故泰者，既濟之純，既濟者，泰之雜。」這是說既濟就是一個小泰之卦。","凡卜得未濟卦者，諸事要退守守靜為宜，做任何事情之前都要小心觀察之後再做判斷，絕對不可輕舉妄動，否則很容易因此遇險。對於自己所處的位置，更應當小心選擇。所以《象》曰：「火在水上，未濟，君子以慎，辨物居方。」"]
[null,null,null,null,null,null,null,null,"一般而言，卜到小畜卦可做小事，不可做大事；可出行，但不利出遠門。卜此卦者，事情多不明確而讓人有疑慮。","在卦序上履卦與小畜為相綜的對卦，是繼師、比兩卦而來。卦序發展到比卦為人民已經聚集，因而開始有培養人才的問題，小畜處於人才培養階段；履卦講的是教導群眾禮儀，以讓人民了解體制，學習君臣、上下之份際，行為的準則與方向。《序卦》說：「物畜然後有禮，故受之以履。」《象》傳則說：「上天下澤，履，君子以辯上下，定民志。」","卜到泰卦萬事如意，一片和氣，有如春天一樣一切都那麼美好。但春光雖美，仍應慎防物極必反，泰極而否來。","凡卜到否卦，萬事不順。如果是做人上司的，建議最好聽聽下面的聲音；為人屬下的，應想辦法表達出自己的看法。若能打破上下無法溝通的局面，則可否極泰來。",null,null,null,"因此履卦講求的是尊卑上下之份際，因為禮以別異，所以履道大忌在於不分尊卑，在於踰越本份，吉道在於戒慎與尊敬。而豫道則重在於「同其情」，因為樂以合同，因此其吉道為感情的交流，用心傾聽；忌諱則在於不知節制，流於淫逸。",null,"因此卜到蠱卦時，當知腐敗已經產生，事情已經來了，若知道有事而能夠快去處理，則亡羊補牢，時猶未晚，蠱卦也有亨通之道；但若有事還不處理，繼續放任下去，那麼就會一路壞到底，無法挽回。","臨卦的凶應雖說是在八月，但實則就義理來說，八月代表的是陽剛之氣消退而反讓陰柔之氣增長。八月有災是在警告說，小心陽剛之氣無法持續，所以反應在事情上則是，應當注意對事情的熱情只有三分鐘熱度。或者在組織之中，官長對事情的關注，只是短暫性的，而無法持續性或是制度性的維持，如此則不需多久，小人之勢將會反撲。",null,null,null,null,"卜得復卦出入平安，失物可以復得，尋人會自己歸來。眼前情況雖不好，但這只是表象，實際上生機暗藏，可以靜候時機，能有長期的利益。",null,null,"卦象又有動而知止的意思，也就是說一舉一動都要知道適可而止，特別是在飲食和言語這兩項與「嘴巴」有關的事情上。具體來說，話要少講，講話要謹慎，才不會有口舌之災；吃東西要謹慎而節制，小心不要吃壞身體。",null,null,null,"「咸」在古文中又與「欽」相通，帛書易經便以「欽」為卦名。欽為「砍」的意思，因此這也是斬傷之卦。如初九「咸其拇」為砍傷腳趾，九三「咸其腓」為砍傷大腿。得咸卦應當注意血光之災，還有身體的安全，避免受傷。",null,null,"卜得大壯卦要注意，凡事依理而行，才能理直氣壯。此卦最忌諱空有氣勢，但又不講理；或者只憑血氣之勇，而不知審慎觀察客觀環境。在待人處世上，缺乏圓融。","卜得晉卦，那麼有才能的人會受到重用而嶄露頭角。不斷受到上司召見面談，可謂「晝日三接」。",null,null,"因此，卜得睽卦很清楚的，若是問感情、友情等一類的事情，那麼這是一個很不好的卦，表示相處不和睦，雙方打冷戰。凡事自己一個人就可的小事或者可成，小吉，但是因為人心違和，所以不能成大事。如若是需要團隊合作者，或是想要成大事，那麼應該注意如何管理人心向背、人事不睦等諸多關於「人」的問題。",null,"解卦利西南，往西南方去可以得到貴人幫助，受人幫助與支持。","所以損卦又是一個修身養性之卦，《繫辭》說：「損，德之脩也。益，德之裕也。」損卦是道德的修養，益卦則是道德修養的發揚光大。這有點老子「為學日益，為道日損」的意思。《繫辭傳》又說：「損以遠害，益以興利。」意思是說，損卦是要人遠離有害的東西，益卦是要用來興建有利益的事物。","就投資來說，損是停損、減少投資，去除不好的資產；益則是加碼，增加投資。就戰略來說，損是斷尾求生，益則是乘勝追擊。","就吉凶來看，夬卦通常意謂著暗藏凶險的人事鬥爭，或者面臨必需決斷的時候，特別是人事上的取捨，將與人畫清界限。決斷的吉道則在於「健而說」，就是內有剛健果決的決心，外有圓融的手腕以達到皆大歡喜。如此則能有長遠的利益。",null,null,"卜到此卦，可以亨通，但要能腳踏實地，慢慢的來；如若能受到貴人相助則速度能夠更快。雖然有憂鬱之象，但心中大可不必掛念，可以下定決心，勇往直前。",null,"卜得井卦，凡事應該反躬自省，培養實力，多積陰德，未雨綢繆，等到自己修身積德夠了，自然水到渠成。若是急功近利，不但欲速而不達，反而遭災，大凶。","卜到革卦，絕不能守成、守舊，一定要設法做改變，也就是所謂的洗心革面。若是問人際關係和感情，革是一個大凶之卦，表示與人不但不和，而且到水火不容的地步。","卦序上革鼎為繼困、井而來。《序卦》：「井道不可不革，故受之以革。革物者莫若鼎，故受之以鼎。」困卦有如文王困於羑里，井則象文王養德而亨於西山，革為武王伐紂革命，鼎則是建立周朝。",null,null,"卜到漸卦，不止嫁取可成，延伸到其他事情，凡事循序漸進也是自然可成；但反之，如果焦躁而貿然前進，反而無法成功。",null,null,null,null,null,"卜得渙卦，危險可以渡過，但凡事需注意如何收拾渙散的人心。",null,"卜得中孚卦，雖然諸事不順，暗藏危機，但只要能虛心、老實地做事，立下信譽，逐漸感動人心，就能度過難關，求得亨通。","卜得小過卦，吉道在於守靜不動，若是做小事可成，但做大事不宜。凡事往上攀升都不適宜，往下走則大吉。諸事最好採取比較保守、退讓、以靜制動的態度，不宜積極進取。退守者大吉，進取者大凶。","總體來說，既濟講的就是「守成」之道，正所謂「守成不易」，如何讓最佳狀態保持更久，是既濟卦的挑戰。"]
[]
[null,null,null,null,null,null,null,null,null,null,null,null,null,null,null,null,null,null,null,null,null,null,null,null,null,null,"卜到頤卦者，以守正居靜為吉，多看少吃，多聽少說，才是養身修德之道。",null,null,null,"《象》曰：｢咸，君子以虛受人。｣說的則是君子遇感卦的因應之道，應該是虛心待人，以同理心去了解他人，如此才能感受到對方，以及讓對方感受得到。卦象內艮止，外澤兌，內心停止而不妄動，外表和顏悅色以待人，這都是感人之道。得感卦，建議能夠靜心、虛心傾聽，去感受別人的處境。",null,null,"大壯卦的吉應在於貞靜，冷靜行事則吉。其次是中庸，行走中道，不要過激，那麼可避免犯錯還可增加圓融。","問事業則意謂會受到升遷及重用；亦有得財受祿之象；卜問局勢則意謂天下太平，政局清明。",null,null,null,null,"解卦的吉道在於積極而主動的態度，具體來說，就是面對任何問題都是立即、馬上解決，毫不遲疑。所以卦辭說：「旡所往，其來復吉。有攸往，夙吉。」意思是說：沒有要去那裡的話，就快快回家，吉；有要去那裡的話，早則吉。",null,null,null,null,null,null,null,null,null,"卜得鼎卦，凡事大吉，但以創新為宜，不應墨守成規，而應當採取全新的做法。",null,null,null,null,null,null,null,null,"與渙卦很像的是解卦，兩卦都是化解危險的意思，但於手段與方式上有所不同。解卦是以「震」，也就是積極的行動來脫離危險，渙卦則是「巽」，以舟楫渡河，也就是利用耐心、外力，與智慧來渡險。"]
[]
[null,null,null,null,null,null,null,null,null,null,null,null,null,null,null,null,null,null,null,null,null,null,null,null,null,null,null,null,null,null,null,null,null,null,"但問感情則有公子花心，受到女子歡迎而圍繞之象。"]